BEGIN:VCALENDAR
VERSION:2.0
PRODID:-//Virginia Sexual &amp; Domestic Violence Action Alliance - ECPv6.15.20//NONSGML v1.0//EN
CALSCALE:GREGORIAN
METHOD:PUBLISH
X-WR-CALNAME:Virginia Sexual &amp; Domestic Violence Action Alliance
X-ORIGINAL-URL:https://vsdvalliance.org
X-WR-CALDESC:Events for Virginia Sexual &amp; Domestic Violence Action Alliance
REFRESH-INTERVAL;VALUE=DURATION:PT1H
X-Robots-Tag:noindex
X-PUBLISHED-TTL:PT1H
BEGIN:VTIMEZONE
TZID:America/New_York
BEGIN:DAYLIGHT
TZOFFSETFROM:-0500
TZOFFSETTO:-0400
TZNAME:EDT
DTSTART:20220313T070000
END:DAYLIGHT
BEGIN:STANDARD
TZOFFSETFROM:-0400
TZOFFSETTO:-0500
TZNAME:EST
DTSTART:20221106T060000
END:STANDARD
BEGIN:DAYLIGHT
TZOFFSETFROM:-0500
TZOFFSETTO:-0400
TZNAME:EDT
DTSTART:20230312T070000
END:DAYLIGHT
BEGIN:STANDARD
TZOFFSETFROM:-0400
TZOFFSETTO:-0500
TZNAME:EST
DTSTART:20231105T060000
END:STANDARD
BEGIN:DAYLIGHT
TZOFFSETFROM:-0500
TZOFFSETTO:-0400
TZNAME:EDT
DTSTART:20240310T070000
END:DAYLIGHT
BEGIN:STANDARD
TZOFFSETFROM:-0400
TZOFFSETTO:-0500
TZNAME:EST
DTSTART:20241103T060000
END:STANDARD
END:VTIMEZONE
BEGIN:VEVENT
DTSTART;TZID=America/New_York:20230413T103000
DTEND;TZID=America/New_York:20230413T120000
DTSTAMP:20260421T093420
CREATED:20221221T180624Z
LAST-MODIFIED:20221221T180624Z
UID:10205-1681381800-1681387200@vsdvalliance.org
SUMMARY:ECHO@Edu: Campus Violence Prevention
DESCRIPTION:Do you feel like you’re on a prevention island at your campus? Join us for the following sessions to build your prevention network\, connect over challenging cases\, and stay on top of the best practices in sexual and intimate partner violence primary prevention\, all from the comfort of your office. \nECHO@Edu will be held on the following Thursdays from 10:30 – 12:00 pm: \n\nFebruary 9\, 2023\nApril 13\, 2023\nJune 8\, 2023\nAugust 10\, 2023\n\nTo register for the upcoming clinics\, please register here: https://bit.ly/ECHOedu \nDo you have a challenge that you’d like to brainstorm about with other preventionists? Or would you like to present a new idea for feedback? Consider presenting a case! You can access the case presentation form here: https://bit.ly/ECHOeducase
URL:https://vsdvalliance.org/event/echoedu-campus-violence-prevention-4/
LOCATION:Virtual
CATEGORIES:General Events,Members,Training
ATTACH;FMTTYPE=image/png:https://vsdvalliance.org/wp-content/uploads/2022/09/MicrosoftTeams-image.png
ORGANIZER;CN="Prevention Team":MAILTO:prevention@vsdvalliance.org
END:VEVENT
BEGIN:VEVENT
DTSTART;TZID=America/New_York:20230413T130000
DTEND;TZID=America/New_York:20230413T143000
DTSTAMP:20260421T093420
CREATED:20230110T200606Z
LAST-MODIFIED:20230110T200606Z
UID:10335-1681390800-1681396200@vsdvalliance.org
SUMMARY:Bold Leadership Series- Hiring\, Salary\, and the Work Environment
DESCRIPTION:Are you a leader that went through the UPLC cohorts? This is a space where you can go deeper with the lessons from UPLC\, share what has worked and what has not\, come up with solutions to challenges\, and just be in community trying to navigate these interesting times. Please see the below dates. For the Zoom meetings\, you do not need to register. Please mark the dates on your calendar and then click on the links to join. For the in person dates\, please register.  \nApril 13\, 1-2:30- Hiring\, Salary\, and Work Environment (Virtual) \nMay 2\, 1:00 – 2:30\, Leadership- Building the World We Want to See (Virtual) \nIn Person Networking and Refresher Sessions: \nApril 19\, 10:00 – 3:30\, Action Alliance\, 1413 W. Main Street\, Richmond\, 23220 \nMay 16\, 10:00 – 3:30\, Staunton/Harrisonburg (Exact location TBD) \nMay 23\, 10:00 – 3:30\, Southwest\, (Exact Location TBD)
URL:https://vsdvalliance.org/event/bold-leadership-series-hiring-salary-and-the-work-environment/
LOCATION:Virtual
CATEGORIES:Members,SDVA Members Only
END:VEVENT
END:VCALENDAR