BEGIN:VCALENDAR
VERSION:2.0
PRODID:-//Virginia Sexual &amp; Domestic Violence Action Alliance - ECPv6.15.20//NONSGML v1.0//EN
CALSCALE:GREGORIAN
METHOD:PUBLISH
X-WR-CALNAME:Virginia Sexual &amp; Domestic Violence Action Alliance
X-ORIGINAL-URL:https://vsdvalliance.org
X-WR-CALDESC:Events for Virginia Sexual &amp; Domestic Violence Action Alliance
REFRESH-INTERVAL;VALUE=DURATION:PT1H
X-Robots-Tag:noindex
X-PUBLISHED-TTL:PT1H
BEGIN:VTIMEZONE
TZID:America/New_York
BEGIN:DAYLIGHT
TZOFFSETFROM:-0500
TZOFFSETTO:-0400
TZNAME:EDT
DTSTART:20220313T070000
END:DAYLIGHT
BEGIN:STANDARD
TZOFFSETFROM:-0400
TZOFFSETTO:-0500
TZNAME:EST
DTSTART:20221106T060000
END:STANDARD
BEGIN:DAYLIGHT
TZOFFSETFROM:-0500
TZOFFSETTO:-0400
TZNAME:EDT
DTSTART:20230312T070000
END:DAYLIGHT
BEGIN:STANDARD
TZOFFSETFROM:-0400
TZOFFSETTO:-0500
TZNAME:EST
DTSTART:20231105T060000
END:STANDARD
BEGIN:DAYLIGHT
TZOFFSETFROM:-0500
TZOFFSETTO:-0400
TZNAME:EDT
DTSTART:20240310T070000
END:DAYLIGHT
BEGIN:STANDARD
TZOFFSETFROM:-0400
TZOFFSETTO:-0500
TZNAME:EST
DTSTART:20241103T060000
END:STANDARD
END:VTIMEZONE
BEGIN:VEVENT
DTSTART;TZID=America/New_York:20230502T093000
DTEND;TZID=America/New_York:20230502T163000
DTSTAMP:20260423T235843
CREATED:20230321T185422Z
LAST-MODIFIED:20230321T185422Z
UID:11646-1683019800-1683045000@vsdvalliance.org
SUMMARY:Basic Sexual Violence Advocacy Training
DESCRIPTION:Basic Sexual Violence Advocacy Training \nThis training is designed for advocates in their first year of work in the field of Sexual Violence Advocacy. Participants will learn how to recognize sexual violence\, it’s root causes and its impact on individuals and communities; they will learn about the Cultural Context that supports sexual violence and an advocate’s role in changing that culture. Participants will also learn about the building blocks for a healing centered approach to sexual violence and be able to identify resources in VA for an effective response. \n$35.00 for SDVA Members\, Professional\, and Lifetime Members \n$60.00 for Basic and Non Members \n 
URL:https://vsdvalliance.org/event/basic-sexual-violence-advocacy-training/
LOCATION:Training Center\, 1413 W. Main St.\, Richmond\, VA\, 23220
CATEGORIES:General Events,Members,Training
END:VEVENT
BEGIN:VEVENT
DTSTART;TZID=America/New_York:20230502T130000
DTEND;TZID=America/New_York:20230502T143000
DTSTAMP:20260423T235843
CREATED:20230110T201112Z
LAST-MODIFIED:20230110T201112Z
UID:10340-1683032400-1683037800@vsdvalliance.org
SUMMARY:Bold Leadership Series- Building the World We Want to See
DESCRIPTION:Are you a leader that went through the UPLC cohorts? This is a space where you can go deeper with the lessons from UPLC\, share what has worked and what has not\, come up with solutions to challenges\, and just be in community trying to navigate these interesting times. Please see the below dates. For the Zoom meetings\, you do not need to register. Please mark the dates on your calendar and then click on the links to join. For the in person dates\, please register.  \nMay 2\, 1:00 – 2:30\, Leadership- Building the World We Want to See (Virtual) \nIn Person Networking and Refresher Sessions: \nMay 16\, 10:00 – 3:30\, Staunton/Harrisonburg (Exact location TBD) \nMay 23\, 10:00 – 3:30\, Southwest\, (Exact Location TBD)
URL:https://vsdvalliance.org/event/bold-leadership-series-building-the-world-we-want-to-see/
LOCATION:Virtual
CATEGORIES:Members,SDVA Members Only
END:VEVENT
END:VCALENDAR