BEGIN:VCALENDAR
VERSION:2.0
PRODID:-//Virginia Sexual &amp; Domestic Violence Action Alliance - ECPv6.15.20//NONSGML v1.0//EN
CALSCALE:GREGORIAN
METHOD:PUBLISH
X-WR-CALNAME:Virginia Sexual &amp; Domestic Violence Action Alliance
X-ORIGINAL-URL:https://vsdvalliance.org
X-WR-CALDESC:Events for Virginia Sexual &amp; Domestic Violence Action Alliance
REFRESH-INTERVAL;VALUE=DURATION:PT1H
X-Robots-Tag:noindex
X-PUBLISHED-TTL:PT1H
BEGIN:VTIMEZONE
TZID:America/New_York
BEGIN:DAYLIGHT
TZOFFSETFROM:-0500
TZOFFSETTO:-0400
TZNAME:EDT
DTSTART:20220313T070000
END:DAYLIGHT
BEGIN:STANDARD
TZOFFSETFROM:-0400
TZOFFSETTO:-0500
TZNAME:EST
DTSTART:20221106T060000
END:STANDARD
BEGIN:DAYLIGHT
TZOFFSETFROM:-0500
TZOFFSETTO:-0400
TZNAME:EDT
DTSTART:20230312T070000
END:DAYLIGHT
BEGIN:STANDARD
TZOFFSETFROM:-0400
TZOFFSETTO:-0500
TZNAME:EST
DTSTART:20231105T060000
END:STANDARD
BEGIN:DAYLIGHT
TZOFFSETFROM:-0500
TZOFFSETTO:-0400
TZNAME:EDT
DTSTART:20240310T070000
END:DAYLIGHT
BEGIN:STANDARD
TZOFFSETFROM:-0400
TZOFFSETTO:-0500
TZNAME:EST
DTSTART:20241103T060000
END:STANDARD
END:VTIMEZONE
BEGIN:VEVENT
DTSTART;TZID=America/New_York:20230814T100000
DTEND;TZID=America/New_York:20230814T113000
DTSTAMP:20260421T080849
CREATED:20230111T191446Z
LAST-MODIFIED:20230111T191554Z
UID:10357-1692007200-1692012600@vsdvalliance.org
SUMMARY:Quarterly Finance Training- The Joy of the Annual Audit
DESCRIPTION:Preparing for an audit can be tedious and anxiety provoking. Let’s talk about how we can balance that out by making audits work for us through building helpful relationships with our auditors\, cultivating curiosity throughout the process\, and noticing the moments worthy of celebration. \n$20 for members\, $40 for non members \nPlease register for this session by clicking on the following link. \n 
URL:https://vsdvalliance.org/event/quarterly-finance-training-the-joy-of-the-annual-audit/
LOCATION:Virtual
CATEGORIES:General Events,Members,Training
END:VEVENT
END:VCALENDAR