BEGIN:VCALENDAR
VERSION:2.0
PRODID:-//Virginia Sexual &amp; Domestic Violence Action Alliance - ECPv6.15.20//NONSGML v1.0//EN
CALSCALE:GREGORIAN
METHOD:PUBLISH
X-WR-CALNAME:Virginia Sexual &amp; Domestic Violence Action Alliance
X-ORIGINAL-URL:https://vsdvalliance.org
X-WR-CALDESC:Events for Virginia Sexual &amp; Domestic Violence Action Alliance
REFRESH-INTERVAL;VALUE=DURATION:PT1H
X-Robots-Tag:noindex
X-PUBLISHED-TTL:PT1H
BEGIN:VTIMEZONE
TZID:America/New_York
BEGIN:DAYLIGHT
TZOFFSETFROM:-0500
TZOFFSETTO:-0400
TZNAME:EDT
DTSTART:20220313T070000
END:DAYLIGHT
BEGIN:STANDARD
TZOFFSETFROM:-0400
TZOFFSETTO:-0500
TZNAME:EST
DTSTART:20221106T060000
END:STANDARD
BEGIN:DAYLIGHT
TZOFFSETFROM:-0500
TZOFFSETTO:-0400
TZNAME:EDT
DTSTART:20230312T070000
END:DAYLIGHT
BEGIN:STANDARD
TZOFFSETFROM:-0400
TZOFFSETTO:-0500
TZNAME:EST
DTSTART:20231105T060000
END:STANDARD
BEGIN:DAYLIGHT
TZOFFSETFROM:-0500
TZOFFSETTO:-0400
TZNAME:EDT
DTSTART:20240310T070000
END:DAYLIGHT
BEGIN:STANDARD
TZOFFSETFROM:-0400
TZOFFSETTO:-0500
TZNAME:EST
DTSTART:20241103T060000
END:STANDARD
END:VTIMEZONE
BEGIN:VEVENT
DTSTART;TZID=America/New_York:20230816T093000
DTEND;TZID=America/New_York:20230816T160000
DTSTAMP:20260423T190504
CREATED:20230714T164843Z
LAST-MODIFIED:20230714T165146Z
UID:12001-1692178200-1692201600@vsdvalliance.org
SUMMARY:Joyful Sexuality
DESCRIPTION:In this interactive and engaging training\, advocates and prevention staff will gain a more holistic understanding of joyful sexuality and its relevance to our work in the movement to end sexual and domestic violence. Participants will be introduced to the six components of sexuality: sensuality\, intimacy\, sexual orientation and gender identity\, sexual and reproductive health\, sexual behaviors and practices\, and power and agency. Participants will identify and explore the many ways that a joyful sexuality lens can be applied to prevention and advocacy work in sexual and domestic violence agencies. Participants will leave this training with an action plan to integrate joyful sexuality and reproductive justice into their work. Lunch and snacks will be provided! \nPlease note that registration is from 9:30 – 10:00 with the training starting promptly at 10. Please leave yourself time to arrive and park so we can start on time. This is a long training so please feel free to dress comfortably. \n$35.00 for  SDVA Member Agencies\, $60.00 for Basic and Non Members
URL:https://vsdvalliance.org/event/joyful-sexuality-2/
LOCATION:Action Alliance\, 1413 W. Main Street\, Richmond\, VA\, 23220\, United States
CATEGORIES:General Events,Members,Training
ORGANIZER;CN="Prevention Team":MAILTO:prevention@vsdvalliance.org
END:VEVENT
END:VCALENDAR