BEGIN:VCALENDAR
VERSION:2.0
PRODID:-//Virginia Sexual &amp; Domestic Violence Action Alliance - ECPv6.15.20//NONSGML v1.0//EN
CALSCALE:GREGORIAN
METHOD:PUBLISH
X-WR-CALNAME:Virginia Sexual &amp; Domestic Violence Action Alliance
X-ORIGINAL-URL:https://vsdvalliance.org
X-WR-CALDESC:Events for Virginia Sexual &amp; Domestic Violence Action Alliance
REFRESH-INTERVAL;VALUE=DURATION:PT1H
X-Robots-Tag:noindex
X-PUBLISHED-TTL:PT1H
BEGIN:VTIMEZONE
TZID:America/New_York
BEGIN:DAYLIGHT
TZOFFSETFROM:-0500
TZOFFSETTO:-0400
TZNAME:EDT
DTSTART:20220313T070000
END:DAYLIGHT
BEGIN:STANDARD
TZOFFSETFROM:-0400
TZOFFSETTO:-0500
TZNAME:EST
DTSTART:20221106T060000
END:STANDARD
BEGIN:DAYLIGHT
TZOFFSETFROM:-0500
TZOFFSETTO:-0400
TZNAME:EDT
DTSTART:20230312T070000
END:DAYLIGHT
BEGIN:STANDARD
TZOFFSETFROM:-0400
TZOFFSETTO:-0500
TZNAME:EST
DTSTART:20231105T060000
END:STANDARD
BEGIN:DAYLIGHT
TZOFFSETFROM:-0500
TZOFFSETTO:-0400
TZNAME:EDT
DTSTART:20240310T070000
END:DAYLIGHT
BEGIN:STANDARD
TZOFFSETFROM:-0400
TZOFFSETTO:-0500
TZNAME:EST
DTSTART:20241103T060000
END:STANDARD
END:VTIMEZONE
BEGIN:VEVENT
DTSTART;TZID=America/New_York:20230919T093000
DTEND;TZID=America/New_York:20230920T160000
DTSTAMP:20260421T074123
CREATED:20230714T165104Z
LAST-MODIFIED:20230714T165202Z
UID:12003-1695115800-1695225600@vsdvalliance.org
SUMMARY:DO YOU Facilitator Training
DESCRIPTION:DO YOU: Building Youth Resilience Through Creative Expression is a primary prevention strategy to address teen dating violence\, sexual harassment\, and bullying by promoting positive youth development and healthy relationships. This training is designed for adult facilitators and teen mentors (who are peer facilitators) interested in implementing DO YOU in their communities. \nThis is an in-person training held at the Action Alliance training space from 10A to 4P on both days. There will be an hour lunch each day as well provided by the Action Alliance. Participation in the training will cost $350 (with a reduced fee for members) and includes 21 DO YOU zines\, a printed UnCurriculum Facilitation Guide\, a package of DO YOU Homework Folders\, and access to additional resources and technical assistance. \nThis is a long training. Please dress comfortably. Lunch and snacks will be provided on both days. \n$350.00; discount for Action Alliance Members available with discount code at checkout
URL:https://vsdvalliance.org/event/do-you-facilitator-training-3/
LOCATION:Action Alliance\, 1413 W. Main Street\, Richmond\, VA\, 23220\, United States
CATEGORIES:General Events,Members,Training
ORGANIZER;CN="Prevention Team":MAILTO:prevention@vsdvalliance.org
END:VEVENT
END:VCALENDAR