BEGIN:VCALENDAR
VERSION:2.0
PRODID:-//Virginia Sexual &amp; Domestic Violence Action Alliance - ECPv6.15.20//NONSGML v1.0//EN
CALSCALE:GREGORIAN
METHOD:PUBLISH
X-ORIGINAL-URL:https://vsdvalliance.org
X-WR-CALDESC:Events for Virginia Sexual &amp; Domestic Violence Action Alliance
REFRESH-INTERVAL;VALUE=DURATION:PT1H
X-Robots-Tag:noindex
X-PUBLISHED-TTL:PT1H
BEGIN:VTIMEZONE
TZID:America/New_York
BEGIN:DAYLIGHT
TZOFFSETFROM:-0500
TZOFFSETTO:-0400
TZNAME:EDT
DTSTART:20220313T070000
END:DAYLIGHT
BEGIN:STANDARD
TZOFFSETFROM:-0400
TZOFFSETTO:-0500
TZNAME:EST
DTSTART:20221106T060000
END:STANDARD
BEGIN:DAYLIGHT
TZOFFSETFROM:-0500
TZOFFSETTO:-0400
TZNAME:EDT
DTSTART:20230312T070000
END:DAYLIGHT
BEGIN:STANDARD
TZOFFSETFROM:-0400
TZOFFSETTO:-0500
TZNAME:EST
DTSTART:20231105T060000
END:STANDARD
BEGIN:DAYLIGHT
TZOFFSETFROM:-0500
TZOFFSETTO:-0400
TZNAME:EDT
DTSTART:20240310T070000
END:DAYLIGHT
BEGIN:STANDARD
TZOFFSETFROM:-0400
TZOFFSETTO:-0500
TZNAME:EST
DTSTART:20241103T060000
END:STANDARD
END:VTIMEZONE
BEGIN:VEVENT
DTSTART;TZID=America/New_York:20231012T100000
DTEND;TZID=America/New_York:20231012T160000
DTSTAMP:20260423T160608
CREATED:20230828T132340Z
LAST-MODIFIED:20230830T160734Z
UID:12079-1697104800-1697126400@vsdvalliance.org
SUMMARY:The Intersection of Firearms and IPV
DESCRIPTION:We know that intimate partner violence (IPV) is far more likely to become lethal when abusers have access to guns. We also know that protecting victims from homicide isn’t as simple as just prohibiting access to lethal means. True prevention requires work within our communities and systems to identify the root causes of violence and to develop collaborative victim-centered intervention strategies that create lasting change. This multidisciplinary training – designed for domestic violence advocates\, attorneys\, victim-witness\, law enforcement\, judicial and court staff\, and community partners – will provide participants with a deeper understanding of Virginia law as well as best practices and tools for implementing homicide prevention strategies in your own community. This training is co-sponsored and co-facilitated by the Action Alliance\, Virginia Department of Criminal Justice Services\, and the Johns Hopkins Center for Gun Violence Solutions.  \nThe Action Alliance supports policies to remove firearms from potentially lethal situations and give law enforcement officers\, prosecutors\, and courts tools to protect victims\, their families\, and the broader community.  \nPlease note that registration is from 9:30 – 10:00 with the training starting promptly at 10. Please leave yourself time to arrive and park so we can start on time. This is a long training so please feel free to dress comfortably. \nLunch is provided. \n 
URL:https://vsdvalliance.org/event/the-intersection-of-firearms-and-ipv/
LOCATION:Chesterfield Central Library\, 7051 Lucy Corr Blvd\, Chesterfield\, VA\, 23832
CATEGORIES:General Events,Members,Training
END:VEVENT
END:VCALENDAR