BEGIN:VCALENDAR
VERSION:2.0
PRODID:-//Virginia Sexual &amp; Domestic Violence Action Alliance - ECPv6.15.20//NONSGML v1.0//EN
CALSCALE:GREGORIAN
METHOD:PUBLISH
X-WR-CALNAME:Virginia Sexual &amp; Domestic Violence Action Alliance
X-ORIGINAL-URL:https://vsdvalliance.org
X-WR-CALDESC:Events for Virginia Sexual &amp; Domestic Violence Action Alliance
REFRESH-INTERVAL;VALUE=DURATION:PT1H
X-Robots-Tag:noindex
X-PUBLISHED-TTL:PT1H
BEGIN:VTIMEZONE
TZID:America/New_York
BEGIN:DAYLIGHT
TZOFFSETFROM:-0500
TZOFFSETTO:-0400
TZNAME:EDT
DTSTART:20220313T070000
END:DAYLIGHT
BEGIN:STANDARD
TZOFFSETFROM:-0400
TZOFFSETTO:-0500
TZNAME:EST
DTSTART:20221106T060000
END:STANDARD
BEGIN:DAYLIGHT
TZOFFSETFROM:-0500
TZOFFSETTO:-0400
TZNAME:EDT
DTSTART:20230312T070000
END:DAYLIGHT
BEGIN:STANDARD
TZOFFSETFROM:-0400
TZOFFSETTO:-0500
TZNAME:EST
DTSTART:20231105T060000
END:STANDARD
BEGIN:DAYLIGHT
TZOFFSETFROM:-0500
TZOFFSETTO:-0400
TZNAME:EDT
DTSTART:20240310T070000
END:DAYLIGHT
BEGIN:STANDARD
TZOFFSETFROM:-0400
TZOFFSETTO:-0500
TZNAME:EST
DTSTART:20241103T060000
END:STANDARD
END:VTIMEZONE
BEGIN:VEVENT
DTSTART;TZID=America/New_York:20231115T100000
DTEND;TZID=America/New_York:20231115T160000
DTSTAMP:20260421T074400
CREATED:20230828T202834Z
LAST-MODIFIED:20230829T165315Z
UID:12091-1700042400-1700064000@vsdvalliance.org
SUMMARY:Trauma to Prison Pipeline\, Training for Trainers
DESCRIPTION:The vast majority of youth referred from school to law enforcement and into the juvenile justice system are survivors of trauma. The justice system typically fails to address\, and often deepens\, trauma. This 6-hour training will cover the connections between toxic stress and behavior issues in school\, how trauma connects with system-involved youth\, how and why restorative justice differs from traditional discipline\, and simple tips for responding to students in trauma-informed ways. \nParticipants will be given a brief “training in a box” to take back to deliver to your local schools and task forces to start conversations about simple steps that schools can take to significantly reduce the number of youth referred to law enforcement by responding to students in more trauma-informed ways. \nIntended audience: Preventionists\, youth advocates\, teachers\, community organizers working on disrupting trauma-to-prison pipeline\, and anyone working within their local schools on building healthy relationships and improving school climate. \nLunch is provided. \nCost: $60 for Basic and Non Members of the Action Alliance\, $35 for SDVA Members\, $40 for Affiliate\, Professional\, and Lifetime Members (Please put in member discount code at check out.)
URL:https://vsdvalliance.org/event/trauma-to-prison-pipeline-training-for-trainers/
LOCATION:Action Alliance\, 1413 W. Main Street\, Richmond\, VA\, 23220\, United States
CATEGORIES:General Events,Members,Training
END:VEVENT
END:VCALENDAR