BEGIN:VCALENDAR
VERSION:2.0
PRODID:-//Virginia Sexual &amp; Domestic Violence Action Alliance - ECPv6.15.20//NONSGML v1.0//EN
CALSCALE:GREGORIAN
METHOD:PUBLISH
X-ORIGINAL-URL:https://vsdvalliance.org
X-WR-CALDESC:Events for Virginia Sexual &amp; Domestic Violence Action Alliance
REFRESH-INTERVAL;VALUE=DURATION:PT1H
X-Robots-Tag:noindex
X-PUBLISHED-TTL:PT1H
BEGIN:VTIMEZONE
TZID:America/New_York
BEGIN:DAYLIGHT
TZOFFSETFROM:-0500
TZOFFSETTO:-0400
TZNAME:EDT
DTSTART:20230312T070000
END:DAYLIGHT
BEGIN:STANDARD
TZOFFSETFROM:-0400
TZOFFSETTO:-0500
TZNAME:EST
DTSTART:20231105T060000
END:STANDARD
BEGIN:DAYLIGHT
TZOFFSETFROM:-0500
TZOFFSETTO:-0400
TZNAME:EDT
DTSTART:20240310T070000
END:DAYLIGHT
BEGIN:STANDARD
TZOFFSETFROM:-0400
TZOFFSETTO:-0500
TZNAME:EST
DTSTART:20241103T060000
END:STANDARD
BEGIN:DAYLIGHT
TZOFFSETFROM:-0500
TZOFFSETTO:-0400
TZNAME:EDT
DTSTART:20250309T070000
END:DAYLIGHT
BEGIN:STANDARD
TZOFFSETFROM:-0400
TZOFFSETTO:-0500
TZNAME:EST
DTSTART:20251102T060000
END:STANDARD
END:VTIMEZONE
BEGIN:VEVENT
DTSTART;VALUE=DATE:20240426
DTEND;VALUE=DATE:20240429
DTSTAMP:20260423T060033
CREATED:20240208T160137Z
LAST-MODIFIED:20240208T160137Z
UID:12506-1714089600-1714348799@vsdvalliance.org
SUMMARY:Camp Ostara
DESCRIPTION:Camp Ostara is a transformative three-day nature-based retreat for women in Virginia who have survived any act of adult or childhood domestic violence involving a family member\, intimate partner\, or acquaintance. It is a unique opportunity to enjoy a positive\, pivotal outdoor experience\, particularly for those with limited resources or few possibilities to enjoy nature. Modeled after Camp Mabon\, which started in 2005\, Camp Ostara welcomes cisgender women 18 or over of any race\, ethnicity\, place of origin\, faith\, sexual orientation\, or disability. \nA small group of 12 campers\, plus mentors and counselors\, stays at a fully equipped\, climate-controlled lodge in a Virginia state park\, sharing community tasks and group activities. Camp occurs near the Spring Equinox\, a day when light hours equal dark hours\, to underscore the benefits of maintaining balance in life. Light hiking\, gentle yoga\, journaling\, crafts\, guided meditation\, and group activities are designed to help campers tap into the healing resources of nature. No prior outdoor experience is required! \nTo prevent money from being an obstacle to any woman’s participation\, tuition for campers ranges from $100 to $300 based on family income\, although the cost of camp per person is higher\, and sponsorships can offset the cost. Camp staff will connect campers for rides with other participants in their vicinity if individuals lack transportation. \nTo prevent money from being an obstacle to any woman’s participation\, tuition for campers ranges from $100 to $300 based on family income\, although the cost of camp per person is higher\, and sponsorships can offset the cost. Camp staff will connect campers for rides with other participants in their vicinity if individuals lack transportation.
URL:https://vsdvalliance.org/event/camp-ostara/
LOCATION:Bear Creek Lake State Park\, 22 Bear Creek Lake Rd.\, Cumberland\, VA\, 23040\, United States
CATEGORIES:General Events,Members
END:VEVENT
END:VCALENDAR