BEGIN:VCALENDAR
VERSION:2.0
PRODID:-//Virginia Sexual &amp; Domestic Violence Action Alliance - ECPv6.15.20//NONSGML v1.0//EN
CALSCALE:GREGORIAN
METHOD:PUBLISH
X-ORIGINAL-URL:https://vsdvalliance.org
X-WR-CALDESC:Events for Virginia Sexual &amp; Domestic Violence Action Alliance
REFRESH-INTERVAL;VALUE=DURATION:PT1H
X-Robots-Tag:noindex
X-PUBLISHED-TTL:PT1H
BEGIN:VTIMEZONE
TZID:America/New_York
BEGIN:DAYLIGHT
TZOFFSETFROM:-0500
TZOFFSETTO:-0400
TZNAME:EDT
DTSTART:20230312T070000
END:DAYLIGHT
BEGIN:STANDARD
TZOFFSETFROM:-0400
TZOFFSETTO:-0500
TZNAME:EST
DTSTART:20231105T060000
END:STANDARD
BEGIN:DAYLIGHT
TZOFFSETFROM:-0500
TZOFFSETTO:-0400
TZNAME:EDT
DTSTART:20240310T070000
END:DAYLIGHT
BEGIN:STANDARD
TZOFFSETFROM:-0400
TZOFFSETTO:-0500
TZNAME:EST
DTSTART:20241103T060000
END:STANDARD
BEGIN:DAYLIGHT
TZOFFSETFROM:-0500
TZOFFSETTO:-0400
TZNAME:EDT
DTSTART:20250309T070000
END:DAYLIGHT
BEGIN:STANDARD
TZOFFSETFROM:-0400
TZOFFSETTO:-0500
TZNAME:EST
DTSTART:20251102T060000
END:STANDARD
END:VTIMEZONE
BEGIN:VEVENT
DTSTART;TZID=America/New_York:20240605T140000
DTEND;TZID=America/New_York:20240605T150000
DTSTAMP:20260423T030643
CREATED:20240510T143130Z
LAST-MODIFIED:20240510T143130Z
UID:12859-1717596000-1717599600@vsdvalliance.org
SUMMARY:Director's Virtual Meet-Up
DESCRIPTION:The Statewide Hotline/Crisis Response Team would like to offer this space as an ongoing opportunity to increase partnership\, learn more about the needs at agencies\, have a place to share and learn more about Statewide Hotline operations\, and to provide the space for folx to discuss challenges\, highlights\, regional updates\, trends\, etc.
URL:https://vsdvalliance.org/event/directors-virtual-meet-up-2/
LOCATION:Virtual- Zoom
CATEGORIES:General Events,Members,Training
END:VEVENT
END:VCALENDAR