BEGIN:VCALENDAR
VERSION:2.0
PRODID:-//Virginia Sexual &amp; Domestic Violence Action Alliance - ECPv6.15.20//NONSGML v1.0//EN
CALSCALE:GREGORIAN
METHOD:PUBLISH
X-WR-CALNAME:Virginia Sexual &amp; Domestic Violence Action Alliance
X-ORIGINAL-URL:https://vsdvalliance.org
X-WR-CALDESC:Events for Virginia Sexual &amp; Domestic Violence Action Alliance
REFRESH-INTERVAL;VALUE=DURATION:PT1H
X-Robots-Tag:noindex
X-PUBLISHED-TTL:PT1H
BEGIN:VTIMEZONE
TZID:America/New_York
BEGIN:DAYLIGHT
TZOFFSETFROM:-0500
TZOFFSETTO:-0400
TZNAME:EDT
DTSTART:20230312T070000
END:DAYLIGHT
BEGIN:STANDARD
TZOFFSETFROM:-0400
TZOFFSETTO:-0500
TZNAME:EST
DTSTART:20231105T060000
END:STANDARD
BEGIN:DAYLIGHT
TZOFFSETFROM:-0500
TZOFFSETTO:-0400
TZNAME:EDT
DTSTART:20240310T070000
END:DAYLIGHT
BEGIN:STANDARD
TZOFFSETFROM:-0400
TZOFFSETTO:-0500
TZNAME:EST
DTSTART:20241103T060000
END:STANDARD
BEGIN:DAYLIGHT
TZOFFSETFROM:-0500
TZOFFSETTO:-0400
TZNAME:EDT
DTSTART:20250309T070000
END:DAYLIGHT
BEGIN:STANDARD
TZOFFSETFROM:-0400
TZOFFSETTO:-0500
TZNAME:EST
DTSTART:20251102T060000
END:STANDARD
END:VTIMEZONE
BEGIN:VEVENT
DTSTART;TZID=America/New_York:20240610T080000
DTEND;TZID=America/New_York:20240610T170000
DTSTAMP:20260421T084508
CREATED:20240510T144649Z
LAST-MODIFIED:20240510T144649Z
UID:12861-1718006400-1718038800@vsdvalliance.org
SUMMARY:New Directors' Series 2024: Provisioning the Boat
DESCRIPTION:A successful voyage requires just the right number of resources to get you to your destination—including all the tools you will need\, and functioning systems to keep things afloat in all kinds of weather. A few of the specific topics we will be covering include planning\, matching resources to goals\, managing those resources\, automation\, and redundancy. Leave with some new tools that will ease the burden of provisioning the boat.
URL:https://vsdvalliance.org/event/new-directors-series-2024-provisioning-the-boat/
LOCATION:Training Center\, 1413 W. Main St.\, Richmond\, VA\, 23220
CATEGORIES:General Events,Members,Training
END:VEVENT
END:VCALENDAR