BEGIN:VCALENDAR
VERSION:2.0
PRODID:-//Virginia Sexual &amp; Domestic Violence Action Alliance - ECPv6.15.20//NONSGML v1.0//EN
CALSCALE:GREGORIAN
METHOD:PUBLISH
X-WR-CALNAME:Virginia Sexual &amp; Domestic Violence Action Alliance
X-ORIGINAL-URL:https://vsdvalliance.org
X-WR-CALDESC:Events for Virginia Sexual &amp; Domestic Violence Action Alliance
REFRESH-INTERVAL;VALUE=DURATION:PT1H
X-Robots-Tag:noindex
X-PUBLISHED-TTL:PT1H
BEGIN:VTIMEZONE
TZID:America/New_York
BEGIN:DAYLIGHT
TZOFFSETFROM:-0500
TZOFFSETTO:-0400
TZNAME:EDT
DTSTART:20230312T070000
END:DAYLIGHT
BEGIN:STANDARD
TZOFFSETFROM:-0400
TZOFFSETTO:-0500
TZNAME:EST
DTSTART:20231105T060000
END:STANDARD
BEGIN:DAYLIGHT
TZOFFSETFROM:-0500
TZOFFSETTO:-0400
TZNAME:EDT
DTSTART:20240310T070000
END:DAYLIGHT
BEGIN:STANDARD
TZOFFSETFROM:-0400
TZOFFSETTO:-0500
TZNAME:EST
DTSTART:20241103T060000
END:STANDARD
BEGIN:DAYLIGHT
TZOFFSETFROM:-0500
TZOFFSETTO:-0400
TZNAME:EDT
DTSTART:20250309T070000
END:DAYLIGHT
BEGIN:STANDARD
TZOFFSETFROM:-0400
TZOFFSETTO:-0500
TZNAME:EST
DTSTART:20251102T060000
END:STANDARD
END:VTIMEZONE
BEGIN:VEVENT
DTSTART;TZID=America/New_York:20240613T080000
DTEND;TZID=America/New_York:20240613T170000
DTSTAMP:20260421T084554
CREATED:20240510T145315Z
LAST-MODIFIED:20240510T145834Z
UID:12863-1718265600-1718298000@vsdvalliance.org
SUMMARY:State and Local Partners Meeting
DESCRIPTION:These quarterly gatherings of advocates\, preventionists\, sexual and domestic violence agency administrators\, state funders and other partners serving survivors of violence are opportunities for connection and collaboration on the local\, regional\, and state level. The State and Local Partners Meetings are a unique opportunity for agencies to share their expertise and experiences from the front lines with funding partners who would like to learn more about emerging trends\, needs\, and celebrations among our communities.
URL:https://vsdvalliance.org/event/state-and-local-partners-meeting-8/
LOCATION:Virtual- Zoom
CATEGORIES:General Events,Members,Training
END:VEVENT
BEGIN:VEVENT
DTSTART;TZID=America/New_York:20240613T123000
DTEND;TZID=America/New_York:20240613T133000
DTSTAMP:20260421T084554
CREATED:20240605T153900Z
LAST-MODIFIED:20240605T153900Z
UID:12979-1718281800-1718285400@vsdvalliance.org
SUMMARY:Red Flag Campaign Relaunch!
DESCRIPTION:It has been over a decade since we launched www.theredflagcampaign.org/ to help college students shift cultural norms around dating violence. In the intervening years\, hundreds of campuses across the nation have implemented the Red Flag Campaign. Since first introducing the campaign\, the way young people speak about and understand dating violence has changed\, so we have updated the Red Flag Campaign materials to reflect their experiences today. We are excited to announce that we have updated the digital Campus Planning Guide to include more information about bystander intervention as a strategy for violence prevention\, microaggressions as a form of dating violence\, and why healthy sexuality is a key concept of violence prevention. There is also new turnkey artwork for social media posts and updated printable handouts about effective bystander intervention strategies. \nIf you are unfamiliar with the campaign\, the Red Flag Campaign is a bystander intervention program that educates college students about sexual assault\, dating violence\, and stalking by highlighting the red flags that students may see in a friend’s relationship. The campaign includes a digital guide for implementation\, miniature red flags\, and printed posters featuring active bystander responses to warning signs for emotional abuse\, stalking\, microaggressions\, and other controlling and isolating behaviors. In 2023\, we launched two poster series (Series C and D)\, which include language around interrupting microaggressions and promoting joyful sexuality; you can click this link to compare and explore each series. \nJoin us on Thursday\, June 13th from 12:30pm to 1:30pm EDT to learn more about the new Red Flag Campaign materials including ideas for implementation and best practices around prevention programming.
URL:https://vsdvalliance.org/event/red-flag-campaign-relaunch/
LOCATION:Virtual- Zoom
CATEGORIES:General Events,Members,Training
END:VEVENT
END:VCALENDAR