BEGIN:VCALENDAR
VERSION:2.0
PRODID:-//Virginia Sexual &amp; Domestic Violence Action Alliance - ECPv6.15.20//NONSGML v1.0//EN
CALSCALE:GREGORIAN
METHOD:PUBLISH
X-WR-CALNAME:Virginia Sexual &amp; Domestic Violence Action Alliance
X-ORIGINAL-URL:https://vsdvalliance.org
X-WR-CALDESC:Events for Virginia Sexual &amp; Domestic Violence Action Alliance
REFRESH-INTERVAL;VALUE=DURATION:PT1H
X-Robots-Tag:noindex
X-PUBLISHED-TTL:PT1H
BEGIN:VTIMEZONE
TZID:America/New_York
BEGIN:DAYLIGHT
TZOFFSETFROM:-0500
TZOFFSETTO:-0400
TZNAME:EDT
DTSTART:20230312T070000
END:DAYLIGHT
BEGIN:STANDARD
TZOFFSETFROM:-0400
TZOFFSETTO:-0500
TZNAME:EST
DTSTART:20231105T060000
END:STANDARD
BEGIN:DAYLIGHT
TZOFFSETFROM:-0500
TZOFFSETTO:-0400
TZNAME:EDT
DTSTART:20240310T070000
END:DAYLIGHT
BEGIN:STANDARD
TZOFFSETFROM:-0400
TZOFFSETTO:-0500
TZNAME:EST
DTSTART:20241103T060000
END:STANDARD
BEGIN:DAYLIGHT
TZOFFSETFROM:-0500
TZOFFSETTO:-0400
TZNAME:EDT
DTSTART:20250309T070000
END:DAYLIGHT
BEGIN:STANDARD
TZOFFSETFROM:-0400
TZOFFSETTO:-0500
TZNAME:EST
DTSTART:20251102T060000
END:STANDARD
END:VTIMEZONE
BEGIN:VEVENT
DTSTART;TZID=America/New_York:20240625T140000
DTEND;TZID=America/New_York:20240625T160000
DTSTAMP:20260421T051748
CREATED:20240515T130618Z
LAST-MODIFIED:20240515T130618Z
UID:12891-1719324000-1719331200@vsdvalliance.org
SUMMARY:Harm and Accountability Toolkit Webinar
DESCRIPTION:
URL:https://vsdvalliance.org/event/harm-and-accountability-toolkit-webinar/
LOCATION:Virtual- Zoom
CATEGORIES:General Events,Members,Training
END:VEVENT
BEGIN:VEVENT
DTSTART;TZID=America/New_York:20240625T150000
DTEND;TZID=America/New_York:20240625T163000
DTSTAMP:20260421T051748
CREATED:20240509T182018Z
LAST-MODIFIED:20240509T183107Z
UID:12826-1719327600-1719333000@vsdvalliance.org
SUMMARY:VAdata Training and Virtual Office Hours
DESCRIPTION:
URL:https://vsdvalliance.org/event/vadata-training-and-virtual-office-hours/
LOCATION:Virtual- Zoom
CATEGORIES:General Events,Members,Training
END:VEVENT
END:VCALENDAR