BEGIN:VCALENDAR
VERSION:2.0
PRODID:-//Virginia Sexual &amp; Domestic Violence Action Alliance - ECPv6.15.20//NONSGML v1.0//EN
CALSCALE:GREGORIAN
METHOD:PUBLISH
X-ORIGINAL-URL:https://vsdvalliance.org
X-WR-CALDESC:Events for Virginia Sexual &amp; Domestic Violence Action Alliance
REFRESH-INTERVAL;VALUE=DURATION:PT1H
X-Robots-Tag:noindex
X-PUBLISHED-TTL:PT1H
BEGIN:VTIMEZONE
TZID:America/New_York
BEGIN:DAYLIGHT
TZOFFSETFROM:-0500
TZOFFSETTO:-0400
TZNAME:EDT
DTSTART:20230312T070000
END:DAYLIGHT
BEGIN:STANDARD
TZOFFSETFROM:-0400
TZOFFSETTO:-0500
TZNAME:EST
DTSTART:20231105T060000
END:STANDARD
BEGIN:DAYLIGHT
TZOFFSETFROM:-0500
TZOFFSETTO:-0400
TZNAME:EDT
DTSTART:20240310T070000
END:DAYLIGHT
BEGIN:STANDARD
TZOFFSETFROM:-0400
TZOFFSETTO:-0500
TZNAME:EST
DTSTART:20241103T060000
END:STANDARD
BEGIN:DAYLIGHT
TZOFFSETFROM:-0500
TZOFFSETTO:-0400
TZNAME:EDT
DTSTART:20250309T070000
END:DAYLIGHT
BEGIN:STANDARD
TZOFFSETFROM:-0400
TZOFFSETTO:-0500
TZNAME:EST
DTSTART:20251102T060000
END:STANDARD
END:VTIMEZONE
BEGIN:VEVENT
DTSTART;TZID=America/New_York:20240919T090000
DTEND;TZID=America/New_York:20240919T150000
DTSTAMP:20260422T222549
CREATED:20240724T155231Z
LAST-MODIFIED:20240724T155231Z
UID:13085-1726736400-1726758000@vsdvalliance.org
SUMMARY:Principles of Primary Prevention
DESCRIPTION:Primary prevention programs are focused on reducing or eliminating the first-time perpetration of sexual violence and intimate partner violence (SV/IPV). This means figuring out what factors make some people more at-risk to perpetrate SV/IPV\, and changing or interrupting those factors. This training delves into the key concepts underlying this innovative work\, highlights promising practices from the field\, and includes an overview of Virginia’s Guidelines for the Primary Prevention of Sexual Violence & Intimate Partner Violence used by sexual and domestic violence agencies throughout Virginia and across the country.
URL:https://vsdvalliance.org/event/principles-of-primary-prevention-2/
LOCATION:Training Center\, 1413 W. Main St.\, Richmond\, VA\, 23220
CATEGORIES:General Events
END:VEVENT
END:VCALENDAR