BEGIN:VCALENDAR
VERSION:2.0
PRODID:-//Virginia Sexual &amp; Domestic Violence Action Alliance - ECPv6.15.20//NONSGML v1.0//EN
CALSCALE:GREGORIAN
METHOD:PUBLISH
X-ORIGINAL-URL:https://vsdvalliance.org
X-WR-CALDESC:Events for Virginia Sexual &amp; Domestic Violence Action Alliance
REFRESH-INTERVAL;VALUE=DURATION:PT1H
X-Robots-Tag:noindex
X-PUBLISHED-TTL:PT1H
BEGIN:VTIMEZONE
TZID:America/New_York
BEGIN:DAYLIGHT
TZOFFSETFROM:-0500
TZOFFSETTO:-0400
TZNAME:EDT
DTSTART:20230312T070000
END:DAYLIGHT
BEGIN:STANDARD
TZOFFSETFROM:-0400
TZOFFSETTO:-0500
TZNAME:EST
DTSTART:20231105T060000
END:STANDARD
BEGIN:DAYLIGHT
TZOFFSETFROM:-0500
TZOFFSETTO:-0400
TZNAME:EDT
DTSTART:20240310T070000
END:DAYLIGHT
BEGIN:STANDARD
TZOFFSETFROM:-0400
TZOFFSETTO:-0500
TZNAME:EST
DTSTART:20241103T060000
END:STANDARD
BEGIN:DAYLIGHT
TZOFFSETFROM:-0500
TZOFFSETTO:-0400
TZNAME:EDT
DTSTART:20250309T070000
END:DAYLIGHT
BEGIN:STANDARD
TZOFFSETFROM:-0400
TZOFFSETTO:-0500
TZNAME:EST
DTSTART:20251102T060000
END:STANDARD
END:VTIMEZONE
BEGIN:VEVENT
DTSTART;TZID=America/New_York:20240925T100000
DTEND;TZID=America/New_York:20240925T150000
DTSTAMP:20260422T222548
CREATED:20240903T194154Z
LAST-MODIFIED:20240903T194154Z
UID:13180-1727258400-1727276400@vsdvalliance.org
SUMMARY:Emerging Together: Wholeness as Wellness - Building Healing-Centered Capacity for Us
DESCRIPTION:What: Wholeness as Wellness: Building Healing-Centered Capacity for Us \nFor whom: Advocates and leaders in the field of sexual and domestic violence advocacy\, intervention\, and prevention (*preferably\, participants have joined a recent AWE Group Session and/or a Wellness Coaching session to layer learning/doing) \nWhy: Join us to begin to build a new way of being in our work – an intentional and critical paradigm shift in the movement from reacting to the crisis of burnout to anticipating and building healing-centered capacity to prevent it. Together\, we will unpack the reality of the impact of this work and explore practices that support us in recentering our own wellness and wholeness in this work. This will be a reflective\, interactive\, experiential\, and joy-filled session meant to foster mutual aid connections and ready us with insight and practices to get back to work whole and well.
URL:https://vsdvalliance.org/event/emerging-together-wholeness-as-wellness-building-healing-centered-capacity-for-us/
LOCATION:Church of Our Savior Episcopal\, 1165 Rio Rd E\, Charlottesville\, Virginia\, 22901\, United States
CATEGORIES:General Events
END:VEVENT
END:VCALENDAR