BEGIN:VCALENDAR
VERSION:2.0
PRODID:-//Virginia Sexual &amp; Domestic Violence Action Alliance - ECPv6.15.20//NONSGML v1.0//EN
CALSCALE:GREGORIAN
METHOD:PUBLISH
X-ORIGINAL-URL:https://vsdvalliance.org
X-WR-CALDESC:Events for Virginia Sexual &amp; Domestic Violence Action Alliance
REFRESH-INTERVAL;VALUE=DURATION:PT1H
X-Robots-Tag:noindex
X-PUBLISHED-TTL:PT1H
BEGIN:VTIMEZONE
TZID:America/New_York
BEGIN:DAYLIGHT
TZOFFSETFROM:-0500
TZOFFSETTO:-0400
TZNAME:EDT
DTSTART:20230312T070000
END:DAYLIGHT
BEGIN:STANDARD
TZOFFSETFROM:-0400
TZOFFSETTO:-0500
TZNAME:EST
DTSTART:20231105T060000
END:STANDARD
BEGIN:DAYLIGHT
TZOFFSETFROM:-0500
TZOFFSETTO:-0400
TZNAME:EDT
DTSTART:20240310T070000
END:DAYLIGHT
BEGIN:STANDARD
TZOFFSETFROM:-0400
TZOFFSETTO:-0500
TZNAME:EST
DTSTART:20241103T060000
END:STANDARD
BEGIN:DAYLIGHT
TZOFFSETFROM:-0500
TZOFFSETTO:-0400
TZNAME:EDT
DTSTART:20250309T070000
END:DAYLIGHT
BEGIN:STANDARD
TZOFFSETFROM:-0400
TZOFFSETTO:-0500
TZNAME:EST
DTSTART:20251102T060000
END:STANDARD
END:VTIMEZONE
BEGIN:VEVENT
DTSTART;TZID=America/New_York:20241003T140000
DTEND;TZID=America/New_York:20241003T150000
DTSTAMP:20260422T205458
CREATED:20240806T003757Z
LAST-MODIFIED:20240925T133211Z
UID:13096-1727964000-1727967600@vsdvalliance.org
SUMMARY:Virginia Restoryation Report: What lessons did the data teach?
DESCRIPTION:Stories reveal\, help us process\, and reflect. Story circles have been part of our collective human experience across communities\, cultures\, and generations. The process of storytelling and the practice of bearing witness to one another’s stories is one of the most intuitive\, most powerful\, and most ancient medicines we have.   \n  \nVirginia was one of 25 states and territories across the U.S. to participate in Restoryation\, a national storytelling project and needs assessment among professionals working in the movement to end sexual and domestic violence. The primary goals of Restoryation were to employ storytelling to:  \n\nPause and reflect on the impact of the previous 3 years on ourselves and our work. \n\n\nProvide an opportunity for connection and healing through sharing our experiences and bearing witness to each other’s stories.  \n\n\nName what is needed to create a thriving workforce and movement going forward. \n\n  \nJoin us for a brief webinar to learn more about the data that came out of the Restoryation story circles held February-May 2023\, and the Action Alliance’s next steps based on the lessons we learned.   \n 
URL:https://vsdvalliance.org/event/virginia-restoryation-report-what-lessons-did-the-data-teach/
LOCATION:Virtual- Zoom
CATEGORIES:General Events,Members,Training
END:VEVENT
END:VCALENDAR