BEGIN:VCALENDAR
VERSION:2.0
PRODID:-//Virginia Sexual &amp; Domestic Violence Action Alliance - ECPv6.15.20//NONSGML v1.0//EN
CALSCALE:GREGORIAN
METHOD:PUBLISH
X-WR-CALNAME:Virginia Sexual &amp; Domestic Violence Action Alliance
X-ORIGINAL-URL:https://vsdvalliance.org
X-WR-CALDESC:Events for Virginia Sexual &amp; Domestic Violence Action Alliance
REFRESH-INTERVAL;VALUE=DURATION:PT1H
X-Robots-Tag:noindex
X-PUBLISHED-TTL:PT1H
BEGIN:VTIMEZONE
TZID:America/New_York
BEGIN:DAYLIGHT
TZOFFSETFROM:-0500
TZOFFSETTO:-0400
TZNAME:EDT
DTSTART:20230312T070000
END:DAYLIGHT
BEGIN:STANDARD
TZOFFSETFROM:-0400
TZOFFSETTO:-0500
TZNAME:EST
DTSTART:20231105T060000
END:STANDARD
BEGIN:DAYLIGHT
TZOFFSETFROM:-0500
TZOFFSETTO:-0400
TZNAME:EDT
DTSTART:20240310T070000
END:DAYLIGHT
BEGIN:STANDARD
TZOFFSETFROM:-0400
TZOFFSETTO:-0500
TZNAME:EST
DTSTART:20241103T060000
END:STANDARD
BEGIN:DAYLIGHT
TZOFFSETFROM:-0500
TZOFFSETTO:-0400
TZNAME:EDT
DTSTART:20250309T070000
END:DAYLIGHT
BEGIN:STANDARD
TZOFFSETFROM:-0400
TZOFFSETTO:-0500
TZNAME:EST
DTSTART:20251102T060000
END:STANDARD
END:VTIMEZONE
BEGIN:VEVENT
DTSTART;TZID=America/New_York:20241016T103000
DTEND;TZID=America/New_York:20241016T120000
DTSTAMP:20260421T045427
CREATED:20241004T145441Z
LAST-MODIFIED:20241004T145441Z
UID:13497-1729074600-1729080000@vsdvalliance.org
SUMMARY:Violence Prevention in Action ECHO
DESCRIPTION:Join our Violence Prevention in Action ECHO program to build your prevention network\, connect over challenging cases\, and stay on top of best practices in sexual and intimate partner violence primary prevention! \nProject ECHO is an international\, evidence-based model for training and peer-to-peer learning\, originally developed at the University of New Mexico for use by doctors and other medical providers. We’ve used the model since 2019 to cultivate a thriving community of preventionists from Sexual and Domestic Violence Agencies across the Commonwealth. \nFor more information about our use of the ECHO model or the structure of the session\, please visit: https://bit.ly/VPAecho.
URL:https://vsdvalliance.org/event/violence-prevention-in-action-echo-4/
LOCATION:Virtual
CATEGORIES:General Events,Online Learning,Training
END:VEVENT
BEGIN:VEVENT
DTSTART;TZID=America/New_York:20241016T130000
DTEND;TZID=America/New_York:20241016T143000
DTSTAMP:20260421T045427
CREATED:20240903T201232Z
LAST-MODIFIED:20240903T201232Z
UID:13184-1729083600-1729089000@vsdvalliance.org
SUMMARY:Identifying and Recognizing Organizational Habits
DESCRIPTION:What: Let’s begin to imagine robust strategies and practices for sustained wellness\, connection and power. \nFor whom: Advocates\, preventionists\, outreach staff\, and agency leadership are all invited to participate. Sexual and domestic violence programs seeking to bring about organizational change will benefit from identifying a diverse team to participate in attending as many sessions as possible. \nWhy: Promote wellness\, resilience\, and sustainability within SDVAs and in your community partnerships through building practices that focus on connection\, resilience\, trauma stewardship\, and hope.
URL:https://vsdvalliance.org/event/identifying-and-recognizing-organizational-habits/
LOCATION:Virtual- Zoom
CATEGORIES:General Events
END:VEVENT
BEGIN:VEVENT
DTSTART;TZID=America/New_York:20241016T140000
DTEND;TZID=America/New_York:20241016T150000
DTSTAMP:20260421T045427
CREATED:20240605T152831Z
LAST-MODIFIED:20240605T152831Z
UID:12969-1729087200-1729090800@vsdvalliance.org
SUMMARY:Statewide Advocates' Meeting
DESCRIPTION:The Statewide Hotline/Crisis Response Team would like to offer this space as an ongoing opportunity for folx working on the front lines and on the hotlines providing direct services and support! This is a space with opportunities to meet other advocates across VA\, learn more about the Statewide Hotline and Project for Empowerment of Survivors (PES) and to share trends\, highlights\, events\, regional updates\, etc. We look forward to seeing you all every other month in 2024 on the 3rd Wednesday from 2-3p. \nIf you know of other Advocates\, Hotline and/or Direct Services staff that could benefit from joining the space\, please send their contact information to lwhite@vsdvalliance.org. \nNote: We will try to accommodate last minute language translation requests but we typically need two weeks to secure interpretation services.
URL:https://vsdvalliance.org/event/statewide-advocates-meeting-4/
LOCATION:Virtual- Zoom
CATEGORIES:General Events,Members,Training
END:VEVENT
END:VCALENDAR