BEGIN:VCALENDAR
VERSION:2.0
PRODID:-//Virginia Sexual &amp; Domestic Violence Action Alliance - ECPv6.15.20//NONSGML v1.0//EN
CALSCALE:GREGORIAN
METHOD:PUBLISH
X-ORIGINAL-URL:https://vsdvalliance.org
X-WR-CALDESC:Events for Virginia Sexual &amp; Domestic Violence Action Alliance
REFRESH-INTERVAL;VALUE=DURATION:PT1H
X-Robots-Tag:noindex
X-PUBLISHED-TTL:PT1H
BEGIN:VTIMEZONE
TZID:America/New_York
BEGIN:DAYLIGHT
TZOFFSETFROM:-0500
TZOFFSETTO:-0400
TZNAME:EDT
DTSTART:20230312T070000
END:DAYLIGHT
BEGIN:STANDARD
TZOFFSETFROM:-0400
TZOFFSETTO:-0500
TZNAME:EST
DTSTART:20231105T060000
END:STANDARD
BEGIN:DAYLIGHT
TZOFFSETFROM:-0500
TZOFFSETTO:-0400
TZNAME:EDT
DTSTART:20240310T070000
END:DAYLIGHT
BEGIN:STANDARD
TZOFFSETFROM:-0400
TZOFFSETTO:-0500
TZNAME:EST
DTSTART:20241103T060000
END:STANDARD
BEGIN:DAYLIGHT
TZOFFSETFROM:-0500
TZOFFSETTO:-0400
TZNAME:EDT
DTSTART:20250309T070000
END:DAYLIGHT
BEGIN:STANDARD
TZOFFSETFROM:-0400
TZOFFSETTO:-0500
TZNAME:EST
DTSTART:20251102T060000
END:STANDARD
END:VTIMEZONE
BEGIN:VEVENT
DTSTART;TZID=America/New_York:20241024T090000
DTEND;TZID=America/New_York:20241025T120000
DTSTAMP:20260422T205459
CREATED:20240903T202710Z
LAST-MODIFIED:20240909T155209Z
UID:13191-1729760400-1729857600@vsdvalliance.org
SUMMARY:Emergence: From Wellness to Impact
DESCRIPTION:What: Let’s build relationships\, expertise\, and collective power to position healing-centered communities as catalysts for transformation. We’ll explore your landscapes\, relationship maps\, and readiness with the goal of having a measurable impact on at least one complex problem facing your community.\nWhat are some examples of a community wellness project?\n-Establish once a month free dental/vision/mental health/wellness checks for vulnerable communities at a location that is easy to reach in your community.\n-Ask your community’s teens about what kind of activities or help they need outside of school and make a plan to meet one of those goals.\n-Establish a pilot program in one middle or high school to implement trauma-informed and restorative responses to school discipline issues.\n-Work with community organizers and partners to launch an affordable/workforce housing campaign.\nThere are so many possibilities! \nFor whom: Bring a team! Community Impact Teams are intended to be a collaboration between a sexual and domestic violence agency (SDVA) and 1-2 other community partners. In selecting community partners\, consider how to deepen existing relationships in your work to respond to and prevent violence – for example\, consider a partner working to support healthy child development\, reduce maternal mortality\, or create greater access to community resources that will ultimately lead to thriving families and communities. \nWhy: This is an opportunity for sexual and domestic violence advocates to learn\, organize\, and meaningfully implement with community partners who have shared visions for wellness. \nBreakfast and lunch provided on the 24th. Breakfast provided on the 25th. \nPlease note: The Action Alliance will cover the cost of 1 night lodging for each registrant of this event.
URL:https://vsdvalliance.org/event/emergence-from-wellness-to-impact/
LOCATION:Hotel 24 South\, 24 South Market Street\, Staunton\, VA\, 24401\, United States
CATEGORIES:General Events,Members,Training
END:VEVENT
END:VCALENDAR