BEGIN:VCALENDAR
VERSION:2.0
PRODID:-//Virginia Sexual &amp; Domestic Violence Action Alliance - ECPv6.15.20//NONSGML v1.0//EN
CALSCALE:GREGORIAN
METHOD:PUBLISH
X-ORIGINAL-URL:https://vsdvalliance.org
X-WR-CALDESC:Events for Virginia Sexual &amp; Domestic Violence Action Alliance
REFRESH-INTERVAL;VALUE=DURATION:PT1H
X-Robots-Tag:noindex
X-PUBLISHED-TTL:PT1H
BEGIN:VTIMEZONE
TZID:America/New_York
BEGIN:DAYLIGHT
TZOFFSETFROM:-0500
TZOFFSETTO:-0400
TZNAME:EDT
DTSTART:20230312T070000
END:DAYLIGHT
BEGIN:STANDARD
TZOFFSETFROM:-0400
TZOFFSETTO:-0500
TZNAME:EST
DTSTART:20231105T060000
END:STANDARD
BEGIN:DAYLIGHT
TZOFFSETFROM:-0500
TZOFFSETTO:-0400
TZNAME:EDT
DTSTART:20240310T070000
END:DAYLIGHT
BEGIN:STANDARD
TZOFFSETFROM:-0400
TZOFFSETTO:-0500
TZNAME:EST
DTSTART:20241103T060000
END:STANDARD
BEGIN:DAYLIGHT
TZOFFSETFROM:-0500
TZOFFSETTO:-0400
TZNAME:EDT
DTSTART:20250309T070000
END:DAYLIGHT
BEGIN:STANDARD
TZOFFSETFROM:-0400
TZOFFSETTO:-0500
TZNAME:EST
DTSTART:20251102T060000
END:STANDARD
END:VTIMEZONE
BEGIN:VEVENT
DTSTART;TZID=America/New_York:20241112T080000
DTEND;TZID=America/New_York:20241113T170000
DTSTAMP:20260421T132802
CREATED:20241001T184929Z
LAST-MODIFIED:20241001T184929Z
UID:13472-1731398400-1731517200@vsdvalliance.org
SUMMARY:Basic Advocacy Trainings- DV & SV
DESCRIPTION:DV BAT: This training is designed for advocates in their first year of work in the field of Domestic Violence Advocacy. Participants will be able to identify and define domestic and intimate partner violence; learn the building blocks for a trauma informed response and broaden their understanding of risk assessment and safety planning. Participants will also learn about resources in VA for supporting survivors of domestic and intimate partner violence. \nSV BAT: This training is designed for advocates in their first year of work in the field of Sexual Violence Advocacy. Participants will learn how to recognize sexual violence\, it’s root causes and its impact on individuals and communities; they will learn about the Cultural Context that supports sexual violence and an advocate’s role in changing that culture. Participants will also learn about the building blocks for a healing centered approach to sexual violence and be able to identify resources in Virginia for an effective response. \n*It is highly recommended that new advocates receive both DV and SV Basic Advocacy Training.
URL:https://vsdvalliance.org/event/basic-advocacy-trainings-dv-sv/
LOCATION:SSRC\, 22 East Church St\, Suite 307\, Martinsville\, VA\, 24112
CATEGORIES:General Events,Training
END:VEVENT
BEGIN:VEVENT
DTSTART;TZID=America/New_York:20241113T130000
DTEND;TZID=America/New_York:20241113T143000
DTSTAMP:20260421T132802
CREATED:20240903T203119Z
LAST-MODIFIED:20240909T155234Z
UID:13193-1731502800-1731508200@vsdvalliance.org
SUMMARY:Navigating Social Impact
DESCRIPTION:What: Let’s begin to imagine robust strategies and practices for sustained wellness\, connection and power. \nFor whom: Advocates\, preventionists\, outreach staff\, and agency leadership are all invited to participate. Sexual and domestic violence programs seeking to bring about organizational change will benefit from identifying a diverse team to participate in attending as many sessions as possible. \nWhy: Promote wellness\, resilience\, and sustainability within SDVAs and in your community partnerships through building practices that focus on connection\, resilience\, trauma stewardship\, and hope.
URL:https://vsdvalliance.org/event/navigating-social-impact/
LOCATION:Virtual- Zoom
CATEGORIES:General Events,Members,Training
END:VEVENT
END:VCALENDAR