BEGIN:VCALENDAR
VERSION:2.0
PRODID:-//Virginia Sexual &amp; Domestic Violence Action Alliance - ECPv6.15.20//NONSGML v1.0//EN
CALSCALE:GREGORIAN
METHOD:PUBLISH
X-ORIGINAL-URL:https://vsdvalliance.org
X-WR-CALDESC:Events for Virginia Sexual &amp; Domestic Violence Action Alliance
REFRESH-INTERVAL;VALUE=DURATION:PT1H
X-Robots-Tag:noindex
X-PUBLISHED-TTL:PT1H
BEGIN:VTIMEZONE
TZID:America/New_York
BEGIN:DAYLIGHT
TZOFFSETFROM:-0500
TZOFFSETTO:-0400
TZNAME:EDT
DTSTART:20240310T070000
END:DAYLIGHT
BEGIN:STANDARD
TZOFFSETFROM:-0400
TZOFFSETTO:-0500
TZNAME:EST
DTSTART:20241103T060000
END:STANDARD
BEGIN:DAYLIGHT
TZOFFSETFROM:-0500
TZOFFSETTO:-0400
TZNAME:EDT
DTSTART:20250309T070000
END:DAYLIGHT
BEGIN:STANDARD
TZOFFSETFROM:-0400
TZOFFSETTO:-0500
TZNAME:EST
DTSTART:20251102T060000
END:STANDARD
BEGIN:DAYLIGHT
TZOFFSETFROM:-0500
TZOFFSETTO:-0400
TZNAME:EDT
DTSTART:20260308T070000
END:DAYLIGHT
BEGIN:STANDARD
TZOFFSETFROM:-0400
TZOFFSETTO:-0500
TZNAME:EST
DTSTART:20261101T060000
END:STANDARD
END:VTIMEZONE
BEGIN:VEVENT
DTSTART;TZID=America/New_York:20250423T093000
DTEND;TZID=America/New_York:20250423T160000
DTSTAMP:20260422T113018
CREATED:20250407T175024Z
LAST-MODIFIED:20250407T175024Z
UID:14054-1745400600-1745424000@vsdvalliance.org
SUMMARY:Principles of Primary Prevention
DESCRIPTION:Primary prevention programs are focused on reducing or eliminating the first-time perpetration of sexual violence and intimate partner violence (SV/IPV). This means figuring out what factors make some people more at-risk to perpetrate SV/IPV\, and changing or interrupting those factors. This training delves into the key concepts underlying this innovative work\, highlights promising practices from the field\, and includes an overview of Virginia’s Guidelines for the Primary Prevention of Sexual Violence & Intimate Partner Violence used by sexual and domestic violence agencies throughout Virginia and across the country. \nRegistration closes on April 16th.
URL:https://vsdvalliance.org/event/principles-of-primary-prevention-4/
LOCATION:Training Center\, 1413 W. Main St.\, Richmond\, VA\, 23220
CATEGORIES:General Events,Members,Training
END:VEVENT
BEGIN:VEVENT
DTSTART;TZID=America/New_York:20250423T120000
DTEND;TZID=America/New_York:20250423T133000
DTSTAMP:20260422T113018
CREATED:20250102T200438Z
LAST-MODIFIED:20250102T200438Z
UID:13643-1745409600-1745415000@vsdvalliance.org
SUMMARY:I-CAN ECHO: Hot Topic
DESCRIPTION:Extension for Community Health Outcomes or ECHO is a virtual network. Our ECHO will provide professionals with opportunities to learn about supporting survivors of abuse with disabilities and connect with other professionals. \nOur ECHO will be held once a month on Wednesdays from 12:00-1:30 PM. Certificates of participation and CEUs are available. \n\nNovember 13: Disability Etiquette & Respect\nDecember 11: Supporting Survivors who are d/Deaf or Hard of Hearing\nJanuary 15: Best Practices Accessible Communication\nFebruary 12: Disabilities and the Criminal Justice System\nMarch 12 Brain Injury and Abuse\nApril 23: Hot Topic
URL:https://vsdvalliance.org/event/i-can-echo-hot-topic/
LOCATION:Virtual
CATEGORIES:General Events,Members
END:VEVENT
END:VCALENDAR