BEGIN:VCALENDAR
VERSION:2.0
PRODID:-//Virginia Sexual &amp; Domestic Violence Action Alliance - ECPv6.15.20//NONSGML v1.0//EN
CALSCALE:GREGORIAN
METHOD:PUBLISH
X-WR-CALNAME:Virginia Sexual &amp; Domestic Violence Action Alliance
X-ORIGINAL-URL:https://vsdvalliance.org
X-WR-CALDESC:Events for Virginia Sexual &amp; Domestic Violence Action Alliance
REFRESH-INTERVAL;VALUE=DURATION:PT1H
X-Robots-Tag:noindex
X-PUBLISHED-TTL:PT1H
BEGIN:VTIMEZONE
TZID:America/New_York
BEGIN:DAYLIGHT
TZOFFSETFROM:-0500
TZOFFSETTO:-0400
TZNAME:EDT
DTSTART:20240310T070000
END:DAYLIGHT
BEGIN:STANDARD
TZOFFSETFROM:-0400
TZOFFSETTO:-0500
TZNAME:EST
DTSTART:20241103T060000
END:STANDARD
BEGIN:DAYLIGHT
TZOFFSETFROM:-0500
TZOFFSETTO:-0400
TZNAME:EDT
DTSTART:20250309T070000
END:DAYLIGHT
BEGIN:STANDARD
TZOFFSETFROM:-0400
TZOFFSETTO:-0500
TZNAME:EST
DTSTART:20251102T060000
END:STANDARD
BEGIN:DAYLIGHT
TZOFFSETFROM:-0500
TZOFFSETTO:-0400
TZNAME:EDT
DTSTART:20260308T070000
END:DAYLIGHT
BEGIN:STANDARD
TZOFFSETFROM:-0400
TZOFFSETTO:-0500
TZNAME:EST
DTSTART:20261101T060000
END:STANDARD
END:VTIMEZONE
BEGIN:VEVENT
DTSTART;TZID=America/New_York:20250716T103000
DTEND;TZID=America/New_York:20250716T120000
DTSTAMP:20260422T100834
CREATED:20241004T145916Z
LAST-MODIFIED:20241004T145916Z
UID:13503-1752661800-1752667200@vsdvalliance.org
SUMMARY:Violence Prevention in Action ECHO
DESCRIPTION:Join our Violence Prevention in Action ECHO program to build your prevention network\, connect over challenging cases\, and stay on top of best practices in sexual and intimate partner violence primary prevention! \nProject ECHO is an international\, evidence-based model for training and peer-to-peer learning\, originally developed at the University of New Mexico for use by doctors and other medical providers. We’ve used the model since 2019 to cultivate a thriving community of preventionists from Sexual and Domestic Violence Agencies across the Commonwealth. \nFor more information about our use of the ECHO model or the structure of the session\, please visit: https://bit.ly/VPAecho.
URL:https://vsdvalliance.org/event/violence-prevention-in-action-echo-7/
LOCATION:Virtual- Zoom
CATEGORIES:General Events,Online Learning,Training
END:VEVENT
END:VCALENDAR