BEGIN:VCALENDAR
VERSION:2.0
PRODID:-//Virginia Sexual &amp; Domestic Violence Action Alliance - ECPv6.15.20//NONSGML v1.0//EN
CALSCALE:GREGORIAN
METHOD:PUBLISH
X-ORIGINAL-URL:https://vsdvalliance.org
X-WR-CALDESC:Events for Virginia Sexual &amp; Domestic Violence Action Alliance
REFRESH-INTERVAL;VALUE=DURATION:PT1H
X-Robots-Tag:noindex
X-PUBLISHED-TTL:PT1H
BEGIN:VTIMEZONE
TZID:America/New_York
BEGIN:DAYLIGHT
TZOFFSETFROM:-0500
TZOFFSETTO:-0400
TZNAME:EDT
DTSTART:20240310T070000
END:DAYLIGHT
BEGIN:STANDARD
TZOFFSETFROM:-0400
TZOFFSETTO:-0500
TZNAME:EST
DTSTART:20241103T060000
END:STANDARD
BEGIN:DAYLIGHT
TZOFFSETFROM:-0500
TZOFFSETTO:-0400
TZNAME:EDT
DTSTART:20250309T070000
END:DAYLIGHT
BEGIN:STANDARD
TZOFFSETFROM:-0400
TZOFFSETTO:-0500
TZNAME:EST
DTSTART:20251102T060000
END:STANDARD
BEGIN:DAYLIGHT
TZOFFSETFROM:-0500
TZOFFSETTO:-0400
TZNAME:EDT
DTSTART:20260308T070000
END:DAYLIGHT
BEGIN:STANDARD
TZOFFSETFROM:-0400
TZOFFSETTO:-0500
TZNAME:EST
DTSTART:20261101T060000
END:STANDARD
END:VTIMEZONE
BEGIN:VEVENT
DTSTART;VALUE=DATE:20251016
DTEND;VALUE=DATE:20251017
DTSTAMP:20260422T143115
CREATED:20250919T151530Z
LAST-MODIFIED:20250919T151530Z
UID:14770-1760572800-1760659199@vsdvalliance.org
SUMMARY:Purple Thursday
DESCRIPTION:On this day\, the third Thursday of Domestic Violence Awareness Month (DVAM)\, people are encouraged to wear purple to raise awareness and show support for survivors of domestic violence. Purple symbolizes courage\, survival\, and dedication to ending domestic violence. How you can participate: \n\nWear something purple!\nUse social media: Share your purple attire on social media with hashtags like #PurpleThursday and #DVAM.\nOrganize or Attend Events: Participate in local events or hold your own for DVAM.\nEducate Yourself and Others: Start conversations about domestic violence and the resources available for survivors.\nSupport Organizations: Donate to or volunteer with local domestic violence shelters and advocacy groups.
URL:https://vsdvalliance.org/event/purple-thursday/
END:VEVENT
END:VCALENDAR