BEGIN:VCALENDAR
VERSION:2.0
PRODID:-//Virginia Sexual &amp; Domestic Violence Action Alliance - ECPv6.15.20//NONSGML v1.0//EN
CALSCALE:GREGORIAN
METHOD:PUBLISH
X-ORIGINAL-URL:https://vsdvalliance.org
X-WR-CALDESC:Events for Virginia Sexual &amp; Domestic Violence Action Alliance
REFRESH-INTERVAL;VALUE=DURATION:PT1H
X-Robots-Tag:noindex
X-PUBLISHED-TTL:PT1H
BEGIN:VTIMEZONE
TZID:America/New_York
BEGIN:DAYLIGHT
TZOFFSETFROM:-0500
TZOFFSETTO:-0400
TZNAME:EDT
DTSTART:20200308T070000
END:DAYLIGHT
BEGIN:STANDARD
TZOFFSETFROM:-0400
TZOFFSETTO:-0500
TZNAME:EST
DTSTART:20201101T060000
END:STANDARD
BEGIN:DAYLIGHT
TZOFFSETFROM:-0500
TZOFFSETTO:-0400
TZNAME:EDT
DTSTART:20210314T070000
END:DAYLIGHT
BEGIN:STANDARD
TZOFFSETFROM:-0400
TZOFFSETTO:-0500
TZNAME:EST
DTSTART:20211107T060000
END:STANDARD
BEGIN:DAYLIGHT
TZOFFSETFROM:-0500
TZOFFSETTO:-0400
TZNAME:EDT
DTSTART:20220313T070000
END:DAYLIGHT
BEGIN:STANDARD
TZOFFSETFROM:-0400
TZOFFSETTO:-0500
TZNAME:EST
DTSTART:20221106T060000
END:STANDARD
END:VTIMEZONE
BEGIN:VEVENT
DTSTART;TZID=America/New_York:20210827T110000
DTEND;TZID=America/New_York:20210827T123000
DTSTAMP:20260420T110423
CREATED:20210519T025433Z
LAST-MODIFIED:20210519T025440Z
UID:8033-1630062000-1630067400@vsdvalliance.org
SUMMARY:Quarterly Prevention Meeting
DESCRIPTION:Content is protected.
URL:https://vsdvalliance.org/event/quarterly-prevention-meeting-4/
LOCATION:Virtual- Zoom
CATEGORIES:General Events,Members,SDVA Members Only
ORGANIZER;CN="Prevention Team":MAILTO:prevention@vsdvalliance.org
END:VEVENT
BEGIN:VEVENT
DTSTART;TZID=America/New_York:20210831T130000
DTEND;TZID=America/New_York:20210831T160000
DTSTAMP:20260420T110423
CREATED:20210616T194131Z
LAST-MODIFIED:20210616T194332Z
UID:8138-1630414800-1630425600@vsdvalliance.org
SUMMARY:Directors’ Forum: Let's Build Strong\, Healthy\, Vibrant Communities Together!
DESCRIPTION:Let’s Build Strong\, Healthy\, Vibrant Communities Together! What role do sexual and domestic violence agencies have in building strong\, healthy\, vibrant communities now and into the future? How can we as advocates activate women’s civic engagement around issues that really matter to them; issues like good schools\, access to health care\, living wages\, and equal opportunities? How can we connect those issues to the economic\, racial\, reproductive\, and gender justice that will meet the needs of survivors\, their children\, and even future generations? \nThe Action Alliance is proud to partner with Galvanize USA\, a national\, non-partisan group as we explore these questions. Galvanize works at the intersections of data science\, behavioral psychology\, and neuroscience to build long-term progress toward these goals. Galvanize’s multi-pronged approach includes values-based\, nonpartisan deep canvassing\, which uses storytelling and authentic connection to change hearts and minds. Our partnership with Galvanize fortifies the work the Action Alliance has been doing with all of you to build thriving communities. Our Building Thriving Communities initiatives focused last year on the 2020 Census\, voter registration\, and voter education; this year we’re exploring how we can build ongoing civic engagement. \nJoin us Tuesday\, August 31\, 1-4pm\, to learn why the Action Alliance is so excited about the potential for lasting\, transformative change that this kind of work could bring\, hear from Galvanize themselves about their science-based approaches\, and learn about how your agency can get involved in creating a Virginia that works for everyone! P.S. Catch a sneak peek at Galvanize’s Model for Change\, attached! Register in advance for this meeting\, here. After registering\, you will receive a confirmation email containing information about joining the meeting. \n  \nWHEN: Tuesday\, August 31\, 2021 from 1-4PM \nWHERE: Virtually\, on Zoom \nHOW MUCH: No cost \nREGISTER: Click here!
URL:https://vsdvalliance.org/event/directors-forum-lets-build-strong-healthy-vibrant-communities-together/
LOCATION:Virtual- Zoom
CATEGORIES:Members,SDVA Members Only
END:VEVENT
END:VCALENDAR