BEGIN:VCALENDAR
VERSION:2.0
PRODID:-//Virginia Sexual &amp; Domestic Violence Action Alliance - ECPv6.15.20//NONSGML v1.0//EN
CALSCALE:GREGORIAN
METHOD:PUBLISH
X-ORIGINAL-URL:https://vsdvalliance.org
X-WR-CALDESC:Events for Virginia Sexual &amp; Domestic Violence Action Alliance
REFRESH-INTERVAL;VALUE=DURATION:PT1H
X-Robots-Tag:noindex
X-PUBLISHED-TTL:PT1H
BEGIN:VTIMEZONE
TZID:America/New_York
BEGIN:DAYLIGHT
TZOFFSETFROM:-0500
TZOFFSETTO:-0400
TZNAME:EDT
DTSTART:20200308T070000
END:DAYLIGHT
BEGIN:STANDARD
TZOFFSETFROM:-0400
TZOFFSETTO:-0500
TZNAME:EST
DTSTART:20201101T060000
END:STANDARD
BEGIN:DAYLIGHT
TZOFFSETFROM:-0500
TZOFFSETTO:-0400
TZNAME:EDT
DTSTART:20210314T070000
END:DAYLIGHT
BEGIN:STANDARD
TZOFFSETFROM:-0400
TZOFFSETTO:-0500
TZNAME:EST
DTSTART:20211107T060000
END:STANDARD
BEGIN:DAYLIGHT
TZOFFSETFROM:-0500
TZOFFSETTO:-0400
TZNAME:EDT
DTSTART:20220313T070000
END:DAYLIGHT
BEGIN:STANDARD
TZOFFSETFROM:-0400
TZOFFSETTO:-0500
TZNAME:EST
DTSTART:20221106T060000
END:STANDARD
END:VTIMEZONE
BEGIN:VEVENT
DTSTART;TZID=America/New_York:20211103T100000
DTEND;TZID=America/New_York:20211103T120000
DTSTAMP:20260420T061109
CREATED:20210929T191515Z
LAST-MODIFIED:20211015T181352Z
UID:8510-1635933600-1635940800@vsdvalliance.org
SUMMARY:PREA Summit Session 2
DESCRIPTION:Want to learn more about PREA\, the Prison Rape Elimination Act\, and how it’s implemented in Virginia?  \nWant to learn more about working with incarcerated survivors\, both in juvenile facilities and adult facilities?  \nCan we expand our work to disrupt the trauma-to-prison pipeline?  \nJoin us for our virtual 2021 PREA Summit\, presented in two parts. Part 1 will be presented on October 27\, 2021 from 10 am – noon\, Part 2 will be presented on November 3\, 2021 from 10 am – noon.  \nNicole de la Torre of Just Detention International (JDI) will be our presenter for Part 1. Nicole is a Program Director at JDI and provides training and technical assistance to corrections agencies and victim advocates on preventing and responding to sexual abuse in detention.  \nPart 2 will include a speaker from the PREA Unit with the Virginia Department of Corrections along with staff from the Crisis Response Team of the Action Alliance Statewide Hotline. This day will also feature a panel of presenters who have been doing work with incarcerated juveniles and adults. Come learn ideas for supporting incarcerated survivors.  \nRegistration is available at bit.ly/preasummit  \nCost is discounted (free) for members of the Action Alliance\, for all others\, the cost is $20 for one session or $40 for both. 
URL:https://vsdvalliance.org/event/prea-summit-session-2/
LOCATION:Virtual- Zoom
CATEGORIES:General Events,Lifetime Members Only,Members,Online Learning,SDVA Members Only,Training
ATTACH;FMTTYPE=image/png:https://vsdvalliance.org/wp-content/uploads/2021/09/PREA-Summit-Banner.png
END:VEVENT
BEGIN:VEVENT
DTSTART;TZID=America/New_York:20211103T140000
DTEND;TZID=America/New_York:20211103T160000
DTSTAMP:20260420T061109
CREATED:20210303T171131Z
LAST-MODIFIED:20210303T171503Z
UID:7585-1635948000-1635955200@vsdvalliance.org
SUMMARY:Director's Forum
DESCRIPTION:Content is protected.
URL:https://vsdvalliance.org/event/directors-forum-4/
LOCATION:Virtual- Zoom
CATEGORIES:General Events,Members,SDVA Members Only
END:VEVENT
END:VCALENDAR