BEGIN:VCALENDAR
VERSION:2.0
PRODID:-//Virginia Sexual &amp; Domestic Violence Action Alliance - ECPv6.15.20//NONSGML v1.0//EN
CALSCALE:GREGORIAN
METHOD:PUBLISH
X-WR-CALNAME:Virginia Sexual &amp; Domestic Violence Action Alliance
X-ORIGINAL-URL:https://vsdvalliance.org
X-WR-CALDESC:Events for Virginia Sexual &amp; Domestic Violence Action Alliance
REFRESH-INTERVAL;VALUE=DURATION:PT1H
X-Robots-Tag:noindex
X-PUBLISHED-TTL:PT1H
BEGIN:VTIMEZONE
TZID:America/New_York
BEGIN:DAYLIGHT
TZOFFSETFROM:-0500
TZOFFSETTO:-0400
TZNAME:EDT
DTSTART:20210314T070000
END:DAYLIGHT
BEGIN:STANDARD
TZOFFSETFROM:-0400
TZOFFSETTO:-0500
TZNAME:EST
DTSTART:20211107T060000
END:STANDARD
BEGIN:DAYLIGHT
TZOFFSETFROM:-0500
TZOFFSETTO:-0400
TZNAME:EDT
DTSTART:20220313T070000
END:DAYLIGHT
BEGIN:STANDARD
TZOFFSETFROM:-0400
TZOFFSETTO:-0500
TZNAME:EST
DTSTART:20221106T060000
END:STANDARD
BEGIN:DAYLIGHT
TZOFFSETFROM:-0500
TZOFFSETTO:-0400
TZNAME:EDT
DTSTART:20230312T070000
END:DAYLIGHT
BEGIN:STANDARD
TZOFFSETFROM:-0400
TZOFFSETTO:-0500
TZNAME:EST
DTSTART:20231105T060000
END:STANDARD
END:VTIMEZONE
BEGIN:VEVENT
DTSTART;TZID=America/New_York:20220601T100000
DTEND;TZID=America/New_York:20220601T150000
DTSTAMP:20260419T191003
CREATED:20220222T191349Z
LAST-MODIFIED:20220222T191411Z
UID:9038-1654077600-1654095600@vsdvalliance.org
SUMMARY:Creating a Culture of Wellness: Reproductive Health
DESCRIPTION:This training is open to advocates\, reproductive health providers\, and clinic staff. Through this training\, participants will become familiar with the dynamics of sexual and reproductive coercion and learn the value of taking a trauma-informed\, universal education approach to interactions with clients and patients. Participants will increase comfort and general understanding of reproductive health services available to survivors of sexual and intimate partner violence and walk away with an understanding of the importance of building partnerships between sexual and domestic violence agencies and reproductive health providers.
URL:https://vsdvalliance.org/event/creating-a-culture-of-wellness-reproductive-health-2/
LOCATION:Virtual- Zoom
CATEGORIES:General Events,Lifetime Members Only,Members,Online Learning,SDVA Members Only,Training
ORGANIZER;CN="Prevention Team":MAILTO:prevention@vsdvalliance.org
END:VEVENT
BEGIN:VEVENT
DTSTART;TZID=America/New_York:20220609T100000
DTEND;TZID=America/New_York:20220609T120000
DTSTAMP:20260419T191003
CREATED:20220428T183801Z
LAST-MODIFIED:20220526T210806Z
UID:9270-1654768800-1654776000@vsdvalliance.org
SUMMARY:Statewide State and Local Partners Meeting / Reunión Estatal de Socios Estatales y Locales
DESCRIPTION:Join us on Thursday\, June 9th from 10 am-12 pm for the first of our statewide 2022 State and Local Partners meetings! \nThis invitation is open to advocates\, preventionists\, and other partners serving survivors and/or supporting community education on healthy relationships. We will continue to hold virtual gatherings until we can be together safely again. Distance will not stop us from holding space to share resources\, information\, advice\, concerns\, and/or successes! \nOur time together will include: \n-Welcome & introductions\n-A presentation from Regina Chaney\, Senior Community and Engagement Specialist with HOME of VA\, on Fair Housing Rights\n-Discussion on the intersections between fair housing and SV/IPV\n-Agency updates\n-Closing \nFor more information\, please email us at training@vsdvalliance.org. \n————————————————————————————\n¡Reúnase con nosotres el jueves 9 de junio de 10 a.m. a 12 p.m. para la primera de nuestras reuniones estatales del 2022! \nEsta invitación está abierta a defensores\, prevencionistas y otres socies que sirven a sobrevivientes y / o apoyan la educación comunitaria sobre relaciones saludables en el norte de Virginia. Continuaremos ofreciendo estas reuniones virtualmente hasta que podamos estar juntes de nuevo en persona. ¡La distancia no nos impedirá mantener un espacio para compartir recursos\, información\, consejos\, inquietudes y / o éxitos! \nNuestro tiempo juntes incluirá: \n-Bienvenida e introducciones\n-Exposición sobre los Derechos de Vivienda Justa y discriminación en la vivienda\, hecho por Regina Chaney\, Especialista superior de vinculación con la comunidad\, HOME de VA\n-Discusión sobre las intersecciones entre la equidad en la vivienda y la violencia de género\n-Actualizaciones de las agencias\n-Cierre \nPara obtener más información\, envíenos un correo electrónico a training@vsdvalliance.org.
URL:https://vsdvalliance.org/event/statewide-state-and-local-partners-meeting-reunion-estatal-de-socios-estatales-y-locales/
LOCATION:Virtual
CATEGORIES:General Events,Lifetime Members Only,Members,SDVA Members Only,Training
END:VEVENT
BEGIN:VEVENT
DTSTART;TZID=America/New_York:20220609T103000
DTEND;TZID=America/New_York:20220609T120000
DTSTAMP:20260419T191003
CREATED:20220428T190007Z
LAST-MODIFIED:20220428T190007Z
UID:9275-1654770600-1654776000@vsdvalliance.org
SUMMARY:ECHO@edu: Campus Violence Prevention
DESCRIPTION:In this ECHO program\, staff at colleges\, universities\, and community colleges are invited to present challenging cases to each other\, gather feedback and recommendations\, and discuss new developments and best practices for primary prevention and peer educator programs. This isn’t another passive webinar! We use Zoom so that you can see each other and communicate in real-time. Come prepared to ask questions\, make recommendations\, and connect with other campus professionals and students across Virginia. \nWHERE: Virtual \nDATE: June 9\, 10:30 am – 12:00 PM \nCOST: Free \nRegister: https://bit.ly/echoedu \nFor more information or for further questions\, please reach out to training@vsdvalliance.org
URL:https://vsdvalliance.org/event/echoedu-campus-violence-prevention/
CATEGORIES:General Events,Members,SDVA Members Only,Training
END:VEVENT
BEGIN:VEVENT
DTSTART;TZID=America/New_York:20220609T140000
DTEND;TZID=America/New_York:20220609T160000
DTSTAMP:20260419T191003
CREATED:20220428T190905Z
LAST-MODIFIED:20220428T190905Z
UID:9279-1654783200-1654790400@vsdvalliance.org
SUMMARY:Directors' Forum- Values Based Messaging for Impact
DESCRIPTION:Directors’ Forum \nValues-Based Messaging for Impact \nThursday\, June 9\, 2022 \n2pm-4pm \nWe’ve all seen the explosion of bills in other states as well as in Virginia that scapegoat communities (e.g. anti-immigrant and “don’t say gay” bills)\, limit access to reproductive health options\, and bring forth a host of other outcomes that negatively impact survivors of sexual and domestic violence. \nThe work to end violence and the work to end oppression are one in the same; our work is by its very nature political and requires us to confront policies and messaging that promote division\, violence\, and oppression. \nAt the June 2022 Directors’ Forum\, the Action Alliance would like to introduce a proven messaging and organizing framework that counters divide and conquer politics and advances a worldview in which all of us thrive by weaving together race and class in its messaging. The Race Class Narrative builds cross-racial solidarity and promotes policies and approaches that serve us all and link shared economic prosperity directly to racial justice. Research consistently shows that speaking affirmatively about race strengthens our ability to mobilize people who care about our issues while challenging and undermining messages that feed on and stoke fear\, xenophobia\, and resentment. \nWe think that we can apply this framework to issues that impact survivors\, weaving gender-based violence prevention into the proven race class narrative messaging structure. We can both persuade and win hearts and minds when we employ messaging frameworks that work!
URL:https://vsdvalliance.org/event/directors-forum-values-based-messaging-for-impact/
LOCATION:Virtual
CATEGORIES:Members,SDVA Members Only
END:VEVENT
END:VCALENDAR