BEGIN:VCALENDAR
VERSION:2.0
PRODID:-//Virginia Sexual &amp; Domestic Violence Action Alliance - ECPv6.15.20//NONSGML v1.0//EN
CALSCALE:GREGORIAN
METHOD:PUBLISH
X-ORIGINAL-URL:https://vsdvalliance.org
X-WR-CALDESC:Events for Virginia Sexual &amp; Domestic Violence Action Alliance
REFRESH-INTERVAL;VALUE=DURATION:PT1H
X-Robots-Tag:noindex
X-PUBLISHED-TTL:PT1H
BEGIN:VTIMEZONE
TZID:America/New_York
BEGIN:DAYLIGHT
TZOFFSETFROM:-0500
TZOFFSETTO:-0400
TZNAME:EDT
DTSTART:20210314T070000
END:DAYLIGHT
BEGIN:STANDARD
TZOFFSETFROM:-0400
TZOFFSETTO:-0500
TZNAME:EST
DTSTART:20211107T060000
END:STANDARD
BEGIN:DAYLIGHT
TZOFFSETFROM:-0500
TZOFFSETTO:-0400
TZNAME:EDT
DTSTART:20220313T070000
END:DAYLIGHT
BEGIN:STANDARD
TZOFFSETFROM:-0400
TZOFFSETTO:-0500
TZNAME:EST
DTSTART:20221106T060000
END:STANDARD
BEGIN:DAYLIGHT
TZOFFSETFROM:-0500
TZOFFSETTO:-0400
TZNAME:EDT
DTSTART:20230312T070000
END:DAYLIGHT
BEGIN:STANDARD
TZOFFSETFROM:-0400
TZOFFSETTO:-0500
TZNAME:EST
DTSTART:20231105T060000
END:STANDARD
END:VTIMEZONE
BEGIN:VEVENT
DTSTART;TZID=America/New_York:20221129T140000
DTEND;TZID=America/New_York:20221129T160000
DTSTAMP:20260419T121241
CREATED:20221028T150715Z
LAST-MODIFIED:20221102T162125Z
UID:9984-1669730400-1669737600@vsdvalliance.org
SUMMARY:The Intersection of Firearms and Intimate Partner Violence
DESCRIPTION:Did you know that 60% of intimate partner homicide victims are killed with firearms?  \nJoin the Action Alliance as we present a training session on The Intersection of Firearms and Intimate Partner Violence. The Action Alliance will be presenting our Firearms Toolkit which is intended to provide you with a starting place. Attendees will leave this training with a better understanding on Virginia Law and Firearms Restrictions and will also be able to take back recommendations and best practices in working with survivors and your community.  \nThe Action Alliance supports policies to remove firearms from potentially lethal situations and give law enforcement officers\, prosecutors\, and courts tools to protect victims\, their families\, and the broader community. 
URL:https://vsdvalliance.org/event/firearms-and-the-intersection-with-ipv/
LOCATION:Virtual
CATEGORIES:General Events,SDVA Members Only,Training
END:VEVENT
END:VCALENDAR