BEGIN:VCALENDAR
VERSION:2.0
PRODID:-//Virginia Sexual &amp; Domestic Violence Action Alliance - ECPv6.15.20//NONSGML v1.0//EN
CALSCALE:GREGORIAN
METHOD:PUBLISH
X-WR-CALNAME:Virginia Sexual &amp; Domestic Violence Action Alliance
X-ORIGINAL-URL:https://vsdvalliance.org
X-WR-CALDESC:Events for Virginia Sexual &amp; Domestic Violence Action Alliance
REFRESH-INTERVAL;VALUE=DURATION:PT1H
X-Robots-Tag:noindex
X-PUBLISHED-TTL:PT1H
BEGIN:VTIMEZONE
TZID:America/New_York
BEGIN:DAYLIGHT
TZOFFSETFROM:-0500
TZOFFSETTO:-0400
TZNAME:EDT
DTSTART:20200308T070000
END:DAYLIGHT
BEGIN:STANDARD
TZOFFSETFROM:-0400
TZOFFSETTO:-0500
TZNAME:EST
DTSTART:20201101T060000
END:STANDARD
BEGIN:DAYLIGHT
TZOFFSETFROM:-0500
TZOFFSETTO:-0400
TZNAME:EDT
DTSTART:20210314T070000
END:DAYLIGHT
BEGIN:STANDARD
TZOFFSETFROM:-0400
TZOFFSETTO:-0500
TZNAME:EST
DTSTART:20211107T060000
END:STANDARD
BEGIN:DAYLIGHT
TZOFFSETFROM:-0500
TZOFFSETTO:-0400
TZNAME:EDT
DTSTART:20220313T070000
END:DAYLIGHT
BEGIN:STANDARD
TZOFFSETFROM:-0400
TZOFFSETTO:-0500
TZNAME:EST
DTSTART:20221106T060000
END:STANDARD
END:VTIMEZONE
BEGIN:VEVENT
DTSTART;TZID=America/New_York:20210730T110000
DTEND;TZID=America/New_York:20210730T123000
DTSTAMP:20260420T141232
CREATED:20210624T224648Z
LAST-MODIFIED:20210624T224743Z
UID:8184-1627642800-1627648200@vsdvalliance.org
SUMMARY:Honeycomb 2021 Opening Keynote
DESCRIPTION:What’s the Honeycomb Retreat?\nThe Honeycomb is a free and online arts and creative expression-based retreat for young advocates\, activists\, & movement builders ages 18-24 throughout the state of Virginia. Organized by the Virginia Sexual & Domestic Violence Action Alliance\, The Honeycomb Retreat will be held over the course of 3 weekends (July 30-August 1\, August 7-8\, and August 13-15). Fellows will participate in two Keynote sessions\, political education workshops\, and art-making sessions. \nAbout the Opening Keynote\nThis keynote\, while centering our youth participants\, is open to all of our members and local sexual and domestic violence agencies. The keynote will focus on building towards futures free from violence that also touches on the power of youth organizing/leadership and how we can bring creativity\, arts\, and healing into this work. \n  \nWHEN: Friday\, July 30th\, 2021 \nWHERE: Virtually\, via Zoom \nREGISTER: To register\, click here.
URL:https://vsdvalliance.org/event/honeycomb-2021-opening-keynote/
LOCATION:Virtual- Zoom
CATEGORIES:General Events,Lifetime Members Only,Members,SDVA Members Only
END:VEVENT
END:VCALENDAR