BEGIN:VCALENDAR
VERSION:2.0
PRODID:-//Virginia Sexual &amp; Domestic Violence Action Alliance - ECPv6.15.20//NONSGML v1.0//EN
CALSCALE:GREGORIAN
METHOD:PUBLISH
X-ORIGINAL-URL:https://vsdvalliance.org
X-WR-CALDESC:Events for Virginia Sexual &amp; Domestic Violence Action Alliance
REFRESH-INTERVAL;VALUE=DURATION:PT1H
X-Robots-Tag:noindex
X-PUBLISHED-TTL:PT1H
BEGIN:VTIMEZONE
TZID:America/New_York
BEGIN:DAYLIGHT
TZOFFSETFROM:-0500
TZOFFSETTO:-0400
TZNAME:EDT
DTSTART:20200308T070000
END:DAYLIGHT
BEGIN:STANDARD
TZOFFSETFROM:-0400
TZOFFSETTO:-0500
TZNAME:EST
DTSTART:20201101T060000
END:STANDARD
BEGIN:DAYLIGHT
TZOFFSETFROM:-0500
TZOFFSETTO:-0400
TZNAME:EDT
DTSTART:20210314T070000
END:DAYLIGHT
BEGIN:STANDARD
TZOFFSETFROM:-0400
TZOFFSETTO:-0500
TZNAME:EST
DTSTART:20211107T060000
END:STANDARD
BEGIN:DAYLIGHT
TZOFFSETFROM:-0500
TZOFFSETTO:-0400
TZNAME:EDT
DTSTART:20220313T070000
END:DAYLIGHT
BEGIN:STANDARD
TZOFFSETFROM:-0400
TZOFFSETTO:-0500
TZNAME:EST
DTSTART:20221106T060000
END:STANDARD
END:VTIMEZONE
BEGIN:VEVENT
DTSTART;TZID=America/New_York:20210706T150000
DTEND;TZID=America/New_York:20210706T160000
DTSTAMP:20260420T160948
CREATED:20210121T165121Z
LAST-MODIFIED:20210121T165121Z
UID:7291-1625583600-1625587200@vsdvalliance.org
SUMMARY:Virtual Training Modules Office Hours
DESCRIPTION:We hold monthly Office Hours each month for participants in each of our three virtual training modules: Principles of Primary Prevention\, Advocacy Core Training\, and Trauma\, Justice\, and Oppression. These Office Hours are a space for participants to connect with each other and a technical assistance (TA) provider/trainer from the Action Alliance staff and Training Institute Faculty. Attending at least one Office Hour session is required to receive your course completion certificate. You may use this time to ask questions\, get new resources\, and discuss the material. \nWHEN: The first Tuesday of the month from 3-4pm EST \nWHERE: Virtually\, on Zoom \nREGISTER: To register for Office Hours\, click here. To sign up for our Virtual Training Modules\, click here.
URL:https://vsdvalliance.org/event/virtual-training-modules-office-hours-6/
LOCATION:VA
CATEGORIES:Online Learning,Training
END:VEVENT
BEGIN:VEVENT
DTSTART;TZID=America/New_York:20210714T103000
DTEND;TZID=America/New_York:20210714T120000
DTSTAMP:20260420T160948
CREATED:20201214T214417Z
LAST-MODIFIED:20201214T214417Z
UID:7116-1626258600-1626264000@vsdvalliance.org
SUMMARY:Violence Prevention in Action ECHO Clinic
DESCRIPTION:Hosted once per quarter and primarily open to prevention staff at SDVAs. Project ECHO is an international model for training and peer-to-peer learning that was originally developed for use by doctors and other medical providers\, and we’ve adapted it for sexual & intimate partner violence prevention. This virtual learning space is the most structured of our Zooms\, more like a highly interactive webinar or brainstorming session where everyone participates in real time. Each ECHO Clinic includes a case presentation from a local preventionist and a brief training component related to best practices. Come prepared to ask questions\, make recommendations\, and connect with other prevention staff across Virginia.\n\nClick here to register!
URL:https://vsdvalliance.org/event/violence-prevention-in-action-echo-clinic-3/
LOCATION:VA
CATEGORIES:General Events,Online Learning,Training
ATTACH;FMTTYPE=image/jpeg:https://vsdvalliance.org/wp-content/uploads/2020/12/Action-Alliance-Logo.jpg
END:VEVENT
BEGIN:VEVENT
DTSTART;VALUE=DATE:20210730
DTEND;VALUE=DATE:20210802
DTSTAMP:20260420T160948
CREATED:20210429T165346Z
LAST-MODIFIED:20210429T165628Z
UID:7955-1627603200-1627862399@vsdvalliance.org
SUMMARY:Honeycomb Retreat 2021
DESCRIPTION:The Honeycomb Retreat is a free and online arts and creative expression-based retreat for young advocates\, activists\, & movement builders ages 18-24 throughout the state of Virginia. Organized by the Virginia Sexual & Domestic Violence Action Alliance\, The Honeycomb Retreat will be held over the course of 3 weekends (July 30-August 1\, August 7-8\, and August 13-15). Fellows will participate in two Keynote sessions\, political education workshops\, and art-making sessions. \nThe 2021 Honeycomb Retreat will be held entirely online through Zoom. \nKeynote sessions will have closed captioning\, ASL interpretation\, and Spanish-Language interpretation\, and graphic recording. Workshop sessions will have closed captioning and additional accessibility support based on fellow needs. \nLearn more about Honeycomb Retreat 2021\, including how to apply\, here.
URL:https://vsdvalliance.org/event/honeycomb-2021/
LOCATION:Virtual- Zoom
CATEGORIES:General Events,Members,Training
ORGANIZER;CN="Prevention Team":MAILTO:prevention@vsdvalliance.org
END:VEVENT
END:VCALENDAR