BEGIN:VCALENDAR
VERSION:2.0
PRODID:-//Virginia Sexual &amp; Domestic Violence Action Alliance - ECPv6.15.20//NONSGML v1.0//EN
CALSCALE:GREGORIAN
METHOD:PUBLISH
X-ORIGINAL-URL:https://vsdvalliance.org
X-WR-CALDESC:Events for Virginia Sexual &amp; Domestic Violence Action Alliance
REFRESH-INTERVAL;VALUE=DURATION:PT1H
X-Robots-Tag:noindex
X-PUBLISHED-TTL:PT1H
BEGIN:VTIMEZONE
TZID:America/New_York
BEGIN:DAYLIGHT
TZOFFSETFROM:-0500
TZOFFSETTO:-0400
TZNAME:EDT
DTSTART:20200308T070000
END:DAYLIGHT
BEGIN:STANDARD
TZOFFSETFROM:-0400
TZOFFSETTO:-0500
TZNAME:EST
DTSTART:20201101T060000
END:STANDARD
BEGIN:DAYLIGHT
TZOFFSETFROM:-0500
TZOFFSETTO:-0400
TZNAME:EDT
DTSTART:20210314T070000
END:DAYLIGHT
BEGIN:STANDARD
TZOFFSETFROM:-0400
TZOFFSETTO:-0500
TZNAME:EST
DTSTART:20211107T060000
END:STANDARD
BEGIN:DAYLIGHT
TZOFFSETFROM:-0500
TZOFFSETTO:-0400
TZNAME:EDT
DTSTART:20220313T070000
END:DAYLIGHT
BEGIN:STANDARD
TZOFFSETFROM:-0400
TZOFFSETTO:-0500
TZNAME:EST
DTSTART:20221106T060000
END:STANDARD
END:VTIMEZONE
BEGIN:VEVENT
DTSTART;VALUE=DATE:20210730
DTEND;VALUE=DATE:20210802
DTSTAMP:20260420T142747
CREATED:20210429T165346Z
LAST-MODIFIED:20210429T165628Z
UID:7955-1627603200-1627862399@vsdvalliance.org
SUMMARY:Honeycomb Retreat 2021
DESCRIPTION:The Honeycomb Retreat is a free and online arts and creative expression-based retreat for young advocates\, activists\, & movement builders ages 18-24 throughout the state of Virginia. Organized by the Virginia Sexual & Domestic Violence Action Alliance\, The Honeycomb Retreat will be held over the course of 3 weekends (July 30-August 1\, August 7-8\, and August 13-15). Fellows will participate in two Keynote sessions\, political education workshops\, and art-making sessions. \nThe 2021 Honeycomb Retreat will be held entirely online through Zoom. \nKeynote sessions will have closed captioning\, ASL interpretation\, and Spanish-Language interpretation\, and graphic recording. Workshop sessions will have closed captioning and additional accessibility support based on fellow needs. \nLearn more about Honeycomb Retreat 2021\, including how to apply\, here.
URL:https://vsdvalliance.org/event/honeycomb-2021/
LOCATION:Virtual- Zoom
CATEGORIES:General Events,Members,Training
ORGANIZER;CN="Prevention Team":MAILTO:prevention@vsdvalliance.org
END:VEVENT
BEGIN:VEVENT
DTSTART;TZID=America/New_York:20210803T150000
DTEND;TZID=America/New_York:20210803T160000
DTSTAMP:20260420T142747
CREATED:20210121T165645Z
LAST-MODIFIED:20210121T165645Z
UID:7295-1628002800-1628006400@vsdvalliance.org
SUMMARY:Virtual Training Modules Office Hours
DESCRIPTION:We hold monthly Office Hours each month for participants in each of our three virtual training modules: Principles of Primary Prevention\, Advocacy Core Training\, and Trauma\, Justice\, and Oppression. These Office Hours are a space for participants to connect with each other and a technical assistance (TA) provider/trainer from the Action Alliance staff and Training Institute Faculty. Attending at least one Office Hour session is required to receive your course completion certificate. You may use this time to ask questions\, get new resources\, and discuss the material. \nWHEN: The first Tuesday of the month from 3-4pm EST \nWHERE: Virtually\, on Zoom \nREGISTER: To register for Office Hours\, click here. To sign up for our Virtual Training Modules\, click here.
URL:https://vsdvalliance.org/event/virtual-training-modules-office-hours-7/
LOCATION:VA
CATEGORIES:Online Learning,Training
END:VEVENT
BEGIN:VEVENT
DTSTART;TZID=America/New_York:20210804T130000
DTEND;TZID=America/New_York:20210804T150000
DTSTAMP:20260420T142747
CREATED:20210316T164119Z
LAST-MODIFIED:20210726T181607Z
UID:7638-1628082000-1628089200@vsdvalliance.org
SUMMARY:Intention-based Graphic Design
DESCRIPTION:The stories we tell through graphic design show our community who we are and what we value most. Our designs are often a first impression and set the tone for the relationships we’ll cultivate and the audiences we reach. Your graphic design can tell a story that captures your mission and values with intention. Throughout this two-part series\, we‘ll walk you through best practices\, tools\, and resources to help you do just that. You’ll even have an opportunity to put these new skills into practice.\n\n\nThis two-part training aims to highlight best practices in marketing and graphic design for sexual and domestic violence agencies. Day 1 (August 4) will focus on ensuring promotional materials are accessible in terms of visibility\, readability\, legibility\, and more. Day 2 (August 11) will highlight do’s and don’t’s for how to create materials that are trauma-informed and empowering. \nClick here to register.
URL:https://vsdvalliance.org/event/trauma-informed-and-accessible-design/
LOCATION:Virtual- Zoom
CATEGORIES:General Events,Members,Online Learning,Training
END:VEVENT
BEGIN:VEVENT
DTSTART;VALUE=DATE:20210807
DTEND;VALUE=DATE:20210809
DTSTAMP:20260420T142747
CREATED:20210429T165447Z
LAST-MODIFIED:20210429T165447Z
UID:7957-1628294400-1628467199@vsdvalliance.org
SUMMARY:Honeycomb Retreat 2021
DESCRIPTION:The Honeycomb Retreat is a free and online arts and creative expression-based retreat for young advocates\, activists\, & movement builders ages 18-24 throughout the state of Virginia. Organized by the Virginia Sexual & Domestic Violence Action Alliance\, The Honeycomb Retreat will be held over the course of 3 weekends (July 30-August 1\, August 7-8\, and August 13-15). Fellows will participate in two Keynote sessions\, political education workshops\, and art-making sessions. \nThe 2021 Honeycomb Retreat will be held entirely online through Zoom. \nKeynote sessions will have closed captioning\, ASL interpretation\, and Spanish-Language interpretation\, and graphic recording. Workshop sessions will have closed captioning and additional accessibility support based on fellow needs. \nLearn more about Honeycomb Retreat 2021\, including how to apply\, here.
URL:https://vsdvalliance.org/event/honeycomb-retreat-2021/
LOCATION:Virtual- Zoom
CATEGORIES:General Events,Members,Training
ORGANIZER;CN="Prevention Team":MAILTO:prevention@vsdvalliance.org
END:VEVENT
BEGIN:VEVENT
DTSTART;TZID=America/New_York:20210810T130000
DTEND;TZID=America/New_York:20210810T150000
DTSTAMP:20260420T142747
CREATED:20210728T144310Z
LAST-MODIFIED:20210728T144341Z
UID:8349-1628600400-1628607600@vsdvalliance.org
SUMMARY:State and Local Partners Meeting
DESCRIPTION:Content is protected.
URL:https://vsdvalliance.org/event/state-and-local-partners-meeting-5/
LOCATION:Virtual- Zoom
CATEGORIES:General Events,Members,Online Learning,Training
END:VEVENT
BEGIN:VEVENT
DTSTART;TZID=America/New_York:20210811T130000
DTEND;TZID=America/New_York:20210811T150000
DTSTAMP:20260420T142747
CREATED:20210316T164213Z
LAST-MODIFIED:20211217T144547Z
UID:7640-1628686800-1628694000@vsdvalliance.org
SUMMARY:Intention-based Graphic Design
DESCRIPTION:The stories we tell through graphic design show our community who we are and what we value most. Our designs are often a first impression and set the tone for the relationships we’ll cultivate and the audiences we reach. Your graphic design can tell a story that captures your mission and values with intention. Throughout this two-part series\, we‘ll walk you through best practices\, tools\, and resources to help you do just that. You’ll even have an opportunity to put these new skills into practice.\n\n\nThis two-part training aims to highlight best practices in marketing and graphic design for sexual and domestic violence agencies. Day 1 (August 17) will focus on ensuring promotional materials are accessible in terms of visibility\, readability\, legibility\, and more. Day 2 (August 24) will highlight do’s and don’t’s for how to create materials that are trauma-informed and empowering. \nClick here to register.
URL:https://vsdvalliance.org/event/trauma-informed-and-accessible-design-2/
LOCATION:Virtual- Zoom
CATEGORIES:General Events,Members,Online Learning,Training
END:VEVENT
BEGIN:VEVENT
DTSTART;VALUE=DATE:20210813
DTEND;VALUE=DATE:20210816
DTSTAMP:20260420T142747
CREATED:20210429T165544Z
LAST-MODIFIED:20210429T165544Z
UID:7959-1628812800-1629071999@vsdvalliance.org
SUMMARY:Honeycomb Retreat 2021
DESCRIPTION:The Honeycomb Retreat is a free and online arts and creative expression-based retreat for young advocates\, activists\, & movement builders ages 18-24 throughout the state of Virginia. Organized by the Virginia Sexual & Domestic Violence Action Alliance\, The Honeycomb Retreat will be held over the course of 3 weekends (July 30-August 1\, August 7-8\, and August 13-15). Fellows will participate in two Keynote sessions\, political education workshops\, and art-making sessions. \nThe 2021 Honeycomb Retreat will be held entirely online through Zoom. \nKeynote sessions will have closed captioning\, ASL interpretation\, and Spanish-Language interpretation\, and graphic recording. Workshop sessions will have closed captioning and additional accessibility support based on fellow needs. \nLearn more about Honeycomb Retreat 2021\, including how to apply\, here.
URL:https://vsdvalliance.org/event/honeycomb-retreat-2021-2/
LOCATION:Virtual- Zoom
CATEGORIES:General Events,Members,Training
ORGANIZER;CN="Prevention Team":MAILTO:prevention@vsdvalliance.org
END:VEVENT
BEGIN:VEVENT
DTSTART;TZID=America/New_York:20210813T110000
DTEND;TZID=America/New_York:20210813T123000
DTSTAMP:20260420T142747
CREATED:20210810T020207Z
LAST-MODIFIED:20210810T020207Z
UID:8376-1628852400-1628857800@vsdvalliance.org
SUMMARY:Honeycomb Retreat 2021 Closing Keynote
DESCRIPTION:About the Keynote: This keynote will focus on building towards futures free from violence that also touches on the power of youth organizing/leadership and how we can bring creativity\, arts\, and healing into this work. Leading our keynote will be Je’Kendria Trahan\, facilitator\, healer\, artist\, community organizer\, and executive director at Collective Action for Safe Spaces DC. \nAbout the Honeycomb Retreat: The Honeycomb is a free and online arts and creative expression-based retreat for young advocates\, activists\, & movement builders ages 18-24 throughout the state of Virginia. Organized by the Virginia Sexual & Domestic Violence Action Alliance\, The Honeycomb Retreat will be held over the course of 3 weekends (July 30-August 1\, August 7-8\, and August 13-15). Fellows will participate in two Keynote sessions\, political education workshops\, and art-making sessions. \nThis event is open to the public and intended for all audiences. \nClick here for the registration form.
URL:https://vsdvalliance.org/event/honeycomb-retreat-2021-closing-keynote/
LOCATION:Virtual- Zoom
CATEGORIES:General Events,Members,Training
ATTACH;FMTTYPE=image/png:https://vsdvalliance.org/wp-content/uploads/2021/08/honeycomb-retreat-2021-closing-keynote.png
ORGANIZER;CN="Prevention Team":MAILTO:prevention@vsdvalliance.org
END:VEVENT
BEGIN:VEVENT
DTSTART;TZID=America/New_York:20210826T100000
DTEND;TZID=America/New_York:20210826T120000
DTSTAMP:20260420T142747
CREATED:20210625T011109Z
LAST-MODIFIED:20210625T011109Z
UID:8136-1629972000-1629979200@vsdvalliance.org
SUMMARY:Attachment Theory in Action: Building Resilience Between Caregivers and Children
DESCRIPTION:Building Resilience Between Caregivers and Children is a workshop for advocates and preventionists alike. The workshop will connect the dots between attachment theory and programs and services to build resilience between caregivers and children. Attachment theory describes how the bond between caregivers and children influences relationships in the present as well as the future. Participants will explore practical methods to apply attachment theory in advocacy and prevention; how attachment theory relates to the trauma-informed approach; firsthand experiences with application of attachment theory; and other resources that can support advocates and preventionists to build resilience between children and caregivers in community or in shelter.  \n  \nAbout Deanna Lavery:  \nDeanna Lavery\, MSW has worked with families who have experienced trauma for over 15 years. She began her career as a home visitor doing early intervention with infants and toddlers with special needs that was a firsthand introduction to how early support for families with young children can change a family’s entire trajectory. A preventionist and advocate before she knew what those words meant\, she went on to be a family therapist and advocate for young people involved in the courts and Child Protective Services\, a therapeutic day treatment counselor in middle school for young people with trauma-symptoms and a fair housing advocate. For the past 5 years\, Deanna has worked as the Child and Family Resilience Coordinator for an intimate partner violence shelter and community services in rural Virginia–developing programs and engaging families at the intersection between prevention and intervention.  Deanna also works as a family therapist for families who have experienced severe attachment trauma and is trained and supervised in the Circle of Security protocol.  Deanna believes that an understanding and application of Attachment and trauma-responsive programming is the key to both prevent violence and build resilient families who have been impacted by violence and is excited to connect with you around her passions.  \n  \nWHEN: August 26\, 2021\, 10am to 12pm \nWHERE: Virtually\, on Zoom \nHOW MUCH: No cost \nREGISTER: Click here!
URL:https://vsdvalliance.org/event/attachment-theory-in-action-building-resilience-between-caregivers-and-children/
LOCATION:Virtual- Zoom
CATEGORIES:General Events,Members,Training
ORGANIZER;CN="Prevention Team":MAILTO:prevention@vsdvalliance.org
END:VEVENT
END:VCALENDAR