BEGIN:VCALENDAR
VERSION:2.0
PRODID:-//Virginia Sexual &amp; Domestic Violence Action Alliance - ECPv6.15.20//NONSGML v1.0//EN
CALSCALE:GREGORIAN
METHOD:PUBLISH
X-ORIGINAL-URL:https://vsdvalliance.org
X-WR-CALDESC:Events for Virginia Sexual &amp; Domestic Violence Action Alliance
REFRESH-INTERVAL;VALUE=DURATION:PT1H
X-Robots-Tag:noindex
X-PUBLISHED-TTL:PT1H
BEGIN:VTIMEZONE
TZID:America/New_York
BEGIN:DAYLIGHT
TZOFFSETFROM:-0500
TZOFFSETTO:-0400
TZNAME:EDT
DTSTART:20210314T070000
END:DAYLIGHT
BEGIN:STANDARD
TZOFFSETFROM:-0400
TZOFFSETTO:-0500
TZNAME:EST
DTSTART:20211107T060000
END:STANDARD
BEGIN:DAYLIGHT
TZOFFSETFROM:-0500
TZOFFSETTO:-0400
TZNAME:EDT
DTSTART:20220313T070000
END:DAYLIGHT
BEGIN:STANDARD
TZOFFSETFROM:-0400
TZOFFSETTO:-0500
TZNAME:EST
DTSTART:20221106T060000
END:STANDARD
BEGIN:DAYLIGHT
TZOFFSETFROM:-0500
TZOFFSETTO:-0400
TZNAME:EDT
DTSTART:20230312T070000
END:DAYLIGHT
BEGIN:STANDARD
TZOFFSETFROM:-0400
TZOFFSETTO:-0500
TZNAME:EST
DTSTART:20231105T060000
END:STANDARD
END:VTIMEZONE
BEGIN:VEVENT
DTSTART;TZID=America/New_York:20220202T080000
DTEND;TZID=America/New_York:20220202T150000
DTSTAMP:20260418T190953
CREATED:20220110T212517Z
LAST-MODIFIED:20220110T212545Z
UID:8852-1643788800-1643814000@vsdvalliance.org
SUMMARY:Legislative Advocacy Day
DESCRIPTION:Join us in person or virtually for our annual Legislative Advocacy Day! It’s always an amazing experience to see survivors\, advocates\, and movement partners roaming the (virtual and physical) halls of the General Assembly\, lifting the voices of survivors and advocating for policies that seek to respond to and prevent violence in our communities. \n  \nClick here to register and find out more information: https://bit.ly/vsdvaLAD2022
URL:https://vsdvalliance.org/event/legislative-advocacy-day/
LOCATION:VA
CATEGORIES:General Events,Lifetime Members Only,Members,Online Learning,SDVA Members Only,Training
ATTACH;FMTTYPE=image/png:https://vsdvalliance.org/wp-content/uploads/2022/01/LAD-2022-Email-Signature-2.png
END:VEVENT
BEGIN:VEVENT
DTSTART;TZID=America/New_York:20220210T103000
DTEND;TZID=America/New_York:20220210T120000
DTSTAMP:20260418T190953
CREATED:20220110T203049Z
LAST-MODIFIED:20220125T180601Z
UID:8845-1644489000-1644494400@vsdvalliance.org
SUMMARY:ECHO@edu: Campus Violence Prevention
DESCRIPTION:Project ECHO uses Zoom\, the teleconferencing software\, to connect professionals from multiple locations to present challenging cases to each other\, gather feedback and recommendations\, and to discuss new developments and best practices. The structure of each ECHO Clinic is an integral component of the ECHO model. This isn’t another passive webinar! We use Zoom so that you can see each other and communicate in real-time. Come prepared to ask questions\, make recommendations\, and connect with other preventionists across Virginia.
URL:https://vsdvalliance.org/event/campus-echo/
LOCATION:Virtual- Zoom
CATEGORIES:General Events,Members,Online Learning,Training
END:VEVENT
BEGIN:VEVENT
DTSTART;TZID=America/New_York:20220218T110000
DTEND;TZID=America/New_York:20220218T123000
DTSTAMP:20260418T190953
CREATED:20220128T184808Z
LAST-MODIFIED:20220207T165237Z
UID:8958-1645182000-1645187400@vsdvalliance.org
SUMMARY:Action Alliance Shelter Conversations
DESCRIPTION:Join us on Friday\, February 18th from 11:00 pm -12:30 pm for a discussion on how we are keeping our shelters staffed as we\, organizations and advocates\, navigate the ongoing pandemic. This is an open discussion for shelter advocates and a space to receive support and resources as we work together to continue serving survivors in shelter! For more information\, please email us at training@vsdvalliance.org.
URL:https://vsdvalliance.org/event/action-alliance-shelter-conversations/
LOCATION:Virtual- Zoom
CATEGORIES:General Events,Lifetime Members Only,Members,Online Learning,SDVA Members Only,Training
END:VEVENT
BEGIN:VEVENT
DTSTART;TZID=America/New_York:20220224T100000
DTEND;TZID=America/New_York:20220224T120000
DTSTAMP:20260418T190953
CREATED:20220128T190102Z
LAST-MODIFIED:20220222T140441Z
UID:8963-1645696800-1645704000@vsdvalliance.org
SUMMARY:Regional State and Local Partners’ Meeting: Northern Virginia/ Reunión Regional de Socies Estatales y Locales: Norte de Virginia
DESCRIPTION:The first of our 2022 State and Local Partners’ meetings! This invitation is open to advocates\, preventionists\, and other partners serving survivors and/or supporting community education on healthy relationships in Northern Virginia. We will continue to hold virtual gatherings until we can be together safely again. Distance will not stop us from holding space to share resources\, information\, advice\, concerns\, and/or successes! \nOur time together will include: \n\nWelcome & introductions\nDiscussion on regional issues\, service trends\, and resources\nAgency updates\nClosing\n\nIn addition to these regional events\, we’re holding two statewide gatherings that will include opportunities for professional development. We hope to see you and your community partners for the following events: \n\nApril 14\, Tidewater\nJune 9\, Statewide\nAugust 4\, Central VA\nOctober 6\, Southwest VA\nDecember 8\, Statewide\n\nWe hope you will be able to join us for one or more of our gatherings this year! Stay tuned for more details to come. For more information\, please email us at training@vsdvalliance.org. \n———————————————————————— \nLa primera de nuestras reuniones de socies estatales y locales del 2022! Esta invitación está abierta a defensores\, prevencionistas y otres socies que sirven a sobrevivientes y / o apoyan la educación comunitaria sobre relaciones saludables en el norte de Virginia. Continuaremos ofreciendo estas reuniones virtualmente hasta que podamos estar juntes de nuevo en persona. ¡La distancia no nos impedirá mantener un espacio para compartir recursos\, información\, consejos\, inquietudes y / o éxitos! \nNuestro tiempo juntos incluirá: \n\nBienvenida e introducciones\nDiscusión sobre temas regionales\, tendencias de servicio y recursos\nActualizaciones de las agencias\nCierre\n\nAdemás de estos eventos regionales\, estamos llevando a cabo dos reuniones estatales que incluirán oportunidades para el desarrollo profesional. Esperamos verles a ustedes y a sus socies comunitaries para los siguientes eventos: \n\n14 de abril\, area de Tidewater\n9 de junio\, estatal\n4 de agosto\, area central de Virginia\n6 de octubre\, area suroeste de Virginia\n8 de diciembre\, estatal\n\n¡Esperamos que pueda unirse a nosotres para una o más de nuestras reuniones este año! Estén atentes para más detalles por venir. Para obtener más información\, envíenos un correo electrónico a training@vsdvalliance.org.
URL:https://vsdvalliance.org/event/regional-state-and-local-partners-meeting-northern-virginia-reunion-regional-de-socies-estatales-y-locales-norte-de-virginia/
LOCATION:Virtual- Zoom
CATEGORIES:General Events,Members,Online Learning,SDVA Members Only,Training
END:VEVENT
END:VCALENDAR