BEGIN:VCALENDAR
VERSION:2.0
PRODID:-//Virginia Sexual &amp; Domestic Violence Action Alliance - ECPv6.15.20//NONSGML v1.0//EN
CALSCALE:GREGORIAN
METHOD:PUBLISH
X-ORIGINAL-URL:https://vsdvalliance.org
X-WR-CALDESC:Events for Virginia Sexual &amp; Domestic Violence Action Alliance
REFRESH-INTERVAL;VALUE=DURATION:PT1H
X-Robots-Tag:noindex
X-PUBLISHED-TTL:PT1H
BEGIN:VTIMEZONE
TZID:America/New_York
BEGIN:DAYLIGHT
TZOFFSETFROM:-0500
TZOFFSETTO:-0400
TZNAME:EDT
DTSTART:20210314T070000
END:DAYLIGHT
BEGIN:STANDARD
TZOFFSETFROM:-0400
TZOFFSETTO:-0500
TZNAME:EST
DTSTART:20211107T060000
END:STANDARD
BEGIN:DAYLIGHT
TZOFFSETFROM:-0500
TZOFFSETTO:-0400
TZNAME:EDT
DTSTART:20220313T070000
END:DAYLIGHT
BEGIN:STANDARD
TZOFFSETFROM:-0400
TZOFFSETTO:-0500
TZNAME:EST
DTSTART:20221106T060000
END:STANDARD
BEGIN:DAYLIGHT
TZOFFSETFROM:-0500
TZOFFSETTO:-0400
TZNAME:EDT
DTSTART:20230312T070000
END:DAYLIGHT
BEGIN:STANDARD
TZOFFSETFROM:-0400
TZOFFSETTO:-0500
TZNAME:EST
DTSTART:20231105T060000
END:STANDARD
END:VTIMEZONE
BEGIN:VEVENT
DTSTART;TZID=America/New_York:20220708T120000
DTEND;TZID=America/New_York:20220708T130000
DTSTAMP:20260419T212121
CREATED:20220323T163230Z
LAST-MODIFIED:20220323T173012Z
UID:9119-1657281600-1657285200@vsdvalliance.org
SUMMARY:Trauma Informed Lawyering
DESCRIPTION:Hey advocates! Know an Attorney who’d be interested in learning more about Trauma-Informed Lawyering? We’ll discuss trauma and its impact on survivors and attorneys as well as explore how to respond to clients using a trauma-informed approach. \nThis two-part series is geared towards lawyers working with survivors. It will be hosted virtually on July 8th and July 15th from 12-1pm. The event is CLE pending. Training lawyers to be trauma informed in their approach will lead to improved services for survivors. Lawyers will also gain an increased understanding of trauma and its impact on individuals and themselves. \n**Event is CLE pending. You must put in your Bar Number in order to get CLE credits.**
URL:https://vsdvalliance.org/event/trauma-informed-lawyering-4/
LOCATION:Virtual- Zoom
CATEGORIES:General Events,Lifetime Members Only,Members,SDVA Members Only,Training
ATTACH;FMTTYPE=image/png:https://vsdvalliance.org/wp-content/uploads/2022/03/Trauma-Informed-Lawyering-July.png
END:VEVENT
BEGIN:VEVENT
DTSTART;TZID=America/New_York:20220713T103000
DTEND;TZID=America/New_York:20220713T120000
DTSTAMP:20260419T212121
CREATED:20220428T190246Z
LAST-MODIFIED:20220428T190246Z
UID:9277-1657708200-1657713600@vsdvalliance.org
SUMMARY:Violence Prevention in Action ECHO (open Clinic)
DESCRIPTION:ECHO is an international evidence-based model for training and peer-to-peer learning originally developed at the University of New Mexico. In this ECHO program\, prevention staff at local sexual and domestic violence agencies present challenging cases to each other\, gather feedback and recommendations\, and discuss new developments and best practices for primary prevention. This isn’t another passive webinar! We use Zoom so that you can see each other and communicate in real-time. Come prepared to ask questions\, make recommendations\, and connect with other preventionists across Virginia. \nWHERE: Virtual \nDATE: July 13\, 10:30 am – 12:00 PM \nCOST: Free \nRegister: https://bit.ly/3VPECHO \nFor more information or for further questions\, please reach out to training@vsdvalliance.org
URL:https://vsdvalliance.org/event/violence-prevention-in-action-echo-open-clinic/
LOCATION:Virtual
CATEGORIES:General Events,Lifetime Members Only,Members,SDVA Members Only,Training
ORGANIZER;CN="Prevention Team":MAILTO:prevention@vsdvalliance.org
END:VEVENT
BEGIN:VEVENT
DTSTART;TZID=America/New_York:20220714T130000
DTEND;TZID=America/New_York:20220714T150000
DTSTAMP:20260419T212121
CREATED:20220527T145911Z
LAST-MODIFIED:20220527T145955Z
UID:9463-1657803600-1657810800@vsdvalliance.org
SUMMARY:Intention Based Graphic Design
DESCRIPTION:Intention-Based Graphic Design\nThe stories we tell through graphic design shows our community who we are and what we value most. Our designs are often a first impression and set the tone for the relationships we’ll cultivate and the audiences we reach. \nBeing able to tell a story through our designs that captures our mission and values with intention is essential! Throughout this two-part series\, we‘ll walk you through best practices\, tools\, and resources to help you do just that. You’ll even have an opportunity to put these new skills into practice and receive feedback or assistance with current projects you’re creating. \nPart I: Accessible Design\nThursday\, July 14th\, 1PM – 3PM \nDuring this session\, we will walk you through best practices for creating designs that are accessible. The colors\, fonts\, and layouts you use can all have an important impact on whether or not your design is truly able to get your message to your audience. \nYou will also have an opportunity to create your own design\, with an opportunity to receive feedback during this session. \nPart II: Trauma-Informed and Inclusive Design\nThursday\, July 21\, 1PM – 3PM \nPart two of this series will dive into your organization’s values and how those values can be incorporated into designs to create pieces that will resonate with your target audience. You will also receive resources to help you find elements to use in future designs. \nThere will also be an opportunity for you to share your organization’s values simply through the use of visuals. \nMembers may attend this for free; $25.00 for each session or $40 if you register for both for non members.
URL:https://vsdvalliance.org/event/intention-based-graphic-design/
LOCATION:Virtual
CATEGORIES:General Events,Members,Online Learning,Training
ATTACH;FMTTYPE=image/png:https://vsdvalliance.org/wp-content/uploads/2022/05/intention-based-graphic-design.png
END:VEVENT
BEGIN:VEVENT
DTSTART;TZID=America/New_York:20220721T130000
DTEND;TZID=America/New_York:20220721T150000
DTSTAMP:20260419T212121
CREATED:20220527T150224Z
LAST-MODIFIED:20220527T150224Z
UID:9465-1658408400-1658415600@vsdvalliance.org
SUMMARY:Intention-Based Graphic Design
DESCRIPTION:Intention-Based Graphic Design\nThe stories we tell through graphic design shows our community who we are and what we value most. Our designs are often a first impression and set the tone for the relationships we’ll cultivate and the audiences we reach. \nBeing able to tell a story through our designs that captures our mission and values with intention is essential! Throughout this two-part series\, we‘ll walk you through best practices\, tools\, and resources to help you do just that. You’ll even have an opportunity to put these new skills into practice and receive feedback or assistance with current projects you’re creating. \nPart I: Accessible Design\nThursday\, July 14th\, 1PM – 3PM \nDuring this session\, we will walk you through best practices for creating designs that are accessible. The colors\, fonts\, and layouts you use can all have an important impact on whether or not your design is truly able to get your message to your audience. \nYou will also have an opportunity to create your own design\, with an opportunity to receive feedback during this session. \nPart II: Trauma-Informed and Inclusive Design\nThursday\, July 21\, 1PM – 3PM \nPart two of this series will dive into your organization’s values and how those values can be incorporated into designs to create pieces that will resonate with your target audience. You will also receive resources to help you find elements to use in future designs. \nThere will also be an opportunity for you to share your organization’s values simply through the use of visuals. \nMembers may attend this for free; $25.00 for each session or $40 if you register for both for non members.
URL:https://vsdvalliance.org/event/intention-based-graphic-design-2/
LOCATION:Virtual
CATEGORIES:General Events,Members,Online Learning,Training
ATTACH;FMTTYPE=image/png:https://vsdvalliance.org/wp-content/uploads/2022/05/intention-based-graphic-design.png
END:VEVENT
END:VCALENDAR