BEGIN:VCALENDAR
VERSION:2.0
PRODID:-//Virginia Sexual &amp; Domestic Violence Action Alliance - ECPv6.15.20//NONSGML v1.0//EN
CALSCALE:GREGORIAN
METHOD:PUBLISH
X-WR-CALNAME:Virginia Sexual &amp; Domestic Violence Action Alliance
X-ORIGINAL-URL:https://vsdvalliance.org
X-WR-CALDESC:Events for Virginia Sexual &amp; Domestic Violence Action Alliance
REFRESH-INTERVAL;VALUE=DURATION:PT1H
X-Robots-Tag:noindex
X-PUBLISHED-TTL:PT1H
BEGIN:VTIMEZONE
TZID:America/New_York
BEGIN:DAYLIGHT
TZOFFSETFROM:-0500
TZOFFSETTO:-0400
TZNAME:EDT
DTSTART:20210314T070000
END:DAYLIGHT
BEGIN:STANDARD
TZOFFSETFROM:-0400
TZOFFSETTO:-0500
TZNAME:EST
DTSTART:20211107T060000
END:STANDARD
BEGIN:DAYLIGHT
TZOFFSETFROM:-0500
TZOFFSETTO:-0400
TZNAME:EDT
DTSTART:20220313T070000
END:DAYLIGHT
BEGIN:STANDARD
TZOFFSETFROM:-0400
TZOFFSETTO:-0500
TZNAME:EST
DTSTART:20221106T060000
END:STANDARD
BEGIN:DAYLIGHT
TZOFFSETFROM:-0500
TZOFFSETTO:-0400
TZNAME:EDT
DTSTART:20230312T070000
END:DAYLIGHT
BEGIN:STANDARD
TZOFFSETFROM:-0400
TZOFFSETTO:-0500
TZNAME:EST
DTSTART:20231105T060000
END:STANDARD
END:VTIMEZONE
BEGIN:VEVENT
DTSTART;TZID=America/New_York:20221004T130000
DTEND;TZID=America/New_York:20221004T150000
DTSTAMP:20260419T163618
CREATED:20220907T194818Z
LAST-MODIFIED:20220907T194921Z
UID:9764-1664888400-1664895600@vsdvalliance.org
SUMMARY:Action Alliance Membership Meeting
DESCRIPTION:During this annual membership meeting\, we’ll report on what we’ve accomplished in the past year and what we have planned for the year ahead. The Governing Body will also be presenting a slate of seven new Governing Body members for affirmation by the membership. \nYou must be an Action Alliance Member to attend this meeting. Please register through Zoom and then you will get a confirmation once your registration has been approved. \n 
URL:https://vsdvalliance.org/event/action-alliance-membership-meeting/
LOCATION:Virtual
CATEGORIES:General Events,Members,Training
END:VEVENT
BEGIN:VEVENT
DTSTART;TZID=America/New_York:20221006T100000
DTEND;TZID=America/New_York:20221006T120000
DTSTAMP:20260419T163618
CREATED:20220907T200037Z
LAST-MODIFIED:20220907T200037Z
UID:9766-1665050400-1665057600@vsdvalliance.org
SUMMARY:Regional State and Local Partners Meeting: Southwest Virginia / Reunión Regional de Socios Estatales y Locales: La parte sudoeste de Virginia
DESCRIPTION:Join us on Thursday\, October 6th from 10 am-12 pm for the fourth of our regional 2022 State and Local Partners meetings! \nThis invitation is open to advocates\, preventionists\, and other partners serving survivors and/or supporting community education on healthy relationships in Southwest Virginia. We will continue to hold virtual gatherings until we can be together safely again. Distance will not stop us from holding space to share resources\, information\, advice\, concerns\, and/or successes! \nOur time together will include: \n-Welcome & introductions\n-Discussion on regional issues\, service trends\, and resources\n-Agency updates\n-Closing \nFor more information\, please email us at training@vsdvalliance.org. \n————————————————————————————\n¡Reúnase con nosotres el jueves 6 de octubre de 10 a.m. a 12 p.m. para la cuarta de nuestras reuniones de socios estatales y locales del 2022! \nEsta invitación está abierta a defensores\, prevencionistas y otres socies que sirven a sobrevivientes y / o apoyan la educación comunitaria sobre relaciones saludables en la parte sudoeste de Virginia. Continuaremos ofreciendo estas reuniones virtualmente hasta que podamos estar juntes de nuevo en persona. ¡La distancia no nos impedirá mantener un espacio para compartir recursos\, información\, consejos\, inquietudes y / o éxitos! \nNuestro tiempo juntes incluirá: \n-Bienvenida e introducciones\n-Discusión sobre temas regionales\, tendencias de servicio y recursos\n-Actualizaciones de las agencias\n-Cierre \nPara obtener más información\, envíenos un correo electrónico a training@vsdvalliance.org.
URL:https://vsdvalliance.org/event/regional-state-and-local-partners-meeting-southwest-virginia-reunion-regional-de-socios-estatales-y-locales-la-parte-sudoeste-de-virginia/
LOCATION:Virtual
CATEGORIES:General Events,Members,Training
ATTACH;FMTTYPE=image/png:https://vsdvalliance.org/wp-content/uploads/2022/07/SLP.png
END:VEVENT
BEGIN:VEVENT
DTSTART;TZID=America/New_York:20221013T103000
DTEND;TZID=America/New_York:20221013T120000
DTSTAMP:20260419T163618
CREATED:20220902T135334Z
LAST-MODIFIED:20220902T135334Z
UID:9745-1665657000-1665662400@vsdvalliance.org
SUMMARY:ECHO@edu: Campus Violence Prevention
DESCRIPTION:Project ECHO uses Zoom\, the teleconferencing software\, to connect professionals from multiple locations to present challenging cases to each other\, gather feedback and recommendations\, and to discuss new developments and best practices. The structure of each ECHO Clinic is an integral component of the ECHO model. \nIn this ECHO program\, staff at colleges\, universities\, and community colleges are invited to present challenging cases to each other\, gather feedback and recommendations\, and discuss new developments and best practices for primary prevention and peer educator programs. Come prepared to ask questions\, make recommendations\, and connect with other campus professionals and students across Virginia. \nPlease register for this meeting via ZOOM. You will get a notification when your registration has been approved.\nThis isn’t another passive webinar! We use Zoom so that you can see each other and communicate in real-time. Come prepared to ask questions\, make recommendations\, and connect with other campus professionals and students across Virginia. \nFor information about our data usage and collection\, please visit: http://bit.ly/iECHOdata.
URL:https://vsdvalliance.org/event/echoedu-campus-violence-prevention-2/
LOCATION:Virtual
CATEGORIES:General Events,Members,Online Learning,Training
ORGANIZER;CN="Prevention Team":MAILTO:prevention@vsdvalliance.org
END:VEVENT
BEGIN:VEVENT
DTSTART;TZID=America/New_York:20221018T103000
DTEND;TZID=America/New_York:20221018T120000
DTSTAMP:20260419T163618
CREATED:20220921T154725Z
LAST-MODIFIED:20220921T154928Z
UID:9811-1666089000-1666094400@vsdvalliance.org
SUMMARY:VAdata Basic Training
DESCRIPTION:Since its inception in 1996\, VAdata has been an invaluable tool for Virginia advocates tracking services to survivors and information about their experiences of violence. This training is for staff who are new VAdata users or people who need a refresher on certain features of the system. Join us for a virtual walk-through of the system\, where we will review the core forms and functions and VAdata\, explore how to generate reports\, and learn how to get the most of your user experience. Please note that this session will be recorded.
URL:https://vsdvalliance.org/event/vadata-basic-training/
LOCATION:Virtual
CATEGORIES:General Events,Members,Training
END:VEVENT
BEGIN:VEVENT
DTSTART;TZID=America/New_York:20221019T103000
DTEND;TZID=America/New_York:20221019T120000
DTSTAMP:20260419T163618
CREATED:20220902T135847Z
LAST-MODIFIED:20220902T135847Z
UID:9748-1666175400-1666180800@vsdvalliance.org
SUMMARY:Violence Prevention in Action ECHO (open Clinic)
DESCRIPTION:Project ECHO uses Zoom\, the teleconferencing software\, to connect professionals from multiple locations to present challenging cases to each other\, gather feedback and recommendations\, and to discuss new developments and best practices. The structure of each ECHO Clinic is an integral component of the ECHO model.\n\nECHO is an international evidence-based model for training and peer-to-peer learning originally developed at the University of New Mexico. In this ECHO program\, prevention staff at local sexual and domestic violence agencies present challenging cases to each other\, gather feedback and recommendations\, and discuss new developments and best practices for primary prevention.\n\nThis isn’t another passive webinar! We use Zoom so that you can see each other and communicate in real-time. Come prepared to ask questions\, make recommendations\, and connect with other sexual and domestic violence agency staff across Virginia.\n\nPlease register using the ZOOM link. You will receive a notification once your registration has been approved. \nFor information about our data usage and collection\, please visit: http://bit.ly/iECHOdata.
URL:https://vsdvalliance.org/event/violence-prevention-in-action-echo-open-clinic-2/
LOCATION:Virtual
CATEGORIES:General Events,Members,Online Learning,Training
ORGANIZER;CN="Prevention Team":MAILTO:prevention@vsdvalliance.org
END:VEVENT
BEGIN:VEVENT
DTSTART;TZID=America/New_York:20221020T120000
DTEND;TZID=America/New_York:20221020T133000
DTSTAMP:20260419T163618
CREATED:20220921T160048Z
LAST-MODIFIED:20220921T160048Z
UID:9813-1666267200-1666272600@vsdvalliance.org
SUMMARY:VAdata Advanced Training
DESCRIPTION:Sexual and domestic violence agencies across the state are using VAdata to track services and support grant reports. This training provides existing VAdata users with information about the different reports available in the system and offers hands-on experience entering data. After this training\, participants will understand when and how to use reports for writing grants and how data entry impacts quarterly reports\nand statewide statistics. Please note that this session will be recorded.
URL:https://vsdvalliance.org/event/vadata-advanced-training/
LOCATION:Virtual
CATEGORIES:General Events,Members,Training
END:VEVENT
END:VCALENDAR