BEGIN:VCALENDAR
VERSION:2.0
PRODID:-//Virginia Sexual &amp; Domestic Violence Action Alliance - ECPv6.15.20//NONSGML v1.0//EN
CALSCALE:GREGORIAN
METHOD:PUBLISH
X-ORIGINAL-URL:https://vsdvalliance.org
X-WR-CALDESC:Events for Virginia Sexual &amp; Domestic Violence Action Alliance
REFRESH-INTERVAL;VALUE=DURATION:PT1H
X-Robots-Tag:noindex
X-PUBLISHED-TTL:PT1H
BEGIN:VTIMEZONE
TZID:America/New_York
BEGIN:DAYLIGHT
TZOFFSETFROM:-0500
TZOFFSETTO:-0400
TZNAME:EDT
DTSTART:20220313T070000
END:DAYLIGHT
BEGIN:STANDARD
TZOFFSETFROM:-0400
TZOFFSETTO:-0500
TZNAME:EST
DTSTART:20221106T060000
END:STANDARD
BEGIN:DAYLIGHT
TZOFFSETFROM:-0500
TZOFFSETTO:-0400
TZNAME:EDT
DTSTART:20230312T070000
END:DAYLIGHT
BEGIN:STANDARD
TZOFFSETFROM:-0400
TZOFFSETTO:-0500
TZNAME:EST
DTSTART:20231105T060000
END:STANDARD
BEGIN:DAYLIGHT
TZOFFSETFROM:-0500
TZOFFSETTO:-0400
TZNAME:EDT
DTSTART:20240310T070000
END:DAYLIGHT
BEGIN:STANDARD
TZOFFSETFROM:-0400
TZOFFSETTO:-0500
TZNAME:EST
DTSTART:20241103T060000
END:STANDARD
END:VTIMEZONE
BEGIN:VEVENT
DTSTART;TZID=America/New_York:20230118T103000
DTEND;TZID=America/New_York:20230118T120000
DTSTAMP:20260419T122415
CREATED:20221207T210253Z
LAST-MODIFIED:20221207T210253Z
UID:10092-1674037800-1674043200@vsdvalliance.org
SUMMARY:Violence Prevention in Action ECHO
DESCRIPTION:Project ECHO uses Zoom\, the teleconferencing software\, to connect professionals from multiple locations to present challenging cases to each other\, gather feedback and recommendations\, and to discuss new developments and best practices. The structure of each ECHO Clinic is an integral component of the ECHO model. \nThis isn’t another passive webinar! We use Zoom so that you can see each other and communicate in real-time. Come prepared to ask questions\, make recommendations\, and connect with other sexual and domestic violence agency staff across Virginia. \nFor information about our data usage and collection\, please visit: http://bit.ly/iECHOdata.
URL:https://vsdvalliance.org/event/violence-prevention-in-action-echo-2/
LOCATION:Virtual
CATEGORIES:General Events,Members,Training
ORGANIZER;CN="Prevention Team":MAILTO:prevention@vsdvalliance.org
END:VEVENT
BEGIN:VEVENT
DTSTART;TZID=America/New_York:20230119T150000
DTEND;TZID=America/New_York:20230119T163000
DTSTAMP:20260419T122415
CREATED:20221017T200534Z
LAST-MODIFIED:20221017T200534Z
UID:9928-1674140400-1674145800@vsdvalliance.org
SUMMARY:Flexible Foundations for Shelter Support and Beyond\, Session 2
DESCRIPTION:Between the pandemic\, climate catastrophes\, tensions about human rights\, and high costs for basic needs\, survivors’ service needs feel more complex than ever. Join the Action Alliance and Tori Wynecoop\, Training and Technical Assistance Manager at the National Center on Domestic Violence Trauma and Mental Health (NCDVTMH)\, for three virtual trainings about collaborative and flexible approaches to address complex service needs. In this 3-part training for shelter staff and other front line advocates\, participants will examine their expectations around crisis intervention; explore how to promote shared responsibility in shelter; and use the ‘stages of change’ model to support survivors’ goals. \n• January 19th\, 2023\, 3:00 to 4:30 PM EST: Supporting Survivors Who Use Substances \nRegister for January 19 here: bit.ly/flexfound2 \n• March 16th\, 2023\, 3:00 to 4:30 PM EST: Navigating Conflict and Change \nRegister for March 16 here: bit.ly/flexfound3
URL:https://vsdvalliance.org/event/flexible-foundations-for-shelter-support-and-beyond-session-2/
LOCATION:Virtual
CATEGORIES:General Events,Members,Training
END:VEVENT
BEGIN:VEVENT
DTSTART;TZID=America/New_York:20230124T130000
DTEND;TZID=America/New_York:20230124T140000
DTSTAMP:20260419T122415
CREATED:20230110T193516Z
LAST-MODIFIED:20230110T193516Z
UID:10326-1674565200-1674568800@vsdvalliance.org
SUMMARY:Webinar for DOW Updates
DESCRIPTION:This webinar is for SDVA staff\, especially case managers and shelter managers at agencies receiving VDSS fund. \nBeginning in February 2023\, electronic Documenting Our Work (DOW) surveys will be available to survivors in the same 11 languages that are currently available in print form! The process for completing those eDOW surveys will also be greatly simplified! Join the Action Alliance for a webinar to learn about how your agency can use these tools to collect information from survivors about the outcomes of the services you provide. Our presentation will include an overview of the changes to the 2020 electronic DOW forms\, information about new multilingual resources on internet safety\, and a demonstration of the forms. Please contact vadataadmin@vsdvalliance.org if you have questions about DOW\, VAdata\, or this learning opportunity.
URL:https://vsdvalliance.org/event/webinar-for-dow-updates/
LOCATION:Virtual
CATEGORIES:Members,Training
END:VEVENT
BEGIN:VEVENT
DTSTART;TZID=America/New_York:20230131T140000
DTEND;TZID=America/New_York:20230131T153000
DTSTAMP:20260419T122415
CREATED:20221208T171038Z
LAST-MODIFIED:20221208T171256Z
UID:10097-1675173600-1675179000@vsdvalliance.org
SUMMARY:All you Need to Know about Legislative Advocacy Day 2023
DESCRIPTION:Join us for this webinar to learn about all of our priorities and strategies heading into Legislative Advocacy Day. Things that are on our radar are: \n\nFund the phones – help us sustain Virginia’s Statewide Hotline!  \nEnsure the safe and lawful transfer of firearms for those subject to protective orders and those convicted of domestic violence! \nClose the dangerous loophole in Virginia’s strangulation statute! \nRepeal Virginia’s discriminatory Constitutional ban on LGBTQ marriage!  \nExpand economic supports for women and families  \nPrioritize victim/child safety over “shared parenting time”  \nDefend Trans and LGBTQ youth in Virginia  \nProtect Reproductive Freedom and abortion access for all survivors!  \n\nYou can join the webinar here: https://bit.ly/VSDVALAD2023Webinar
URL:https://vsdvalliance.org/event/all-you-need-to-know-about-legislative-advocacy-day-2023/
LOCATION:Virtual
CATEGORIES:General Events,Members,Training
END:VEVENT
END:VCALENDAR