BEGIN:VCALENDAR
VERSION:2.0
PRODID:-//Virginia Sexual &amp; Domestic Violence Action Alliance - ECPv6.15.20//NONSGML v1.0//EN
CALSCALE:GREGORIAN
METHOD:PUBLISH
X-WR-CALNAME:Virginia Sexual &amp; Domestic Violence Action Alliance
X-ORIGINAL-URL:https://vsdvalliance.org
X-WR-CALDESC:Events for Virginia Sexual &amp; Domestic Violence Action Alliance
REFRESH-INTERVAL;VALUE=DURATION:PT1H
X-Robots-Tag:noindex
X-PUBLISHED-TTL:PT1H
BEGIN:VTIMEZONE
TZID:America/New_York
BEGIN:DAYLIGHT
TZOFFSETFROM:-0500
TZOFFSETTO:-0400
TZNAME:EDT
DTSTART:20220313T070000
END:DAYLIGHT
BEGIN:STANDARD
TZOFFSETFROM:-0400
TZOFFSETTO:-0500
TZNAME:EST
DTSTART:20221106T060000
END:STANDARD
BEGIN:DAYLIGHT
TZOFFSETFROM:-0500
TZOFFSETTO:-0400
TZNAME:EDT
DTSTART:20230312T070000
END:DAYLIGHT
BEGIN:STANDARD
TZOFFSETFROM:-0400
TZOFFSETTO:-0500
TZNAME:EST
DTSTART:20231105T060000
END:STANDARD
BEGIN:DAYLIGHT
TZOFFSETFROM:-0500
TZOFFSETTO:-0400
TZNAME:EDT
DTSTART:20240310T070000
END:DAYLIGHT
BEGIN:STANDARD
TZOFFSETFROM:-0400
TZOFFSETTO:-0500
TZNAME:EST
DTSTART:20241103T060000
END:STANDARD
END:VTIMEZONE
BEGIN:VEVENT
DTSTART;TZID=America/New_York:20230202T080000
DTEND;TZID=America/New_York:20230202T130000
DTSTAMP:20260419T111516
CREATED:20221101T182311Z
LAST-MODIFIED:20221208T170638Z
UID:10018-1675324800-1675342800@vsdvalliance.org
SUMMARY:Legislative Advocacy Day 2023
DESCRIPTION:2023 Legislative Advocacy Day!\nWe’re excited to have sexual and domestic violence advocates from across Virginia join us in Richmond for our annual Legislative Advocacy Day on Thursday\, February 2\, 2023! And this year is a big one…..with the fall of Roe v. Wade and ongoing political attacks on LGBTQ youth\, it’s important that we take a stand and defend the right of all Virginians to determine their reproductive futures and to be treated with dignity and respect. \nPolicy leaders want to hear from you about these hot topics that impact survivors\, families\, young people\, and sexual and domestic violence advocates across the state: \n\nFund the phones – help us sustain Virginia’s Statewide Hotline!  \nEnsure the safe and lawful transfer of firearms for those subject to protective orders and those convicted of domestic violence! \nClose the dangerous loophole in Virginia’s strangulation statute! \nRepeal Virginia’s discriminatory Constitutional ban on LGBTQ marriage!  \nExpand economic supports for women and families  \nPrioritize victim/child safety over “shared parenting time”  \nDefend Trans and LGBTQ youth in Virginia  \nProtect Reproductive Freedom and abortion access for all survivors!  \n\nCheck out our schedule for the day –  if you are planning to join us for the breakfast reception\, please note that in your registration choice: \n\n8:00-9:00AM Breakfast reception and legislative briefing\, held at Virginia Credit Union League\, 108 N. Main Street\, 23219. Light breakfast\, coffee\, and refreshments provided\n9:30AM – 12:00PM Visits with legislators (Pocahontas Building 900 E. Main St\, Richmond\, VA 23219). Be sure to make appointments with your legislators in advance! You can find your legislator(s) here: http://ow.ly/tCG330mRiwW\n9:30AM – 12:00PM space available at the Virginia Credit Union League to connect with Action Alliance staff\, take breaks\, debrief visits\, and recharge\n12:00PM Sexual & Domestic Violence Advocates gather in Capitol House Gallery to be recognized by the VA House of Representatives\n1:00PM Join a Committee meeting (TBD). Support/watch the bill process\, meet with Legislators\, connect with advocates\, and/or enjoy lunch nearby\n\nIf you can’t make it in-person for Legislative Advocacy Day\, don’t worry\, we’ll send you everything you need to participate in virtual legislative actions that are happening statewide! Just make sure you select “Virtual Legislative Advocacy ONLY” in your registration choice. \nPlease note that scheduling visits with your legislators is done on your own and in advance! You can begin reaching out to schedule visits now. The earlier the better. To find out who your state representatives are\, or to find their contact information\, please click here. \nIn addition\, we will be holding a Legislative Advocacy Day Webinar on January 31 from 2:00 – 3:30 PM to help you understand our top priorities and answer all of your questions. Please make plans to attend that. https://bit.ly/VSDVALAD2023Webinar \nNeed help reaching out to your representatives? Looking for a script? Refer to our handy Legislative Advocacy Guide for answers to these questions and more! 
URL:https://vsdvalliance.org/event/legislative-advocacy-day-2023/
LOCATION:Virginia Credit Union League\, 108 N. 8th Street\, Richmond\, VA\, 23219\, United States
CATEGORIES:General Events,Members,Training
END:VEVENT
BEGIN:VEVENT
DTSTART;TZID=America/New_York:20230209T103000
DTEND;TZID=America/New_York:20230209T120000
DTSTAMP:20260419T111516
CREATED:20221221T180249Z
LAST-MODIFIED:20221221T180327Z
UID:10203-1675938600-1675944000@vsdvalliance.org
SUMMARY:ECHO@Edu: Campus Violence Prevention
DESCRIPTION:Do you feel like you’re on a prevention island at your campus? Join us for the following sessions to build your prevention network\, connect over challenging cases\, and stay on top of the best practices in sexual and intimate partner violence primary prevention\, all from the comfort of your office. \nECHO@Edu will be held on the following Thursdays from 10:30 – 12:00 pm: \n\nFebruary 9\, 2023\nApril 13\, 2023\nJune 8\, 2023\nAugust 10\, 2023\n\nTo register for the upcoming clinics\, please register here: https://bit.ly/ECHOedu \nDo you have a challenge that you’d like to brainstorm about with other preventionists? Or would you like to present a new idea for feedback? Consider presenting a case! You can access the case presentation form here: https://bit.ly/ECHOeducase
URL:https://vsdvalliance.org/event/echoedu-campus-violence-prevention-3/
LOCATION:Virtual- Zoom
CATEGORIES:General Events,Members,Training
ATTACH;FMTTYPE=image/png:https://vsdvalliance.org/wp-content/uploads/2022/09/MicrosoftTeams-image.png
ORGANIZER;CN="Prevention Team":MAILTO:prevention@vsdvalliance.org
END:VEVENT
BEGIN:VEVENT
DTSTART;TZID=America/New_York:20230213T100000
DTEND;TZID=America/New_York:20230213T113000
DTSTAMP:20260419T111516
CREATED:20230111T175544Z
LAST-MODIFIED:20230111T175544Z
UID:10353-1676282400-1676287800@vsdvalliance.org
SUMMARY:Quarterly Finance Training Series- Tips for Tracking Grant Expenses
DESCRIPTION:Are you a leader or staff member who has responsibility for tracking grant expenses? We’ll explore key elements of tracking expenses to help you stretch your agency budget and ensure that you have all of the documentation you need as you prepare regular invoices\, financial statements\, and grant reports. \nThis training is part of a series. Please register at the below link. The Zoom link will be sent to you after registration. \n 
URL:https://vsdvalliance.org/event/quarterly-finance-training-series-tips-for-tracking-grant-expenses/
LOCATION:Virtual
CATEGORIES:General Events,Members,Training
END:VEVENT
BEGIN:VEVENT
DTSTART;TZID=America/New_York:20230215T123000
DTEND;TZID=America/New_York:20230215T133000
DTSTAMP:20260419T111516
CREATED:20221222T155626Z
LAST-MODIFIED:20221222T155626Z
UID:10215-1676464200-1676467800@vsdvalliance.org
SUMMARY:New Member Orientation
DESCRIPTION:If you are new to the Action Alliance or just want a refresher of all of your membership benefits and insight into the Action Alliance\, please join us! Here at the Action Alliance\, we are here to help you so join us to find out how we can help you and your organization.
URL:https://vsdvalliance.org/event/new-member-orientation-4/
LOCATION:Virtual
CATEGORIES:General Events,Members,Training
ATTACH;FMTTYPE=image/png:https://vsdvalliance.org/wp-content/uploads/2022/12/Feb-NMO.png
END:VEVENT
BEGIN:VEVENT
DTSTART;TZID=America/New_York:20230223T090000
DTEND;TZID=America/New_York:20230223T170000
DTSTAMP:20260419T111516
CREATED:20221006T192346Z
LAST-MODIFIED:20221006T192346Z
UID:9872-1677142800-1677171600@vsdvalliance.org
SUMMARY:ReStoryation\, Open Virtual Session
DESCRIPTION:Over the past 2 years\, we have all navigated significant and sometimes overwhelming crises. As advocates\, that has meant responding to the needs of survivors in addition to caring for ourselves\, our families\, and others who are dear to us. What we’ve come to know as normal has changed. Whether the past 2 or so years has brought us sorrow\, fear\, joy\, new opportunities\, grief\, overwhelm\, new beginnings\, or a combination of all of the above…it has brought change to all of us. \nWhen life puts us through challenges\, nature can help us make sense of what is happening and guide us through. Nature tells stories of trauma\, healing\, and regeneration. Learning from nature and using story can help us remember\, process\, and integrate our experiences. \nWe can look to the story of mycelium that spreads across the forest floor and underground to create a network. Or to the root system of trees that go deep and wide to communicate to other trees around them how to find resources and avoid threats. These systems depend on the health and needs of the collective so that the whole system can thrive. \nWe invite you to reconnect with advocates across the state through the practice of storytelling. Much like mycelium\, we hope this space will foster connection and restoration through storytelling\, art\, food\, and community. The past 2 and a half years have made many of us feel isolated\, but the truth is that we are still very much connected\, we just need the space to find that again.
URL:https://vsdvalliance.org/event/restoryation-open-virtual-session/
LOCATION:Virtual
CATEGORIES:General Events,Members,Training
ATTACH;FMTTYPE=image/jpeg:https://vsdvalliance.org/wp-content/uploads/2022/10/ReStoryation-sm.jpg
END:VEVENT
BEGIN:VEVENT
DTSTART;TZID=America/New_York:20230224T130000
DTEND;TZID=America/New_York:20230224T143000
DTSTAMP:20260419T111516
CREATED:20230207T181806Z
LAST-MODIFIED:20230207T181806Z
UID:10517-1677243600-1677249000@vsdvalliance.org
SUMMARY:Advocacy Outcomes and DOW
DESCRIPTION:How do we know our services are making an impact? Join the Action Alliance for a facilitated discussion on the outcomes of advocacy services\, Documenting Our Work (DOW) and other tools\, and how evaluation can help us stay grounded in our values.\n\n ACCESSIBILITY INFO: Our events are in spoken and written English. While we recommend that participants use a device on which Zoom is installed\, they can also join through their browser without having to install an app. Live captioning will be provided courtesy of Virginia Relay. We do our best to provide audio descriptions of visual content\, summarize chats\, and prompt attendees to provide feedback. We encourage attendees to utilize the chat and meeting reactions when participating. We review our slides to ensure that they contain alt text for images\, use type that is in 14-point font or larger\, and have high-contrast color options.\n\nIf you have any questions or concerns about the accessibility of our online trainings\, please do not hesitate to reach out to us via training@vsdvalliance.org. We look forward to sharing virtual space with you soon!
URL:https://vsdvalliance.org/event/advocacy-outcomes-and-dow-2/
LOCATION:Virtual- Zoom
CATEGORIES:General Events,Members,Training
ATTACH;FMTTYPE=image/png:https://vsdvalliance.org/wp-content/uploads/2023/02/DOW-listening.png
END:VEVENT
END:VCALENDAR