BEGIN:VCALENDAR
VERSION:2.0
PRODID:-//Virginia Sexual &amp; Domestic Violence Action Alliance - ECPv6.15.20//NONSGML v1.0//EN
CALSCALE:GREGORIAN
METHOD:PUBLISH
X-ORIGINAL-URL:https://vsdvalliance.org
X-WR-CALDESC:Events for Virginia Sexual &amp; Domestic Violence Action Alliance
REFRESH-INTERVAL;VALUE=DURATION:PT1H
X-Robots-Tag:noindex
X-PUBLISHED-TTL:PT1H
BEGIN:VTIMEZONE
TZID:America/New_York
BEGIN:DAYLIGHT
TZOFFSETFROM:-0500
TZOFFSETTO:-0400
TZNAME:EDT
DTSTART:20200308T070000
END:DAYLIGHT
BEGIN:STANDARD
TZOFFSETFROM:-0400
TZOFFSETTO:-0500
TZNAME:EST
DTSTART:20201101T060000
END:STANDARD
BEGIN:DAYLIGHT
TZOFFSETFROM:-0500
TZOFFSETTO:-0400
TZNAME:EDT
DTSTART:20210314T070000
END:DAYLIGHT
BEGIN:STANDARD
TZOFFSETFROM:-0400
TZOFFSETTO:-0500
TZNAME:EST
DTSTART:20211107T060000
END:STANDARD
BEGIN:DAYLIGHT
TZOFFSETFROM:-0500
TZOFFSETTO:-0400
TZNAME:EDT
DTSTART:20220313T070000
END:DAYLIGHT
BEGIN:STANDARD
TZOFFSETFROM:-0400
TZOFFSETTO:-0500
TZNAME:EST
DTSTART:20221106T060000
END:STANDARD
END:VTIMEZONE
BEGIN:VEVENT
DTSTART;TZID=America/New_York:20210601T140000
DTEND;TZID=America/New_York:20210601T153000
DTSTAMP:20260420T193348
CREATED:20210519T170203Z
LAST-MODIFIED:20210519T170813Z
UID:8049-1622556000-1622561400@vsdvalliance.org
SUMMARY:Prevention Connection Zoom- June
DESCRIPTION:Content is protected.
URL:https://vsdvalliance.org/event/prevention-connection-zoom-june-1/
LOCATION:Virtual- Zoom
CATEGORIES:General Events,Members,Online Learning,Training
ORGANIZER;CN="Prevention Team":MAILTO:prevention@vsdvalliance.org
END:VEVENT
BEGIN:VEVENT
DTSTART;TZID=America/New_York:20210601T150000
DTEND;TZID=America/New_York:20210601T160000
DTSTAMP:20260420T193348
CREATED:20210121T165021Z
LAST-MODIFIED:20210121T165021Z
UID:7289-1622559600-1622563200@vsdvalliance.org
SUMMARY:Virtual Training Modules Office Hours
DESCRIPTION:We hold monthly Office Hours each month for participants in each of our three virtual training modules: Principles of Primary Prevention\, Advocacy Core Training\, and Trauma\, Justice\, and Oppression. These Office Hours are a space for participants to connect with each other and a technical assistance (TA) provider/trainer from the Action Alliance staff and Training Institute Faculty. Attending at least one Office Hour session is required to receive your course completion certificate. You may use this time to ask questions\, get new resources\, and discuss the material. \nWHEN: The first Tuesday of the month from 3-4pm EST \nWHERE: Virtually\, on Zoom \nREGISTER: To register for Office Hours\, click here. To sign up for our Virtual Training Modules\, click here.
URL:https://vsdvalliance.org/event/virtual-training-modules-office-hours-5/
LOCATION:VA
CATEGORIES:Online Learning,Training
END:VEVENT
END:VCALENDAR