BEGIN:VCALENDAR
VERSION:2.0
PRODID:-//Virginia Sexual &amp; Domestic Violence Action Alliance - ECPv6.15.20//NONSGML v1.0//EN
CALSCALE:GREGORIAN
METHOD:PUBLISH
X-ORIGINAL-URL:https://vsdvalliance.org
X-WR-CALDESC:Events for Virginia Sexual &amp; Domestic Violence Action Alliance
REFRESH-INTERVAL;VALUE=DURATION:PT1H
X-Robots-Tag:noindex
X-PUBLISHED-TTL:PT1H
BEGIN:VTIMEZONE
TZID:America/New_York
BEGIN:DAYLIGHT
TZOFFSETFROM:-0500
TZOFFSETTO:-0400
TZNAME:EDT
DTSTART:20200308T070000
END:DAYLIGHT
BEGIN:STANDARD
TZOFFSETFROM:-0400
TZOFFSETTO:-0500
TZNAME:EST
DTSTART:20201101T060000
END:STANDARD
BEGIN:DAYLIGHT
TZOFFSETFROM:-0500
TZOFFSETTO:-0400
TZNAME:EDT
DTSTART:20210314T070000
END:DAYLIGHT
BEGIN:STANDARD
TZOFFSETFROM:-0400
TZOFFSETTO:-0500
TZNAME:EST
DTSTART:20211107T060000
END:STANDARD
BEGIN:DAYLIGHT
TZOFFSETFROM:-0500
TZOFFSETTO:-0400
TZNAME:EDT
DTSTART:20220313T070000
END:DAYLIGHT
BEGIN:STANDARD
TZOFFSETFROM:-0400
TZOFFSETTO:-0500
TZNAME:EST
DTSTART:20221106T060000
END:STANDARD
END:VTIMEZONE
BEGIN:VEVENT
DTSTART;TZID=America/New_York:20210609T130000
DTEND;TZID=America/New_York:20210609T150000
DTSTAMP:20260420T193408
CREATED:20210519T024544Z
LAST-MODIFIED:20210525T213111Z
UID:8031-1623243600-1623250800@vsdvalliance.org
SUMMARY:State and Local Partners Meeting
DESCRIPTION:This is the second of the 2021 series of State and Local Partners Meetings. Though COVID-19 has forced us into a virtual environment\, we aren’t letting it keep us from holding space together to share resources\, information\, advice\, concerns\, or successes. Our June meeting will be hosted by the Latinos in VA Empowerment Center and Abuse Alternatives\, who will be sharing their work on supporting Spanish-speaking survivors. We are especially grateful to the LIVE Center for making Spanish-English interpretation available for this meeting. Our time together will include:\n\nSpotlight: Latinos in VA Empowerment Center + Abuse Alternatives collaboration\nSDVA announcements and upcoming events\nSelf-care moment\nGroup discussion on lessons learned from the pandemic and reopening; this portion may be recorded for internal reference\nClosing for the general meeting\nSpecial 30 minute ED/Directors only space for grant/funder specific updates\, info\, and questions.\n\nFor more information\, please email us at training@vsdvalliance.org. \nRegister online. \n\nÉsta es la segunda Reunión de Socios Estatales y Locales de 2021. Aunque el COVID-19 nos ha obligado a juntarnos en reuniones virtuales\, no nos impide crear espacios para compartir recursos\, información\, consejos\, preocupaciones\, o éxitos. Para la reunión en junio\, el Centro de Empoderamiento Latinos en Virginia y Alternativas Saludables al Abuso (Abuse Alternatives en inglés) servirán de “anfitriones” virtuales. Estas organizaciones van a presentar sobre sus colaboraciones para apoyar a sobrevivientes de violencia doméstica de habla hispana. Agradecemos profundamente los servicios de interpretación español-inglés realizados por el Centro de Empoderamiento Latinos en Virginia en este evento.  \nLa agenda incluirá:  \n\nPresentación del Centro de Empoderamiento Latinos en Virginia y Abuse Alternatives sobre sus colaboraciones \nAnuncios y actualizaciones de organizaciones que ayudan a las víctimas de violencia sexual y violencia doméstica  \nMomento de autocuidado \nConversación en grupo sobre las lecciones aprendidas durante la pandemia  \nClausura de la reunión general \nReunión especial de 30 minutos para directores ejecutivos para hablar de actualizaciones y preguntas sobre los programas de subvención. \n\n Para más información por favor escriba a training@vsdvalliance.org.  \nInscríbase aquí.
URL:https://vsdvalliance.org/event/state-and-local-partners-meeting-4/
LOCATION:Virtual- Zoom
CATEGORIES:General Events,Members,Online Learning,Training
ATTACH;FMTTYPE=image/png:https://vsdvalliance.org/wp-content/uploads/2021/05/2021-Zoom-Banners-state-and-local-partners-meeting.png
END:VEVENT
END:VCALENDAR