BEGIN:VCALENDAR
VERSION:2.0
PRODID:-//Virginia Sexual &amp; Domestic Violence Action Alliance - ECPv6.15.20//NONSGML v1.0//EN
CALSCALE:GREGORIAN
METHOD:PUBLISH
X-ORIGINAL-URL:https://vsdvalliance.org
X-WR-CALDESC:Events for Virginia Sexual &amp; Domestic Violence Action Alliance
REFRESH-INTERVAL;VALUE=DURATION:PT1H
X-Robots-Tag:noindex
X-PUBLISHED-TTL:PT1H
BEGIN:VTIMEZONE
TZID:America/New_York
BEGIN:DAYLIGHT
TZOFFSETFROM:-0500
TZOFFSETTO:-0400
TZNAME:EDT
DTSTART:20200308T070000
END:DAYLIGHT
BEGIN:STANDARD
TZOFFSETFROM:-0400
TZOFFSETTO:-0500
TZNAME:EST
DTSTART:20201101T060000
END:STANDARD
BEGIN:DAYLIGHT
TZOFFSETFROM:-0500
TZOFFSETTO:-0400
TZNAME:EDT
DTSTART:20210314T070000
END:DAYLIGHT
BEGIN:STANDARD
TZOFFSETFROM:-0400
TZOFFSETTO:-0500
TZNAME:EST
DTSTART:20211107T060000
END:STANDARD
BEGIN:DAYLIGHT
TZOFFSETFROM:-0500
TZOFFSETTO:-0400
TZNAME:EDT
DTSTART:20220313T070000
END:DAYLIGHT
BEGIN:STANDARD
TZOFFSETFROM:-0400
TZOFFSETTO:-0500
TZNAME:EST
DTSTART:20221106T060000
END:STANDARD
END:VTIMEZONE
BEGIN:VEVENT
DTSTART;TZID=America/New_York:20210617T180000
DTEND;TZID=America/New_York:20210617T193000
DTSTAMP:20260420T193335
CREATED:20210519T132633Z
LAST-MODIFIED:20210615T021035Z
UID:8037-1623952800-1623958200@vsdvalliance.org
SUMMARY:Youth Connection Zoom
DESCRIPTION:Hosted 1-2 times per quarter\, these Zooms are an opportunity for young activists\, advocates\, and artists in Virginia to connect with their peers across the state\, build new skills\, learn more about anti-oppression\, and strategies to end sexual & intimate partner violence. \nFor young activists\, advocates\, & artists in Virginia ages 18-24. Connect with other young folks across the state\, build new skills\, learn more about anti-oppression and strategies to end sexual & intimate partner violence! Hosted by the Virginia Sexual & Domestic Violence Action Alliance. We will use this time as a taste of the 2021 Honeycomb Retreat! Participants will engage in a political education workshop and then an art making session to respond to what they learned earlier. \nRegister: http://bit.ly/VAYOUTHCONNECTION
URL:https://vsdvalliance.org/event/youth-connection-zoom-4/
LOCATION:Virtual- Zoom
CATEGORIES:General Events,Members,Online Learning,Training
ATTACH;FMTTYPE=image/png:https://vsdvalliance.org/wp-content/uploads/2021/05/2021-06_YouthConnectionZoom.png
ORGANIZER;CN="Prevention Team":MAILTO:prevention@vsdvalliance.org
END:VEVENT
END:VCALENDAR