BEGIN:VCALENDAR
VERSION:2.0
PRODID:-//Virginia Sexual &amp; Domestic Violence Action Alliance - ECPv6.15.20//NONSGML v1.0//EN
CALSCALE:GREGORIAN
METHOD:PUBLISH
X-ORIGINAL-URL:https://vsdvalliance.org
X-WR-CALDESC:Events for Virginia Sexual &amp; Domestic Violence Action Alliance
REFRESH-INTERVAL;VALUE=DURATION:PT1H
X-Robots-Tag:noindex
X-PUBLISHED-TTL:PT1H
BEGIN:VTIMEZONE
TZID:America/New_York
BEGIN:DAYLIGHT
TZOFFSETFROM:-0500
TZOFFSETTO:-0400
TZNAME:EDT
DTSTART:20200308T070000
END:DAYLIGHT
BEGIN:STANDARD
TZOFFSETFROM:-0400
TZOFFSETTO:-0500
TZNAME:EST
DTSTART:20201101T060000
END:STANDARD
BEGIN:DAYLIGHT
TZOFFSETFROM:-0500
TZOFFSETTO:-0400
TZNAME:EDT
DTSTART:20210314T070000
END:DAYLIGHT
BEGIN:STANDARD
TZOFFSETFROM:-0400
TZOFFSETTO:-0500
TZNAME:EST
DTSTART:20211107T060000
END:STANDARD
BEGIN:DAYLIGHT
TZOFFSETFROM:-0500
TZOFFSETTO:-0400
TZNAME:EDT
DTSTART:20220313T070000
END:DAYLIGHT
BEGIN:STANDARD
TZOFFSETFROM:-0400
TZOFFSETTO:-0500
TZNAME:EST
DTSTART:20221106T060000
END:STANDARD
END:VTIMEZONE
BEGIN:VEVENT
DTSTART;TZID=America/New_York:20210811T130000
DTEND;TZID=America/New_York:20210811T150000
DTSTAMP:20260420T160402
CREATED:20210316T164213Z
LAST-MODIFIED:20211217T144547Z
UID:7640-1628686800-1628694000@vsdvalliance.org
SUMMARY:Intention-based Graphic Design
DESCRIPTION:The stories we tell through graphic design show our community who we are and what we value most. Our designs are often a first impression and set the tone for the relationships we’ll cultivate and the audiences we reach. Your graphic design can tell a story that captures your mission and values with intention. Throughout this two-part series\, we‘ll walk you through best practices\, tools\, and resources to help you do just that. You’ll even have an opportunity to put these new skills into practice.\n\n\nThis two-part training aims to highlight best practices in marketing and graphic design for sexual and domestic violence agencies. Day 1 (August 17) will focus on ensuring promotional materials are accessible in terms of visibility\, readability\, legibility\, and more. Day 2 (August 24) will highlight do’s and don’t’s for how to create materials that are trauma-informed and empowering. \nClick here to register.
URL:https://vsdvalliance.org/event/trauma-informed-and-accessible-design-2/
LOCATION:Virtual- Zoom
CATEGORIES:General Events,Members,Online Learning,Training
END:VEVENT
END:VCALENDAR