BEGIN:VCALENDAR
VERSION:2.0
PRODID:-//Virginia Sexual &amp; Domestic Violence Action Alliance - ECPv6.15.20//NONSGML v1.0//EN
CALSCALE:GREGORIAN
METHOD:PUBLISH
X-ORIGINAL-URL:https://vsdvalliance.org
X-WR-CALDESC:Events for Virginia Sexual &amp; Domestic Violence Action Alliance
REFRESH-INTERVAL;VALUE=DURATION:PT1H
X-Robots-Tag:noindex
X-PUBLISHED-TTL:PT1H
BEGIN:VTIMEZONE
TZID:America/New_York
BEGIN:DAYLIGHT
TZOFFSETFROM:-0500
TZOFFSETTO:-0400
TZNAME:EDT
DTSTART:20200308T070000
END:DAYLIGHT
BEGIN:STANDARD
TZOFFSETFROM:-0400
TZOFFSETTO:-0500
TZNAME:EST
DTSTART:20201101T060000
END:STANDARD
BEGIN:DAYLIGHT
TZOFFSETFROM:-0500
TZOFFSETTO:-0400
TZNAME:EDT
DTSTART:20210314T070000
END:DAYLIGHT
BEGIN:STANDARD
TZOFFSETFROM:-0400
TZOFFSETTO:-0500
TZNAME:EST
DTSTART:20211107T060000
END:STANDARD
BEGIN:DAYLIGHT
TZOFFSETFROM:-0500
TZOFFSETTO:-0400
TZNAME:EDT
DTSTART:20220313T070000
END:DAYLIGHT
BEGIN:STANDARD
TZOFFSETFROM:-0400
TZOFFSETTO:-0500
TZNAME:EST
DTSTART:20221106T060000
END:STANDARD
END:VTIMEZONE
BEGIN:VEVENT
DTSTART;TZID=America/New_York:20210930T130000
DTEND;TZID=America/New_York:20210930T143000
DTSTAMP:20260420T125850
CREATED:20210920T183420Z
LAST-MODIFIED:20210921T011232Z
UID:8454-1633006800-1633012200@vsdvalliance.org
SUMMARY:Survivors Vote: New and Updated Voting Laws in Virginia
DESCRIPTION:Did you know that during the most recent legislative session there were a lot of new voting laws passed?  With the voter registration deadline quickly approaching and early voting in full swing\, this is a great time to get refreshed on what’s new about voting in Virginia. We know survivors vote and a large part of advocacy is being informed about the many ways we can empower the people we serve to have their voices heard. One of those ways is by voting. Join us to learn more about Virginia’s new voting laws with Meredith Smith from New Virginia Majority.  During this session you will learn about the new voting laws in Virginia\, upcoming deadlines\, and ways that survivors who are housing insecure and/or living in shelter can vote safely.   \nWho: Action Alliance Members and SDVA Advocates \nCost: Free \nRegister: bit.ly/survivorsvote \n 
URL:https://vsdvalliance.org/event/survivors-vote-new-and-updated-voting-laws-in-virginia/
LOCATION:Virtual- Zoom
CATEGORIES:General Events,Members,Training
ATTACH;FMTTYPE=image/png:https://vsdvalliance.org/wp-content/uploads/2021/09/Survivors-Vote-Facebook-Post.png
END:VEVENT
END:VCALENDAR