BEGIN:VCALENDAR
VERSION:2.0
PRODID:-//Virginia Sexual &amp; Domestic Violence Action Alliance - ECPv6.15.20//NONSGML v1.0//EN
CALSCALE:GREGORIAN
METHOD:PUBLISH
X-ORIGINAL-URL:https://vsdvalliance.org
X-WR-CALDESC:Events for Virginia Sexual &amp; Domestic Violence Action Alliance
REFRESH-INTERVAL;VALUE=DURATION:PT1H
X-Robots-Tag:noindex
X-PUBLISHED-TTL:PT1H
BEGIN:VTIMEZONE
TZID:America/New_York
BEGIN:DAYLIGHT
TZOFFSETFROM:-0500
TZOFFSETTO:-0400
TZNAME:EDT
DTSTART:20200308T070000
END:DAYLIGHT
BEGIN:STANDARD
TZOFFSETFROM:-0400
TZOFFSETTO:-0500
TZNAME:EST
DTSTART:20201101T060000
END:STANDARD
BEGIN:DAYLIGHT
TZOFFSETFROM:-0500
TZOFFSETTO:-0400
TZNAME:EDT
DTSTART:20210314T070000
END:DAYLIGHT
BEGIN:STANDARD
TZOFFSETFROM:-0400
TZOFFSETTO:-0500
TZNAME:EST
DTSTART:20211107T060000
END:STANDARD
BEGIN:DAYLIGHT
TZOFFSETFROM:-0500
TZOFFSETTO:-0400
TZNAME:EDT
DTSTART:20220313T070000
END:DAYLIGHT
BEGIN:STANDARD
TZOFFSETFROM:-0400
TZOFFSETTO:-0500
TZNAME:EST
DTSTART:20221106T060000
END:STANDARD
END:VTIMEZONE
BEGIN:VEVENT
DTSTART;TZID=America/New_York:20211020T103000
DTEND;TZID=America/New_York:20211020T120000
DTSTAMP:20260420T125853
CREATED:20201214T214547Z
LAST-MODIFIED:20201214T214547Z
UID:7118-1634725800-1634731200@vsdvalliance.org
SUMMARY:Violence Prevention in Action ECHO Clinic
DESCRIPTION:Hosted once per quarter and primarily open to prevention staff at SDVAs. Project ECHO is an international model for training and peer-to-peer learning that was originally developed for use by doctors and other medical providers\, and we’ve adapted it for sexual & intimate partner violence prevention. This virtual learning space is the most structured of our Zooms\, more like a highly interactive webinar or brainstorming session where everyone participates in real time. Each ECHO Clinic includes a case presentation from a local preventionist and a brief training component related to best practices. Come prepared to ask questions\, make recommendations\, and connect with other prevention staff across Virginia.\n\nClick here to register!
URL:https://vsdvalliance.org/event/violence-prevention-in-action-echo-clinic-4/
LOCATION:VA
CATEGORIES:General Events,Online Learning,Training
ATTACH;FMTTYPE=image/jpeg:https://vsdvalliance.org/wp-content/uploads/2020/12/Action-Alliance-Logo.jpg
END:VEVENT
END:VCALENDAR