BEGIN:VCALENDAR
VERSION:2.0
PRODID:-//Virginia Sexual &amp; Domestic Violence Action Alliance - ECPv6.15.20//NONSGML v1.0//EN
CALSCALE:GREGORIAN
METHOD:PUBLISH
X-WR-CALNAME:Virginia Sexual &amp; Domestic Violence Action Alliance
X-ORIGINAL-URL:https://vsdvalliance.org
X-WR-CALDESC:Events for Virginia Sexual &amp; Domestic Violence Action Alliance
REFRESH-INTERVAL;VALUE=DURATION:PT1H
X-Robots-Tag:noindex
X-PUBLISHED-TTL:PT1H
BEGIN:VTIMEZONE
TZID:America/New_York
BEGIN:DAYLIGHT
TZOFFSETFROM:-0500
TZOFFSETTO:-0400
TZNAME:EDT
DTSTART:20200308T070000
END:DAYLIGHT
BEGIN:STANDARD
TZOFFSETFROM:-0400
TZOFFSETTO:-0500
TZNAME:EST
DTSTART:20201101T060000
END:STANDARD
BEGIN:DAYLIGHT
TZOFFSETFROM:-0500
TZOFFSETTO:-0400
TZNAME:EDT
DTSTART:20210314T070000
END:DAYLIGHT
BEGIN:STANDARD
TZOFFSETFROM:-0400
TZOFFSETTO:-0500
TZNAME:EST
DTSTART:20211107T060000
END:STANDARD
BEGIN:DAYLIGHT
TZOFFSETFROM:-0500
TZOFFSETTO:-0400
TZNAME:EDT
DTSTART:20220313T070000
END:DAYLIGHT
BEGIN:STANDARD
TZOFFSETFROM:-0400
TZOFFSETTO:-0500
TZNAME:EST
DTSTART:20221106T060000
END:STANDARD
END:VTIMEZONE
BEGIN:VEVENT
DTSTART;TZID=America/New_York:20211202T150000
DTEND;TZID=America/New_York:20211202T163000
DTSTAMP:20260420T093823
CREATED:20211109T190152Z
LAST-MODIFIED:20211109T190152Z
UID:8664-1638457200-1638462600@vsdvalliance.org
SUMMARY:Shelter Conversations: Listening Session
DESCRIPTION:Join us for a virtual gathering and listening session for shelter staff. During this session we plan to gather feedback from shelter advocates on how we are sheltering across the commonwealth including shelter models and setup\, staffing\, guidelines\, and what support shelter staff and their agencies need to foster successful shelter operations. Our time will include introductions\, a listening session\, and discussion. We are aware that shelter advocates work non-traditional hours. For any shelter advocates who are not able to attend\, we encourage you to register so you can receive a link to a survey that will be distributed after this gathering that you can participate in! \nWho: Shelter advocates at sexual and domestic violence agencies \nCost: Free \nRegister: https://bit.ly/ShelterConvoDec2 \nQuestions? Contact Itzel Patino at training@vsdvalliance.org.
URL:https://vsdvalliance.org/event/shelter-conversations-listening-session/
LOCATION:Virtual- Zoom
CATEGORIES:General Events,Members,Training
END:VEVENT
END:VCALENDAR