BEGIN:VCALENDAR
VERSION:2.0
PRODID:-//Virginia Sexual &amp; Domestic Violence Action Alliance - ECPv6.15.20//NONSGML v1.0//EN
CALSCALE:GREGORIAN
METHOD:PUBLISH
X-ORIGINAL-URL:https://vsdvalliance.org
X-WR-CALDESC:Events for Virginia Sexual &amp; Domestic Violence Action Alliance
REFRESH-INTERVAL;VALUE=DURATION:PT1H
X-Robots-Tag:noindex
X-PUBLISHED-TTL:PT1H
BEGIN:VTIMEZONE
TZID:America/New_York
BEGIN:DAYLIGHT
TZOFFSETFROM:-0500
TZOFFSETTO:-0400
TZNAME:EDT
DTSTART:20210314T070000
END:DAYLIGHT
BEGIN:STANDARD
TZOFFSETFROM:-0400
TZOFFSETTO:-0500
TZNAME:EST
DTSTART:20211107T060000
END:STANDARD
BEGIN:DAYLIGHT
TZOFFSETFROM:-0500
TZOFFSETTO:-0400
TZNAME:EDT
DTSTART:20220313T070000
END:DAYLIGHT
BEGIN:STANDARD
TZOFFSETFROM:-0400
TZOFFSETTO:-0500
TZNAME:EST
DTSTART:20221106T060000
END:STANDARD
BEGIN:DAYLIGHT
TZOFFSETFROM:-0500
TZOFFSETTO:-0400
TZNAME:EDT
DTSTART:20230312T070000
END:DAYLIGHT
BEGIN:STANDARD
TZOFFSETFROM:-0400
TZOFFSETTO:-0500
TZNAME:EST
DTSTART:20231105T060000
END:STANDARD
END:VTIMEZONE
BEGIN:VEVENT
DTSTART;TZID=America/New_York:20221013T103000
DTEND;TZID=America/New_York:20221013T120000
DTSTAMP:20260419T181359
CREATED:20220902T135334Z
LAST-MODIFIED:20220902T135334Z
UID:9745-1665657000-1665662400@vsdvalliance.org
SUMMARY:ECHO@edu: Campus Violence Prevention
DESCRIPTION:Project ECHO uses Zoom\, the teleconferencing software\, to connect professionals from multiple locations to present challenging cases to each other\, gather feedback and recommendations\, and to discuss new developments and best practices. The structure of each ECHO Clinic is an integral component of the ECHO model. \nIn this ECHO program\, staff at colleges\, universities\, and community colleges are invited to present challenging cases to each other\, gather feedback and recommendations\, and discuss new developments and best practices for primary prevention and peer educator programs. Come prepared to ask questions\, make recommendations\, and connect with other campus professionals and students across Virginia. \nPlease register for this meeting via ZOOM. You will get a notification when your registration has been approved.\nThis isn’t another passive webinar! We use Zoom so that you can see each other and communicate in real-time. Come prepared to ask questions\, make recommendations\, and connect with other campus professionals and students across Virginia. \nFor information about our data usage and collection\, please visit: http://bit.ly/iECHOdata.
URL:https://vsdvalliance.org/event/echoedu-campus-violence-prevention-2/
LOCATION:Virtual
CATEGORIES:General Events,Members,Online Learning,Training
ORGANIZER;CN="Prevention Team":MAILTO:prevention@vsdvalliance.org
END:VEVENT
END:VCALENDAR