BEGIN:VCALENDAR
VERSION:2.0
PRODID:-//Virginia Sexual &amp; Domestic Violence Action Alliance - ECPv6.15.20//NONSGML v1.0//EN
CALSCALE:GREGORIAN
METHOD:PUBLISH
X-WR-CALNAME:Virginia Sexual &amp; Domestic Violence Action Alliance
X-ORIGINAL-URL:https://vsdvalliance.org
X-WR-CALDESC:Events for Virginia Sexual &amp; Domestic Violence Action Alliance
REFRESH-INTERVAL;VALUE=DURATION:PT1H
X-Robots-Tag:noindex
X-PUBLISHED-TTL:PT1H
BEGIN:VTIMEZONE
TZID:America/New_York
BEGIN:DAYLIGHT
TZOFFSETFROM:-0500
TZOFFSETTO:-0400
TZNAME:EDT
DTSTART:20220313T070000
END:DAYLIGHT
BEGIN:STANDARD
TZOFFSETFROM:-0400
TZOFFSETTO:-0500
TZNAME:EST
DTSTART:20221106T060000
END:STANDARD
BEGIN:DAYLIGHT
TZOFFSETFROM:-0500
TZOFFSETTO:-0400
TZNAME:EDT
DTSTART:20230312T070000
END:DAYLIGHT
BEGIN:STANDARD
TZOFFSETFROM:-0400
TZOFFSETTO:-0500
TZNAME:EST
DTSTART:20231105T060000
END:STANDARD
BEGIN:DAYLIGHT
TZOFFSETFROM:-0500
TZOFFSETTO:-0400
TZNAME:EDT
DTSTART:20240310T070000
END:DAYLIGHT
BEGIN:STANDARD
TZOFFSETFROM:-0400
TZOFFSETTO:-0500
TZNAME:EST
DTSTART:20241103T060000
END:STANDARD
END:VTIMEZONE
BEGIN:VEVENT
DTSTART;TZID=America/New_York:20230118T103000
DTEND;TZID=America/New_York:20230118T120000
DTSTAMP:20260419T135023
CREATED:20221207T210253Z
LAST-MODIFIED:20221207T210253Z
UID:10092-1674037800-1674043200@vsdvalliance.org
SUMMARY:Violence Prevention in Action ECHO
DESCRIPTION:Project ECHO uses Zoom\, the teleconferencing software\, to connect professionals from multiple locations to present challenging cases to each other\, gather feedback and recommendations\, and to discuss new developments and best practices. The structure of each ECHO Clinic is an integral component of the ECHO model. \nThis isn’t another passive webinar! We use Zoom so that you can see each other and communicate in real-time. Come prepared to ask questions\, make recommendations\, and connect with other sexual and domestic violence agency staff across Virginia. \nFor information about our data usage and collection\, please visit: http://bit.ly/iECHOdata.
URL:https://vsdvalliance.org/event/violence-prevention-in-action-echo-2/
LOCATION:Virtual
CATEGORIES:General Events,Members,Training
ORGANIZER;CN="Prevention Team":MAILTO:prevention@vsdvalliance.org
END:VEVENT
END:VCALENDAR