BEGIN:VCALENDAR
VERSION:2.0
PRODID:-//Virginia Sexual &amp; Domestic Violence Action Alliance - ECPv6.15.20//NONSGML v1.0//EN
CALSCALE:GREGORIAN
METHOD:PUBLISH
X-WR-CALNAME:Virginia Sexual &amp; Domestic Violence Action Alliance
X-ORIGINAL-URL:https://vsdvalliance.org
X-WR-CALDESC:Events for Virginia Sexual &amp; Domestic Violence Action Alliance
REFRESH-INTERVAL;VALUE=DURATION:PT1H
X-Robots-Tag:noindex
X-PUBLISHED-TTL:PT1H
BEGIN:VTIMEZONE
TZID:America/New_York
BEGIN:DAYLIGHT
TZOFFSETFROM:-0500
TZOFFSETTO:-0400
TZNAME:EDT
DTSTART:20220313T070000
END:DAYLIGHT
BEGIN:STANDARD
TZOFFSETFROM:-0400
TZOFFSETTO:-0500
TZNAME:EST
DTSTART:20221106T060000
END:STANDARD
BEGIN:DAYLIGHT
TZOFFSETFROM:-0500
TZOFFSETTO:-0400
TZNAME:EDT
DTSTART:20230312T070000
END:DAYLIGHT
BEGIN:STANDARD
TZOFFSETFROM:-0400
TZOFFSETTO:-0500
TZNAME:EST
DTSTART:20231105T060000
END:STANDARD
BEGIN:DAYLIGHT
TZOFFSETFROM:-0500
TZOFFSETTO:-0400
TZNAME:EDT
DTSTART:20240310T070000
END:DAYLIGHT
BEGIN:STANDARD
TZOFFSETFROM:-0400
TZOFFSETTO:-0500
TZNAME:EST
DTSTART:20241103T060000
END:STANDARD
END:VTIMEZONE
BEGIN:VEVENT
DTSTART;TZID=America/New_York:20230404T100000
DTEND;TZID=America/New_York:20230404T140000
DTSTAMP:20260419T100404
CREATED:20230207T173812Z
LAST-MODIFIED:20230207T173812Z
UID:10498-1680602400-1680616800@vsdvalliance.org
SUMMARY:State and Local Partners In Person Southwest Region
DESCRIPTION:This invitation is open to advocates\, preventionists\, and other partners serving survivors and/or supporting community education on healthy relationships. Our time together will be spent learning from each other and from speakers\, discussion on statewide issues\, resources\, etc. \nThe following sessions will be virtual from 10:00 – 12:00pm: September 14 (Northern Region)\, December 7 (statewide session) \nThe following sessions will be in person from 10:00 – 2:00 pm: April 4 (Southwest Region)\, October 5 (Tidewater Region) \n**IN PERSON LOCATIONS TBD**
URL:https://vsdvalliance.org/event/state-and-local-partners-in-person-southwest-region/
LOCATION:VA
CATEGORIES:General Events,Members,Training
ATTACH;FMTTYPE=image/png:https://vsdvalliance.org/wp-content/uploads/2023/02/SLP-2023-Schedule.png
END:VEVENT
END:VCALENDAR