BEGIN:VCALENDAR
VERSION:2.0
PRODID:-//Virginia Sexual &amp; Domestic Violence Action Alliance - ECPv6.15.20//NONSGML v1.0//EN
CALSCALE:GREGORIAN
METHOD:PUBLISH
X-WR-CALNAME:Virginia Sexual &amp; Domestic Violence Action Alliance
X-ORIGINAL-URL:https://vsdvalliance.org
X-WR-CALDESC:Events for Virginia Sexual &amp; Domestic Violence Action Alliance
REFRESH-INTERVAL;VALUE=DURATION:PT1H
X-Robots-Tag:noindex
X-PUBLISHED-TTL:PT1H
BEGIN:VTIMEZONE
TZID:America/New_York
BEGIN:DAYLIGHT
TZOFFSETFROM:-0500
TZOFFSETTO:-0400
TZNAME:EDT
DTSTART:20220313T070000
END:DAYLIGHT
BEGIN:STANDARD
TZOFFSETFROM:-0400
TZOFFSETTO:-0500
TZNAME:EST
DTSTART:20221106T060000
END:STANDARD
BEGIN:DAYLIGHT
TZOFFSETFROM:-0500
TZOFFSETTO:-0400
TZNAME:EDT
DTSTART:20230312T070000
END:DAYLIGHT
BEGIN:STANDARD
TZOFFSETFROM:-0400
TZOFFSETTO:-0500
TZNAME:EST
DTSTART:20231105T060000
END:STANDARD
BEGIN:DAYLIGHT
TZOFFSETFROM:-0500
TZOFFSETTO:-0400
TZNAME:EDT
DTSTART:20240310T070000
END:DAYLIGHT
BEGIN:STANDARD
TZOFFSETFROM:-0400
TZOFFSETTO:-0500
TZNAME:EST
DTSTART:20241103T060000
END:STANDARD
END:VTIMEZONE
BEGIN:VEVENT
DTSTART;TZID=America/New_York:20230501T093000
DTEND;TZID=America/New_York:20230501T163000
DTSTAMP:20260419T082729
CREATED:20230321T163153Z
LAST-MODIFIED:20230321T180333Z
UID:11638-1682933400-1682958600@vsdvalliance.org
SUMMARY:Basic Domestic Violence Advocacy Training
DESCRIPTION:This training is designed for advocates in their first year of work in the field if Domestic or Intimate Partner Violence Advocacy. Participants will be able to identify and define domestic and intimate partner violence; learn the building blocks for a trauma informed response and broaden their understanding of risk assessment and safety planning. Participants will also learn about resources in VA for supporting survivors of domestic and intimate partner violence. \n$35.00 for SDVA\, Professional\, and Lifetime Members \n$60.00 for Basic and Non-Members
URL:https://vsdvalliance.org/event/basic-domestic-violence-advocacy-training/
LOCATION:Training Center\, 1413 W. Main St.\, Richmond\, VA\, 23220
CATEGORIES:General Events,Members,Training
END:VEVENT
END:VCALENDAR