BEGIN:VCALENDAR
VERSION:2.0
PRODID:-//Virginia Sexual &amp; Domestic Violence Action Alliance - ECPv6.15.20//NONSGML v1.0//EN
CALSCALE:GREGORIAN
METHOD:PUBLISH
X-WR-CALNAME:Virginia Sexual &amp; Domestic Violence Action Alliance
X-ORIGINAL-URL:https://vsdvalliance.org
X-WR-CALDESC:Events for Virginia Sexual &amp; Domestic Violence Action Alliance
REFRESH-INTERVAL;VALUE=DURATION:PT1H
X-Robots-Tag:noindex
X-PUBLISHED-TTL:PT1H
BEGIN:VTIMEZONE
TZID:America/New_York
BEGIN:DAYLIGHT
TZOFFSETFROM:-0500
TZOFFSETTO:-0400
TZNAME:EDT
DTSTART:20220313T070000
END:DAYLIGHT
BEGIN:STANDARD
TZOFFSETFROM:-0400
TZOFFSETTO:-0500
TZNAME:EST
DTSTART:20221106T060000
END:STANDARD
BEGIN:DAYLIGHT
TZOFFSETFROM:-0500
TZOFFSETTO:-0400
TZNAME:EDT
DTSTART:20230312T070000
END:DAYLIGHT
BEGIN:STANDARD
TZOFFSETFROM:-0400
TZOFFSETTO:-0500
TZNAME:EST
DTSTART:20231105T060000
END:STANDARD
BEGIN:DAYLIGHT
TZOFFSETFROM:-0500
TZOFFSETTO:-0400
TZNAME:EDT
DTSTART:20240310T070000
END:DAYLIGHT
BEGIN:STANDARD
TZOFFSETFROM:-0400
TZOFFSETTO:-0500
TZNAME:EST
DTSTART:20241103T060000
END:STANDARD
END:VTIMEZONE
BEGIN:VEVENT
DTSTART;TZID=America/New_York:20230511T100000
DTEND;TZID=America/New_York:20230511T160000
DTSTAMP:20260419T083401
CREATED:20230323T185515Z
LAST-MODIFIED:20230323T185515Z
UID:11667-1683799200-1683820800@vsdvalliance.org
SUMMARY:Sexual and Reproductive Coercion: What Advocates and Healthcare Providers Need to Know
DESCRIPTION:This training is open to advocates\, reproductive health providers\, and clinic staff. Through this training\, participants will become familiar with the dynamics of sexual and reproductive coercion and learn the value of taking a trauma-informed\, universal education approach to interactions with clients and patients. Participants will increase their comfort and general understanding of reproductive health services available to survivors of sexual and intimate partner violence and walk away with an understanding of the importance of building partnerships between sexual and domestic violence agencies and reproductive health providers. \nPlease only register for this training if you can stay for the whole thing. \nLunch will be provided. Please dress comfortably as this is a long training.
URL:https://vsdvalliance.org/event/sexual-and-reproductive-coercion-what-advocates-and-healthcare-providers-need-to-know/
LOCATION:Training Center\, 1413 W. Main St.\, Richmond\, VA\, 23220
CATEGORIES:General Events,Members,Training
END:VEVENT
END:VCALENDAR