BEGIN:VCALENDAR
VERSION:2.0
PRODID:-//Virginia Sexual &amp; Domestic Violence Action Alliance - ECPv6.15.20//NONSGML v1.0//EN
CALSCALE:GREGORIAN
METHOD:PUBLISH
X-WR-CALNAME:Virginia Sexual &amp; Domestic Violence Action Alliance
X-ORIGINAL-URL:https://vsdvalliance.org
X-WR-CALDESC:Events for Virginia Sexual &amp; Domestic Violence Action Alliance
REFRESH-INTERVAL;VALUE=DURATION:PT1H
X-Robots-Tag:noindex
X-PUBLISHED-TTL:PT1H
BEGIN:VTIMEZONE
TZID:America/New_York
BEGIN:DAYLIGHT
TZOFFSETFROM:-0500
TZOFFSETTO:-0400
TZNAME:EDT
DTSTART:20220313T070000
END:DAYLIGHT
BEGIN:STANDARD
TZOFFSETFROM:-0400
TZOFFSETTO:-0500
TZNAME:EST
DTSTART:20221106T060000
END:STANDARD
BEGIN:DAYLIGHT
TZOFFSETFROM:-0500
TZOFFSETTO:-0400
TZNAME:EDT
DTSTART:20230312T070000
END:DAYLIGHT
BEGIN:STANDARD
TZOFFSETFROM:-0400
TZOFFSETTO:-0500
TZNAME:EST
DTSTART:20231105T060000
END:STANDARD
BEGIN:DAYLIGHT
TZOFFSETFROM:-0500
TZOFFSETTO:-0400
TZNAME:EDT
DTSTART:20240310T070000
END:DAYLIGHT
BEGIN:STANDARD
TZOFFSETFROM:-0400
TZOFFSETTO:-0500
TZNAME:EST
DTSTART:20241103T060000
END:STANDARD
END:VTIMEZONE
BEGIN:VEVENT
DTSTART;TZID=America/New_York:20230512T120000
DTEND;TZID=America/New_York:20230512T130000
DTSTAMP:20260419T083402
CREATED:20230314T193129Z
LAST-MODIFIED:20230320T171658Z
UID:11536-1683892800-1683896400@vsdvalliance.org
SUMMARY:Trauma Informed Lawyering Spring Series
DESCRIPTION:Trauma-Informed Lawyering\, Spring Series\nA trauma-informed legal practice helps to reduce re-traumatization and recognize the role trauma plays in the lawyer-client relationship. Integrating trauma-informed practices provides lawyers with the opportunity to increase connections to their clients\, improve advocacy\, and client outcomes. Training lawyers to be trauma informed in their approach will lead to improved services for survivors. Lawyers who attend this training  will also gain an increased understanding of trauma and its impact on individuals and themselves. \nThis 2-part series is geared towards lawyers working with survivors of domestic and/or sexual violence.  It will be hosted virtually on May 12 and May 19  from 12-1pm. The event is CLE approved. \n$25.00 for SDVA’s\, Lifetime\, and Professional Members \n$45.00 for Non Members and those members with Basic Memberships \n**Virginia CLE approved 
URL:https://vsdvalliance.org/event/trauma-informed-lawyering-spring-series/
LOCATION:Virtual
CATEGORIES:General Events,Members,Online Learning,Training
ATTACH;FMTTYPE=image/png:https://vsdvalliance.org/wp-content/uploads/2023/03/Trauma-Informed-Lawyering-insta.png
END:VEVENT
END:VCALENDAR