BEGIN:VCALENDAR
VERSION:2.0
PRODID:-//Virginia Sexual &amp; Domestic Violence Action Alliance - ECPv6.15.20//NONSGML v1.0//EN
CALSCALE:GREGORIAN
METHOD:PUBLISH
X-ORIGINAL-URL:https://vsdvalliance.org
X-WR-CALDESC:Events for Virginia Sexual &amp; Domestic Violence Action Alliance
REFRESH-INTERVAL;VALUE=DURATION:PT1H
X-Robots-Tag:noindex
X-PUBLISHED-TTL:PT1H
BEGIN:VTIMEZONE
TZID:America/New_York
BEGIN:DAYLIGHT
TZOFFSETFROM:-0500
TZOFFSETTO:-0400
TZNAME:EDT
DTSTART:20220313T070000
END:DAYLIGHT
BEGIN:STANDARD
TZOFFSETFROM:-0400
TZOFFSETTO:-0500
TZNAME:EST
DTSTART:20221106T060000
END:STANDARD
BEGIN:DAYLIGHT
TZOFFSETFROM:-0500
TZOFFSETTO:-0400
TZNAME:EDT
DTSTART:20230312T070000
END:DAYLIGHT
BEGIN:STANDARD
TZOFFSETFROM:-0400
TZOFFSETTO:-0500
TZNAME:EST
DTSTART:20231105T060000
END:STANDARD
BEGIN:DAYLIGHT
TZOFFSETFROM:-0500
TZOFFSETTO:-0400
TZNAME:EDT
DTSTART:20240310T070000
END:DAYLIGHT
BEGIN:STANDARD
TZOFFSETFROM:-0400
TZOFFSETTO:-0500
TZNAME:EST
DTSTART:20241103T060000
END:STANDARD
END:VTIMEZONE
BEGIN:VEVENT
DTSTART;TZID=America/New_York:20230517T093000
DTEND;TZID=America/New_York:20230517T160000
DTSTAMP:20260419T083011
CREATED:20230419T155558Z
LAST-MODIFIED:20230419T155558Z
UID:11735-1684315800-1684339200@vsdvalliance.org
SUMMARY:Joyful Sexuality
DESCRIPTION:In this interactive and engaging training\, advocates and prevention staff will gain a more holistic understanding of joyful sexuality and its relevance to our work in the movement to end sexual and domestic violence. Participants will be introduced to the six components of sexuality: sensuality\, intimacy\, sexual orientation and gender identity\, sexual and reproductive health\, sexual behaviors and practices\, and power and agency. Participants will identify and explore the many ways that a joyful sexuality lens can be applied to prevention and advocacy work in sexual and domestic violence agencies. Participants will leave this training with an action plan to integrate joyful sexuality and reproductive justice into their work. \n*Please only register if you can stay for the entire training.* \nRegistration starts at 9:30. Please leave yourself time to park so we can start promptly at 10:00 am.  \nThis is a long training so please dress comfortably. \n$35.00 for SDVA\, Professional\, and Lifetime Action Alliance Members \n$60.00 for Basic Action Alliance Members and Non Members
URL:https://vsdvalliance.org/event/joyful-sexuality/
LOCATION:Action Alliance\, 1413 W. Main Street\, Richmond\, VA\, 23220\, United States
CATEGORIES:General Events,Members,Training
END:VEVENT
END:VCALENDAR