BEGIN:VCALENDAR
VERSION:2.0
PRODID:-//Virginia Sexual &amp; Domestic Violence Action Alliance - ECPv6.15.20//NONSGML v1.0//EN
CALSCALE:GREGORIAN
METHOD:PUBLISH
X-ORIGINAL-URL:https://vsdvalliance.org
X-WR-CALDESC:Events for Virginia Sexual &amp; Domestic Violence Action Alliance
REFRESH-INTERVAL;VALUE=DURATION:PT1H
X-Robots-Tag:noindex
X-PUBLISHED-TTL:PT1H
BEGIN:VTIMEZONE
TZID:America/New_York
BEGIN:DAYLIGHT
TZOFFSETFROM:-0500
TZOFFSETTO:-0400
TZNAME:EDT
DTSTART:20190310T070000
END:DAYLIGHT
BEGIN:STANDARD
TZOFFSETFROM:-0400
TZOFFSETTO:-0500
TZNAME:EST
DTSTART:20191103T060000
END:STANDARD
BEGIN:DAYLIGHT
TZOFFSETFROM:-0500
TZOFFSETTO:-0400
TZNAME:EDT
DTSTART:20200308T070000
END:DAYLIGHT
BEGIN:STANDARD
TZOFFSETFROM:-0400
TZOFFSETTO:-0500
TZNAME:EST
DTSTART:20201101T060000
END:STANDARD
BEGIN:DAYLIGHT
TZOFFSETFROM:-0500
TZOFFSETTO:-0400
TZNAME:EDT
DTSTART:20210314T070000
END:DAYLIGHT
BEGIN:STANDARD
TZOFFSETFROM:-0400
TZOFFSETTO:-0500
TZNAME:EST
DTSTART:20211107T060000
END:STANDARD
END:VTIMEZONE
BEGIN:VEVENT
DTSTART;TZID=America/New_York:20201117T140000
DTEND;TZID=America/New_York:20201117T150000
DTSTAMP:20260421T180558
CREATED:20200917T234823Z
LAST-MODIFIED:20201009T173735Z
UID:6275-1605621600-1605625200@vsdvalliance.org
SUMMARY:Prevention Connection Zoom - November 2020
DESCRIPTION:Content is protected.
URL:https://vsdvalliance.org/event/prevention-connection-zoom-november-2020/
LOCATION:Virtual- Zoom
CATEGORIES:General Events,Members,Online Learning,Training
ORGANIZER;CN="Prevention Team":MAILTO:prevention@vsdvalliance.org
END:VEVENT
BEGIN:VEVENT
DTSTART;TZID=America/New_York:20201112T130000
DTEND;TZID=America/New_York:20201112T143000
DTSTAMP:20260421T180558
CREATED:20201012T201110Z
LAST-MODIFIED:20201012T201200Z
UID:6699-1605186000-1605191400@vsdvalliance.org
SUMMARY:What About the Kids?: Shelter Staff Conversation
DESCRIPTION:Content is protected.
URL:https://vsdvalliance.org/event/what-about-the-kids-shelter-staff-conversation/
CATEGORIES:Members,Online Learning
END:VEVENT
BEGIN:VEVENT
DTSTART;TZID=America/New_York:20201028T100000
DTEND;TZID=America/New_York:20201028T140000
DTSTAMP:20260421T180558
CREATED:20201012T200310Z
LAST-MODIFIED:20201012T200359Z
UID:6696-1603879200-1603893600@vsdvalliance.org
SUMMARY:Virtual Working with Male Survivors Training
DESCRIPTION:This online training will provide victim services professionals\, and others\, that work with male survivors of sexual violence\, an opportunity to examine how service provisions\, laws\, social constructs\, and antiquated beliefs have impacted male victims seeking support services following their victimization. The four main areas of focus in this training are: Community & Service Barriers; Programs\, Services and Language Access; Shelter & Hotel Spaces; and Sexuality & Identity. The online learning experience will provide both foundational knowledge and encourage professionals to think critically about how current service models and programs may be enhanced to better serve male victims of sexual violence. \nWHEN: October 28\, 2020 \nWHERE: Virtually\, on Zoom \nHOW MUCH: $15 regardless of membership (if cost is a barrier to your attendance\, please contact Laurel Winsor at lwinsor@vsdvalliance.org) \nREGISTER: Click here!
URL:https://vsdvalliance.org/event/virtual-working-with-male-survivors-training/
CATEGORIES:General Events,Members,Online Learning,Training
ATTACH;FMTTYPE=image/jpeg:https://vsdvalliance.org/wp-content/uploads/2020/10/male-survivors-flyer.jpg
END:VEVENT
BEGIN:VEVENT
DTSTART;TZID=America/New_York:20201026T100000
DTEND;TZID=America/New_York:20201027T160000
DTSTAMP:20260421T180558
CREATED:20201012T195741Z
LAST-MODIFIED:20201013T154300Z
UID:6693-1603706400-1603814400@vsdvalliance.org
SUMMARY:Virtual Basic Intensive Advocacy Training (BIAT)
DESCRIPTION:The BIAT is a collaborative 2-day training designed for both victim-witness and sexual and domestic violence agency early career advocates who are in their first two years of advocacy work. \nThis training provides and overview of the role and responsibility of advocates; the guiding principles of a trauma informed response and the impact and effects of trauma on individuals; an overview of the civil and criminal justice system and tools available for effective advocacy; the importance of a collaborative response and the value of self-care and self- reflection in our work to support victims of violence. \nThe BIAT provides participants with the opportunity to learn about statewide resources that can support their work as well as opportunities to network and enhance relationships with others doing victim advocacy work in Virginia.   \nWHEN: October 26-27 \nWHERE: Virtually\, on Zoom \nHOW MUCH: $80 for VVAN or VSDVAA members. $100 for non-members \nREGISTER: Click here!
URL:https://vsdvalliance.org/event/virtual-basic-intensive-advocacy-training-biat/
CATEGORIES:General Events,Members,Online Learning,Training
ATTACH;FMTTYPE=image/png:https://vsdvalliance.org/wp-content/uploads/2020/10/biat-image.png
END:VEVENT
BEGIN:VEVENT
DTSTART;TZID=America/New_York:20200916T103000
DTEND;TZID=America/New_York:20200916T120000
DTSTAMP:20260421T180558
CREATED:20200928T144708Z
LAST-MODIFIED:20201009T171644Z
UID:6457-1600252200-1600257600@vsdvalliance.org
SUMMARY:Project ECHO
DESCRIPTION:Content is protected.
URL:https://vsdvalliance.org/event/project-echo/
LOCATION:Virtual- Zoom
CATEGORIES:General Events,Members,Online Learning,Training
ORGANIZER;CN="Prevention Team":MAILTO:prevention@vsdvalliance.org
END:VEVENT
END:VCALENDAR