BEGIN:VCALENDAR
VERSION:2.0
PRODID:-//Virginia Sexual &amp; Domestic Violence Action Alliance - ECPv6.15.20//NONSGML v1.0//EN
CALSCALE:GREGORIAN
METHOD:PUBLISH
X-ORIGINAL-URL:https://vsdvalliance.org
X-WR-CALDESC:Events for Virginia Sexual &amp; Domestic Violence Action Alliance
REFRESH-INTERVAL;VALUE=DURATION:PT1H
X-Robots-Tag:noindex
X-PUBLISHED-TTL:PT1H
BEGIN:VTIMEZONE
TZID:America/New_York
BEGIN:DAYLIGHT
TZOFFSETFROM:-0500
TZOFFSETTO:-0400
TZNAME:EDT
DTSTART:20210314T070000
END:DAYLIGHT
BEGIN:STANDARD
TZOFFSETFROM:-0400
TZOFFSETTO:-0500
TZNAME:EST
DTSTART:20211107T060000
END:STANDARD
BEGIN:DAYLIGHT
TZOFFSETFROM:-0500
TZOFFSETTO:-0400
TZNAME:EDT
DTSTART:20220313T070000
END:DAYLIGHT
BEGIN:STANDARD
TZOFFSETFROM:-0400
TZOFFSETTO:-0500
TZNAME:EST
DTSTART:20221106T060000
END:STANDARD
BEGIN:DAYLIGHT
TZOFFSETFROM:-0500
TZOFFSETTO:-0400
TZNAME:EDT
DTSTART:20230312T070000
END:DAYLIGHT
BEGIN:STANDARD
TZOFFSETFROM:-0400
TZOFFSETTO:-0500
TZNAME:EST
DTSTART:20231105T060000
END:STANDARD
END:VTIMEZONE
BEGIN:VEVENT
DTSTART;TZID=America/New_York:20220316T100000
DTEND;TZID=America/New_York:20220316T150000
DTSTAMP:20260421T134235
CREATED:20220128T183922Z
LAST-MODIFIED:20220222T192919Z
UID:8955-1647424800-1647442800@vsdvalliance.org
SUMMARY:Creating a Culture of Wellness: Reproductive Health
DESCRIPTION:Registration for the March 16 Reproductive Health training is closed. If you are interested\, you may register for the June 1 training. \n  \n  \nWhere: Zoom \nRegister here for the June 1 training: https://bit.ly/reprohealthJune1 \n 
URL:https://vsdvalliance.org/event/creating-a-culture-of-wellness-reproductive-health/
LOCATION:Virtual- Zoom
CATEGORIES:General Events,Lifetime Members Only,Members,Online Learning,SDVA Members Only,Training
ATTACH;FMTTYPE=image/png:https://vsdvalliance.org/wp-content/uploads/2022/01/Email-Header.png
ORGANIZER;CN="Prevention Team":MAILTO:prevention@vsdvalliance.org
END:VEVENT
BEGIN:VEVENT
DTSTART;TZID=America/New_York:20220322T153000
DTEND;TZID=America/New_York:20220322T170000
DTSTAMP:20260421T134235
CREATED:20220225T200147Z
LAST-MODIFIED:20220225T200147Z
UID:9073-1647963000-1647968400@vsdvalliance.org
SUMMARY:People of Color Caucus: Creating Community and Collective Care
DESCRIPTION:This training/discussion will reintroduce advocates and members to the People of Color Caucus\, what we do\, and how we do it. We will also talk about the need for identity-based caucusing spaces and the importance of community/collective care. If this resonates with you and you identify as a person from these communities\, join the conversation. This training is for advocates and members who identify as Black\, Indigenous\, and People of Color. 
URL:https://vsdvalliance.org/event/people-of-color-caucus-creating-community-and-collective-care/
LOCATION:Virtual- Zoom
CATEGORIES:General Events,Members
END:VEVENT
END:VCALENDAR