BEGIN:VCALENDAR
VERSION:2.0
PRODID:-//Virginia Sexual &amp; Domestic Violence Action Alliance - ECPv6.15.20//NONSGML v1.0//EN
CALSCALE:GREGORIAN
METHOD:PUBLISH
X-ORIGINAL-URL:https://vsdvalliance.org
X-WR-CALDESC:Events for Virginia Sexual &amp; Domestic Violence Action Alliance
REFRESH-INTERVAL;VALUE=DURATION:PT1H
X-Robots-Tag:noindex
X-PUBLISHED-TTL:PT1H
BEGIN:VTIMEZONE
TZID:America/New_York
BEGIN:DAYLIGHT
TZOFFSETFROM:-0500
TZOFFSETTO:-0400
TZNAME:EDT
DTSTART:20210314T070000
END:DAYLIGHT
BEGIN:STANDARD
TZOFFSETFROM:-0400
TZOFFSETTO:-0500
TZNAME:EST
DTSTART:20211107T060000
END:STANDARD
BEGIN:DAYLIGHT
TZOFFSETFROM:-0500
TZOFFSETTO:-0400
TZNAME:EDT
DTSTART:20220313T070000
END:DAYLIGHT
BEGIN:STANDARD
TZOFFSETFROM:-0400
TZOFFSETTO:-0500
TZNAME:EST
DTSTART:20221106T060000
END:STANDARD
BEGIN:DAYLIGHT
TZOFFSETFROM:-0500
TZOFFSETTO:-0400
TZNAME:EDT
DTSTART:20230312T070000
END:DAYLIGHT
BEGIN:STANDARD
TZOFFSETFROM:-0400
TZOFFSETTO:-0500
TZNAME:EST
DTSTART:20231105T060000
END:STANDARD
END:VTIMEZONE
BEGIN:VEVENT
DTSTART;TZID=America/New_York:20221202T100000
DTEND;TZID=America/New_York:20221202T140000
DTSTAMP:20260424T055828
CREATED:20221028T153057Z
LAST-MODIFIED:20221028T153226Z
UID:9986-1669975200-1669989600@vsdvalliance.org
SUMMARY:Confidentiality and Mandated Reporting
DESCRIPTION:This training will include a discussion around the challenges and questions that arise with survivor confidentiality\, advocacy\, and mandated reporting. The training will include an overview of the laws and historical context surrounding this complex issue. \nWhen you leave\, you will leave knowing more about confidentiality and helpful suggestions and guidelines on mandated reporting. \nThis training is for Action Alliance Members only. Once you register for the event\, your registration will need to be approved. Please stay tuned for the Zoom link after approval.
URL:https://vsdvalliance.org/event/confidentiality-and-mandated-reporting/
LOCATION:Virtual
CATEGORIES:Lifetime Members Only,Members,SDVA Members Only
END:VEVENT
BEGIN:VEVENT
DTSTART;TZID=America/New_York:20221206T090000
DTEND;TZID=America/New_York:20221206T100000
DTSTAMP:20260424T055828
CREATED:20221117T191226Z
LAST-MODIFIED:20221117T191357Z
UID:10048-1670317200-1670320800@vsdvalliance.org
SUMMARY:Outreach Otters
DESCRIPTION:Do you help with outreach\, development\, or community engagement in your agency? Come join the Outreach Otters for our quarterly catch up where we chat everything from fundraising to outreach. December’s topic will focus on building partnerships. Please come ready to share about partnerships that you have\, ideas for others to build partnerships\, and get ideas for your own agency. \nNo registration required. Zoom access sent via Resonance email. Email training@vsdvalliance.org\, if you need assistance accessing the Zoom meeting. This meeting is limited to staff at sexual and domestic violence agencies and affiliate member agencies.
URL:https://vsdvalliance.org/event/outreach-otters/
LOCATION:Virtual- Zoom
CATEGORIES:General Events,Members,Training
ATTACH;FMTTYPE=image/png:https://vsdvalliance.org/wp-content/uploads/2022/10/OutreachLunchSandbox-2.png
END:VEVENT
BEGIN:VEVENT
DTSTART;TZID=America/New_York:20221209T143000
DTEND;TZID=America/New_York:20221209T163000
DTSTAMP:20260424T055828
CREATED:20221019T211452Z
LAST-MODIFIED:20221019T211452Z
UID:9957-1670596200-1670603400@vsdvalliance.org
SUMMARY:The Hope Reception
DESCRIPTION:Join the Action Alliance in our new office as we take time to celebrate advocates across Virginia\, recognize our new Lifetime Members\, and honor those who continue to inspire hope for a violence-free Virginia. \nRSVP: https://bit.ly/hopereception2022 \nOur Honorees: \n\nToni Zollicoffer\, Director\, Fairfax Office of Domestic and Sexual Violence Services\n\nAs a member of the Statewide Advisory Committee on Sexual and Domestic Violence\, Toni led a study group on partner abuse intervention and prevention. Recommendations from the study group have led to both local and statewide initiatives addressing the harm that takes place within intimate partner relationships through trauma-informed healing and accountability programs. \n\nDelegate Carrie Coyner (VA-62)\n\nSince joining the House of Delegates in 2020\, Del. Coyner has developed a strong reputation for working across the aisle on a number of issues impacting children\, families\, and survivors of sexual and domestic violence. In 2022\, she worked to secure $9M in federal American Rescue Plan Act (ARPA) appropriations to maintain level funding for Virginia’s sexual and domestic violence crisis centers. She is a steadfast advocate\, routinely organizing her colleagues in the House to recognize Sexual Assault Awareness Month (SAAM) and raise awareness about the power of preventing violence in our communities. \n\nDelegate Patrick Hope (VA-47)\n\nDel. Hope has been a member of the House of Delegates since 2010\, is a long-time friend of the Action Alliance\, and a champion on sexual and domestic violence issues. Most recently\, he worked alongside the Action Alliance\, the Office of the Executive Secretary of the Supreme Court of Virginia\, and sexual and domestic violence advocates to expand the Supreme Court’s successful Hope Card Program\, allowing survivors who are granted final protective orders access to a wallet-sized card summarizing the order’s critical information.
URL:https://vsdvalliance.org/event/the-hope-reception/
LOCATION:Training Center\, 1413 W. Main St.\, Richmond\, VA\, 23220
CATEGORIES:General Events,Members
ATTACH;FMTTYPE=image/png:https://vsdvalliance.org/wp-content/uploads/2022/10/Hope-Reception-Instagram-Post-Square.png
END:VEVENT
END:VCALENDAR